BEGIN:VCALENDAR
VERSION:2.0
PRODID:-//Edizioni Este - ECPv6.15.11//NONSGML v1.0//EN
CALSCALE:GREGORIAN
METHOD:PUBLISH
X-WR-CALNAME:Edizioni Este
X-ORIGINAL-URL:https://www.este.it
X-WR-CALDESC:Eventi per Edizioni Este
REFRESH-INTERVAL;VALUE=DURATION:PT1H
X-Robots-Tag:noindex
X-PUBLISHED-TTL:PT1H
BEGIN:VTIMEZONE
TZID:Europe/Rome
BEGIN:DAYLIGHT
TZOFFSETFROM:+0100
TZOFFSETTO:+0200
TZNAME:CEST
DTSTART:20250330T010000
END:DAYLIGHT
BEGIN:STANDARD
TZOFFSETFROM:+0200
TZOFFSETTO:+0100
TZNAME:CET
DTSTART:20251026T010000
END:STANDARD
BEGIN:DAYLIGHT
TZOFFSETFROM:+0100
TZOFFSETTO:+0200
TZNAME:CEST
DTSTART:20260329T010000
END:DAYLIGHT
BEGIN:STANDARD
TZOFFSETFROM:+0200
TZOFFSETTO:+0100
TZNAME:CET
DTSTART:20261025T010000
END:STANDARD
BEGIN:DAYLIGHT
TZOFFSETFROM:+0100
TZOFFSETTO:+0200
TZNAME:CEST
DTSTART:20270328T010000
END:DAYLIGHT
BEGIN:STANDARD
TZOFFSETFROM:+0200
TZOFFSETTO:+0100
TZNAME:CET
DTSTART:20271031T010000
END:STANDARD
END:VTIMEZONE
BEGIN:VEVENT
DTSTART;TZID=Europe/Rome:20260506T120000
DTEND;TZID=Europe/Rome:20260506T130000
DTSTAMP:20260420T051733
CREATED:20260403T103452Z
LAST-MODIFIED:20260415T103625Z
UID:10000586-1778068800-1778072400@www.este.it
SUMMARY:Webinar - Gestire (bene) il personale alla luce delle nuove caratteristiche della Manifattura
DESCRIPTION:Le aziende manifatturiere operano in un contesto caratterizzato da un’elevata complessità organizzativa (turni\, straordinari e sedi multiple)\, da un’incidenza rilevante del costo del lavoro\, da un progressivo invecchiamento della popolazione aziendale e da una crescente difficoltà nel reperire le competenze adeguate. Gestire questi aspetti permette di rilanciare un settore già adeguatamente aggiornato in automazione e innovazione\, ma non altrettanto pronto per affrontare le nuove sfide legate alla forza lavoro. Per farlo non basta un approccio puramente amministrativo e affidarsi a strumenti frammentati: serve una gestione del personale strutturata\, integrata e misurabile. Solo così il capitale umano può trasformarsi da centro di costo a vera leva strategica. \nAttraverso una tavola rotonda\, le aziende manifatturiere che hanno già sviluppato una strategia evoluta del personale si confrontano su: \n\nCome gestire la complessità dell’organizzazione del lavoro\nCome affrontare l’invecchiamento del personale e la transizione demografica\nCome trovare le competenze e rinnovare la forza lavoro\n\n{tab Relatori} \nPaolo Gubitta\, Professore ordinario di organizzazione aziendale e family business e presidente del corso di laurea triennale in economia  – UNIVERSITÀ DEGLI STUDI DI PADOVA \nCristiano Pegorini\, HR Director – PALAZZETTI \nModera:\nAlessandro Gastaldi\, Direttore Responsabile – PERSONE&CONOSCENZE  \n{/tab} \n{tab Format} \nIl webinar si tiene online tramite piattaforma Cisco Webex \n{/tab} \n{tab Iscrizione} \n\n\n\nIl webinar è rivolto a: Responsabili HR\, Responsabili Finance\, Amministrazione HR e Top Manager \nLa partecipazione al Webinar è GRATUITA\, previa registrazione al sito ESTE e conferma da parte della segreteria organizzativa. La segreteria organizzativa si riserva la facoltà di convalidare le iscrizioni ricevute. \nGli iscritti riceveranno nell’arco delle 24 ore successive alla propria iscrizione\, la mail con il link e le istruzioni d’accesso alla piattaforma Cisco Webex. \nPer qualsiasi informazione contattare: \n\n\n\nLaura Malnati – Account Eventi- laura.malnati@este.it – Tel. 02.91434414 – Mobile: 340 388 6069 \n{/tab} \nSponsor\n\n 
URL:https://www.este.it/incontro/webinar-gestire-bene-il-personale-alla-luce-delle-nuove-caratteristiche-della-manifattura/
LOCATION:ONLINE
CATEGORIES:Webinar
ATTACH;FMTTYPE=image/png:https://www.este.it/wp-content/uploads/2026/04/Banner_Sito_no_baloon-scaled.png
END:VEVENT
END:VCALENDAR