BEGIN:VCALENDAR
VERSION:2.0
PRODID:-//Edizioni Este - ECPv6.15.11//NONSGML v1.0//EN
CALSCALE:GREGORIAN
METHOD:PUBLISH
X-ORIGINAL-URL:https://www.este.it
X-WR-CALDESC:Eventi per Edizioni Este
REFRESH-INTERVAL;VALUE=DURATION:PT1H
X-Robots-Tag:noindex
X-PUBLISHED-TTL:PT1H
BEGIN:VTIMEZONE
TZID:Europe/Rome
BEGIN:DAYLIGHT
TZOFFSETFROM:+0100
TZOFFSETTO:+0200
TZNAME:CEST
DTSTART:20230326T010000
END:DAYLIGHT
BEGIN:STANDARD
TZOFFSETFROM:+0200
TZOFFSETTO:+0100
TZNAME:CET
DTSTART:20231029T010000
END:STANDARD
BEGIN:DAYLIGHT
TZOFFSETFROM:+0100
TZOFFSETTO:+0200
TZNAME:CEST
DTSTART:20240331T010000
END:DAYLIGHT
BEGIN:STANDARD
TZOFFSETFROM:+0200
TZOFFSETTO:+0100
TZNAME:CET
DTSTART:20241027T010000
END:STANDARD
BEGIN:DAYLIGHT
TZOFFSETFROM:+0100
TZOFFSETTO:+0200
TZNAME:CEST
DTSTART:20250330T010000
END:DAYLIGHT
BEGIN:STANDARD
TZOFFSETFROM:+0200
TZOFFSETTO:+0100
TZNAME:CET
DTSTART:20251026T010000
END:STANDARD
END:VTIMEZONE
BEGIN:VEVENT
DTSTART;TZID=Europe/Rome:20240913T090000
DTEND;TZID=Europe/Rome:20240913T170000
DTSTAMP:20260422T022127
CREATED:20240527T110009Z
LAST-MODIFIED:20240915T091656Z
UID:10000332-1726218000-1726246800@www.este.it
SUMMARY:LE OFFICINE DI FABBRICA FUTURO 2024 - OMB SALERI
DESCRIPTION:SCOPRI LE OPPORTUNITÁ DI SPONSORIZZAZIONE\n{tab Partecipanti} \nNicola Bedulli\, IT software engineer – CHERUBINI \nLuciano Bonomi\, operation director e ceo – BONOMI INDUSTRIES \nSandro Bonomi\, president – BONOMI INDUSTRIES \nFrancesco Faccin\, operations manager – CLERPREM \nElena Gambera\, managing board member\, director people & process – OMB SALERI  \nLuca Littamè\, principal – CONSIDI \nDavide Patrini\, OEM business developer manager – LENOVO  \nBruno Pedretti\, amministratore delegato – PMP MECCANICA \nValentina Pedretti\, direttore generale – PMP MECCANICA \nClaudia Persico\, vp & rotational director – PERSICO  \nParide Saleri\, presidente – OMB SALERI  \nMarco Taisch\, co-founder – MIRAITEK  \nAndrea Tedeschi\, direttore pianificazione e produzione – TECOMEC  \n{/tab} \n{tab Testimonianze Aziendali} \nSettore: fabbricazione di altri rubinetti e valvole\nDipendenti: 129\nFatturato: 63 milioni di €\nSede: Mazzano (BS) \n  \n  \n  \n  \n \nSettore: fabbricazione di altre apparecchiature elettriche nca\nDipendenti: 161\n                                                              Fatturato: 46 milioni di €\n                                                              Sede: Bedizzole (BS) \n  \nSettore: fabbricazione di articoli in materie plastiche\nDipendenti: 108\nFatturato: 144 milioni di €\nSede: Carré (VI) \n  \n  \nSettore: consulenza organizzativa\nDipendenti: 16\nFatturato: 8\,8 milioni di €\nSede: Grisignano di Zocco (VI) \n  \nSettore: fabbricazione di computer e unità periferiche\nDipendenti: 77.700 (WW)\nFatturato: 62 miliardi di dollari (WW)\nSede: S.Felice – Segrate (MI) \n  \n  \nSettore: attività degli studi di ingegneria\nDipendenti: 8\nFatturato: 759 mila €\nSede: Milano \n  \n  \n  \nSettore: fabbricazione di altri rubinetti e valvole\nDipendenti: 217\nFatturato: 76 mila €\nSede: Brescia \n  \n  \nSettore: fabbricazione di stampi\, portastampi\, sagome\, forme per macchine\nDipendenti: 435\nFatturato: 237 milioni di €\nSede: Nembro (BG) \n  \n  \n  \nSettore: lavori di meccanica generale\nDipendenti: 75\nFatturato: 10 milioni di €\nSede: Treviolo (BG) \n  \nSettore: fabbricazione di altre macchine per l’agricoltura\, la silvicoltura e la zootecnica\nDipendenti: 105\nFatturato: 69 milioni di €\nSede: Reggio Emilia \n  \n{/tab} \n{tab Modalità di partecipazione} \nLe Officine sono incontri a porte chiuse\, cui partecipazione avviene su invito. \nPer qualsiasi informazione contattare: Martina Galbiati\, Responsabile Marketing – martina.galbiati@este.it – Tel: 02.91434403 – Mobile: 339.1068668 \n{/tab} \n{tab Gallery fotografica} \n\n\n\n	\n	\n		\n	\n\n	\n\n				\n					\n		\n		\n		\n			\n															\n		\n\n	\n\n\n	\n\n	\n\n				\n					\n		\n		\n		\n			\n															\n		\n\n	\n\n\n	\n\n	\n\n				\n					\n		\n		\n		\n			\n															\n		\n\n	\n\n\n	\n\n	\n\n				\n					\n		\n		\n		\n			\n															\n		\n\n	\n\n\n	\n\n	\n\n				\n					\n		\n		\n		\n			\n															\n		\n\n	\n\n\n	\n\n	\n\n				\n					\n		\n		\n		\n			\n															\n		\n\n	\n\n\n	\n\n	\n\n				\n					\n		\n		\n		\n			\n															\n		\n\n	\n\n\n	\n\n	\n\n				\n					\n		\n		\n		\n			\n															\n		\n\n	\n\n\n	\n\n	\n\n				\n					\n		\n		\n		\n			\n															\n		\n\n	\n\n\n	\n\n	\n\n				\n					\n		\n		\n		\n			\n															\n		\n\n	\n\n\n	\n\n	\n\n				\n					\n		\n		\n		\n			\n															\n		\n\n	\n\n\n	\n\n	\n\n				\n					\n		\n		\n		\n			\n															\n		\n\n	\n\n\n	\n\n	\n\n				\n					\n		\n		\n		\n			\n															\n		\n\n	\n\n\n	\n\n	\n\n				\n					\n		\n		\n		\n			\n															\n		\n\n	\n\n\n	\n\n	\n\n				\n					\n		\n		\n		\n			\n															\n		\n\n	\n\n\n	\n\n	\n\n				\n					\n		\n		\n		\n			\n															\n		\n\n	\n\n\n	\n\n	\n\n				\n					\n		\n		\n		\n			\n															\n		\n\n	\n\n\n	\n\n	\n\n				\n					\n		\n		\n		\n			\n															\n		\n\n	\n\n\n	\n\n	\n\n				\n					\n		\n		\n		\n			\n															\n		\n\n	\n\n\n	\n\n	\n\n				\n					\n		\n		\n		\n			\n															\n		\n\n	\n\n\n	\n\n	\n\n				\n					\n		\n		\n		\n			\n															\n		\n\n	\n\n\n	\n\n	\n\n				\n					\n		\n		\n		\n			\n															\n		\n\n	\n\n\n	\n\n	\n\n				\n					\n		\n		\n		\n			\n															\n		\n\n	\n\n\n	\n\n	\n\n				\n					\n		\n		\n		\n			\n															\n		\n\n	\n\n\n	\n\n	\n\n				\n					\n		\n		\n		\n			\n															\n		\n\n	\n\n\n	\n\n	\n\n				\n					\n		\n		\n		\n			\n															\n		\n\n	\n\n\n	\n\n	\n\n				\n					\n		\n		\n		\n			\n															\n		\n\n	\n\n\n	\n\n	\n\n				\n					\n		\n		\n		\n			\n															\n		\n\n	\n\n\n	\n\n	\n\n				\n					\n		\n		\n		\n			\n															\n		\n\n	\n\n\n	\n\n	\n\n				\n					\n		\n		\n		\n			\n															\n		\n\n	\n\n\n	\n\n	\n\n				\n					\n		\n		\n		\n			\n															\n		\n\n	\n\n\n	\n\n	\n\n				\n					\n		\n		\n		\n			\n															\n		\n\n	\n\n\n	\n\n	\n\n				\n					\n		\n		\n		\n			\n															\n		\n\n	\n\n\n	\n\n	\n\n				\n					\n		\n		\n		\n			\n															\n		\n\n	\n\n\n	\n\n	\n\n				\n					\n		\n		\n		\n			\n															\n		\n\n	\n\n\n	\n\n	\n\n				\n					\n		\n		\n		\n			\n															\n		\n\n	\n\n\n	\n\n	\n\n				\n					\n		\n		\n		\n			\n															\n		\n\n	\n\n\n	\n\n	\n\n				\n					\n		\n		\n		\n			\n															\n		\n\n	\n\n\n	\n\n	\n\n				\n					\n		\n		\n		\n			\n															\n		\n\n	\n\n\n	\n\n	\n\n				\n					\n		\n		\n		\n			\n															\n		\n\n	\n\n\n	\n\n	\n\n				\n					\n		\n		\n		\n			\n															\n		\n\n	\n\n\n	\n\n	\n\n				\n					\n		\n		\n		\n			\n															\n		\n\n	\n\n\n	\n\n	\n\n				\n					\n		\n		\n		\n			\n															\n		\n\n	\n\n\n	\n\n	\n\n				\n					\n		\n		\n		\n			\n															\n		\n\n	\n\n\n	\n\n	\n\n				\n					\n		\n		\n		\n			\n															\n		\n\n	\n\n\n	\n\n	\n\n				\n					\n		\n		\n		\n			\n															\n		\n\n	\n\n\n	\n\n	\n\n				\n					\n		\n		\n		\n			\n															\n		\n\n	\n\n\n	\n\n	\n\n				\n					\n		\n		\n		\n			\n															\n		\n\n	\n\n\n	\n\n	\n\n				\n					\n		\n		\n		\n			\n															\n		\n\n	\n\n\n	\n\n	\n\n				\n					\n		\n		\n		\n			\n															\n		\n\n	\n\n\n	\n\n	\n\n				\n					\n		\n		\n		\n			\n															\n		\n\n	\n\n\n	\n\n	\n\n				\n					\n		\n		\n		\n			\n															\n		\n\n	\n\n\n	\n\n	\n\n				\n					\n		\n		\n		\n			\n															\n		\n\n	\n\n\n	\n\n	\n\n				\n					\n		\n		\n		\n			\n															\n		\n\n	\n\n\n	\n\n	\n\n				\n					\n		\n		\n		\n			\n															\n		\n\n	\n\n\n	\n\n	\n\n				\n					\n		\n		\n		\n			\n															\n		\n\n	\n\n\n	\n\n	\n\n				\n					\n		\n		\n		\n			\n															\n		\n\n	\n\n\n	\n\n	\n\n				\n					\n		\n		\n		\n			\n															\n		\n\n	\n\n\n	\n\n	\n\n				\n					\n		\n		\n		\n			\n															\n		\n\n	\n\n\n	\n\n	\n\n				\n					\n		\n		\n		\n			\n															\n		\n\n	\n\n\n	\n\n	\n\n				\n					\n		\n		\n		\n			\n															\n		\n\n	\n\n\n	\n\n	\n\n				\n					\n		\n		\n		\n			\n															\n		\n\n	\n\n\n	\n\n	\n\n				\n					\n		\n		\n		\n			\n															\n		\n\n	\n\n\n	\n\n	\n\n				\n					\n		\n		\n		\n			\n															\n		\n\n	\n\n\n	\n\n	\n\n				\n					\n		\n		\n		\n			\n															\n		\n\n	\n\n\n	\n\n	\n\n				\n					\n		\n		\n		\n			\n															\n		\n\n	\n\n\n	\n\n	\n\n				\n					\n		\n		\n		\n			\n															\n		\n\n	\n\n\n	\n\n	\n\n				\n					\n		\n		\n		\n			\n															\n		\n\n	\n\n\n	\n\n	\n\n				\n					\n		\n		\n		\n			\n															\n		\n\n	\n\n		\n	\n\n	\n	\n	\n\n	\n\n\n{/tab} \n{tab Tutte le tappe} \nVenerdì 24 maggio – Incontro presso AMORIM CORK (Conegliano – TREVISO)  \nVenerdì 7 giugno – Incontro presso ARTSANA (Gessate – COMO) \nVenerdì 21 giugno – Incontro presso GRUPPO LUBE (Treia – MACERATA) \nVenerdì 28 giugno – Incontro presso AUTOMATISMI BENINCA’ (SANDRIGO – VICENZA) \nVenerdì 12 luglio – Incontro presso OLEIFICIO ZUCCHI (CREMONA) \nVenerdì 13 settembre – Incontro presso OMB SALERI (BRESCIA) \nVenerdì 27 settembre – Incontro presso RITTAL COOLING SOLUTIONS (Valeggio sul Mincio – MANTOVA) \nVenerdì 11 ottobre – Incontro presso IMG (Capriano del Colle – BRESCIA) \nVenerdì 15 novembre – Incontro presso PARMAFOOD GROUP (Lesignano de’ bagni – PARMA) \nMercoledì 27 novembre – Incontro presso AMARELLI (Rossano Calabro – COSENZA) \nVenerdì 28 novembre – Incontro presso LUCANO 1894 (Pisticci – MATERA) \nVenerdì 17 gennaio – Incontro presso LAICA (Arona – NOVARA) \nVenerdì 31 gennaio – Incontro presso COPAN (Brescia) \nVenerdì 21 febbraio – Incontro presso UMBRAGROUP (Foligno – PERUGIA) \nVenerdì 14 marzo – Incontro presso RISO SCOTTI (PAVIA) \nVenerdì 28 marzo – Incontro presso SABELT (Settimo Torinese – TORINO) \n{/tab} \n 
URL:https://www.este.it/incontro/le-officine-di-fabbrica-futuro-2024-omb-saleri/
LOCATION:OMB SALERI\, Via Rose di Sotto\, 38/C\, Brescia\, 25126\, Italia
ATTACH;FMTTYPE=image/jpeg:https://www.este.it/wp-content/uploads/2024/05/logo_2024_sito_officine.jpg
END:VEVENT
END:VCALENDAR