BEGIN:VCALENDAR
VERSION:2.0
PRODID:-//Edizioni Este - ECPv6.15.11//NONSGML v1.0//EN
CALSCALE:GREGORIAN
METHOD:PUBLISH
X-WR-CALNAME:Edizioni Este
X-ORIGINAL-URL:https://www.este.it
X-WR-CALDESC:Eventi per Edizioni Este
REFRESH-INTERVAL;VALUE=DURATION:PT1H
X-Robots-Tag:noindex
X-PUBLISHED-TTL:PT1H
BEGIN:VTIMEZONE
TZID:Europe/Rome
BEGIN:DAYLIGHT
TZOFFSETFROM:+0100
TZOFFSETTO:+0200
TZNAME:CEST
DTSTART:20200329T010000
END:DAYLIGHT
BEGIN:STANDARD
TZOFFSETFROM:+0200
TZOFFSETTO:+0100
TZNAME:CET
DTSTART:20201025T010000
END:STANDARD
BEGIN:DAYLIGHT
TZOFFSETFROM:+0100
TZOFFSETTO:+0200
TZNAME:CEST
DTSTART:20210328T010000
END:DAYLIGHT
BEGIN:STANDARD
TZOFFSETFROM:+0200
TZOFFSETTO:+0100
TZNAME:CET
DTSTART:20211031T010000
END:STANDARD
BEGIN:DAYLIGHT
TZOFFSETFROM:+0100
TZOFFSETTO:+0200
TZNAME:CEST
DTSTART:20220327T010000
END:DAYLIGHT
BEGIN:STANDARD
TZOFFSETFROM:+0200
TZOFFSETTO:+0100
TZNAME:CET
DTSTART:20221030T010000
END:STANDARD
END:VTIMEZONE
BEGIN:VEVENT
DTSTART;TZID=Europe/Rome:20211126T090000
DTEND;TZID=Europe/Rome:20211126T164500
DTSTAMP:20260424T045756
CREATED:20211021T092214Z
LAST-MODIFIED:20211222T151858Z
UID:10000046-1637917200-1637945100@www.este.it
SUMMARY:FORUM DI SVILUPPO E ORGANIZZAZIONE - Roma 2021
DESCRIPTION:Il Forum di Sviluppo e Organizzazione è un progetto convegnistico nato nel 2019 e organizzato da Sviluppo&Organizzazione\, la più prestigiosa rivista italiana di Organizzazione Aziendale che ha l’obiettivo di aprire il confronto sui temi dell’organizzazione aziendale\, attuali e in divenire\, legati al mondo delle imprese e delle pubbliche amministrazioni. Il Forum è dedicato a chi governa le strategie di crescita attraverso l’organizzazione del lavoro e le risorse umane. \nIL TEMA DELL’EDIZIONE 2021 – L’ORGANIZZAZIONE NEL XXI SECOLO TRA INNOVAZIONE DISTRUTTIVA E VALORE DELLA CONOSCENZA\nIl Forum propone di analizzare in quali forme\, con quali protagonisti\, con quale dinamica interattiva le organizzazioni private e pubbliche\, ormai pienamente entrate nel XXI secolo\, affrontano la sfida dell’innovazione e fanno i conti con i modelli già sperimentati.\nSu scala globale\, l’umanità avverte la sproporzione tra le enormi potenzialità offerte dagli sviluppi della scienza e delle tecnologie e la stasi\, se non l’arretramento\, della capacità di governo della complessità socio-politica.\nOggi si vive l’ambiguità di un presente ancora stretto tra l’utopia di un futuro illuminato da tecnologie che esaltano competenze e qualità delle persone e le distopie che proiettano sinistramente in avanti le contraddizioni di sistemi di potere chiusi e oppressivi.\nLe pubbliche amministrazioni sono al centro di queste tensioni\, che richiedono radicali cambiamenti nella progettualità organizzativa\, nei metodi di lavoro\, nei modelli comportamentali. \nSCOPRI LE OPPORTUNITA' DI SPONSORIZZAZIONE\n{tab Programma} \nMATTINA\nLe organizzazioni\, il management e il lavoro di fronte alle sfide del XXI secolo\nLe organizzazioni del XXI secolo\, i loro manager e gli stessi lavoratori non possono eludere la doppia sfida della molteplicità e dello sviluppo sostenibile. Occorre accettare la complessità e l’incertezza\, imparando a ricercare l’efficacia performativa attraversando la pluralità di valori\, di prospettive\, di relazioni\, di significati\, di discipline\, di culture\, di obiettivi\, di rappresentazioni e interpretazioni della performance\, e così via. Al tempo stesso\, lo sviluppo sostenibile è un grande campo di cambiamento\, nel quale attori nuovi sfidano centri di potere consolidati\, innovazioni e inerzie si contrastano\, soluzioni univoche sono ancora lontane dall’imporsi e servono invece abilità sociali di adattamento e flessibilità che occorre coltivare. \n9.00 ACCREDITO DEI PARTECIPANTI \n9.45 BENVENUTO E APERTURA DEI LAVORI\nChiara Lupi\, direttrice editoriale – ESTE \n10.00 LEZIONE\n“Una nuova progettualità organizzativa per fronteggiare  un contesto dinamico”\nRumore\, soggettività\, performance. Queste tre parole qualificano meglio di altre l’era che sembra aprirsi in questo XXI secolo\, con rilievo e conseguenze anche per il management e l’organizzazione. Rumore\, soggettività e performance non sono mancati nel percorso del Novecento. Ma\, alla svolta del secolo\, esprimono nuovi e più radicali impulsi che modificano struttura e dinamiche di quegli ecosistemi di organizzazioni che costituiscono l’attuale società. La relazione cerca di collegare la riflessione sul futuro delle organizzazioni alle questioni che riguardano il lavoro\, in uno scenario che comprende agli estremi utopie e distopie: esplosione della soggettività\, effetto overflow\, garbuglio della socio-materialità\, affermarsi di motori dell’immaginario\, hyper-management\, dataismo\, sono tutti fenomeni che minano le pretese di definire modelli di valenza generale. Il futuro delle organizzazioni resta aperto a molteplici possibilità. Per le organizzazioni\, diversamente dalle famiglie di Tolstoj\, esisteranno molteplici modi per essere “felici”\, oltre che “infelici”. Il lavoro e i lavoratori\, attraverso la mediazione delle conoscenze\, hanno carte importanti da giocare in questo scenario se sapranno rivitalizzare l’esperienza storica di mestieri e professioni. La pubblica amministrazione merita una riflessione specifica in questo quadro\, focalizzata sui cambiamenti attesi per le competenze e i valori professionali che richiedono un nuovo impegno progettuale\, oltre le riforme dei decenni precedenti.\nGianfranco Rebora\, professore emerito di Organizzazione e Gestione delle Risorse Umane – UNIVERSITÁ LIUC – CATTANEO DI CASTELLANZA e direttore responsabile – SVILUPPO&ORGANIZZAZIONE \n10.45 DISCUSSIONE: “Per un design dell’organizzazione a 360 gradi: idee e metodi per innervare il sapere consolidato”\n– Riccardo Maltoni\, responsabile Organizzazione e Processi in ambito RUO – POSTE ITALIANE \n– Daniele Piacentini\, direttore risorse umane – FONDAZIONE POLICLINICO UNIVERSITARIO AGOSTINO GEMELLI \n– Gianpiero Tufilli\, hr director – THALES ITALIA\n \nModera: Gianfranco Rebora\, professore emerito di Organizzazione e Gestione delle Risorse Umane – UNIVERSITÁ LIUC – CATTANEO DI CASTELLANZA e direttore responsabile – SVILUPPO&ORGANIZZAZIONE \n11.30 PAUSA CAFFÈ \n12.00 DISCUSSIONE: “Costruire organizzazioni sostenibili: il ruolo della direzione risorse umane”\nIntervengono:\n– Annalisa Alberti\, SVP\, direttore risorse umane\, compliance \, ICT & facility management – RHEINMETALL ITALIA \n– Davide De Palma\, cto – HRCOFFEE\n– Guido Stratta\, direttore people & organization – GRUPPO ENEL\n– Anna Maria Testa\, Italy hr director – ZTE ITALIA\n \nModera: Giuditta Alessandrini\, professore ordinario senior di pedagogia sociale e del lavoro – UNIVERSITÀ DI ROMA TRE e professoressa straordinaria – UNIVERSITÁ MERCATORUM \n13.00 PAUSA PRANZO \nPOMERIGGIO \nQuale organizzazione della PA per il XXI secolo\nUna nuova impostazione strategica e organizzativa della PA non riguarda solo l’attuazione del Piano Nazionale di Ripresa e Resilienza\, certo una grande opportunità di innovazione. Tecnologie digitali\, “economia delle piattaforme”\, conseguenze dalla pandemia\, emergenza climatica\, problematiche emergenti della sicurezza e della protezione\, costituiscono fattori concomitanti che incidono sulle relazioni sociali in tanti aspetti anche della vita quotidiana e che alimentano una domanda di regolazione e intervento pubblico in termini nuovi. Le grandi organizzazioni professionali dei settori dell’educazione\, della salute\, della giustizia\, dell’assistenza sociale\, dei beni culturali\, della gestione del territorio\, ecc.\, esprimono un enorme fabbisogno di innovazione organizzativa\, di una progettualità di ampio respiro orientata alla qualità del servizio\, al miglioramento delle relazioni con i cittadini\, allo sviluppo di competenze e professionalità non tradizionali. \n14.00 LEZIONE\nIl miglioramento organizzativo nelle pubbliche amministrazioni virtuose\nL’adeguatezza dei sistemi politici dipende in misura considerevole dall’efficacia delle istituzioni amministrative. Infatti\, nelle nostre società\, sempre più complesse\, globalizzate e competitive\, non competono più prodotti o servizi\, ma Sistemi Paese. In questo nuovo scenario\, il raggiungimento di un’efficace grado di sviluppo economico e sociale è sempre più correlato con il ruolo innovativo delle public policies e la qualità delle  performance delle pubbliche amministrazioni. Per queste ragioni\, le riforme previste dal PNRR possono creare le condizioni per lo sviluppo e supportare i processi di innovazione nei comparti chiave: educazione e formazione; ricerca scientifica e innovazione tecnologica; attività imprenditoriale e lavoro; sanità; previdenza e assistenza sociale.\nAntonio Cocozza\, professore ordinario di Sociologia dei processi economici e del lavoro\, presso il Dipartimento di Scienze della Formazione – UNIVERSITÁ DEGLI STUDI ROMA TRE \n14.40 DISCUSSIONE: “Come innovare formazione e reclutamento dei manager pubblici”\n– Giuseppe Conte\, direttore centrale formazione e sviluppo risorse umane – INPS\n– Massimo Balducci\, esperto del Centre on Good Governance – CONSIGLIO D’EUROPA \nModera: Antonio Cocozza\, professore ordinario di Sociologia dei processi economici e del lavoro\, presso il Dipartimento di Scienze della Formazione – UNIVERSITÁ DEGLI STUDI ROMA TRE \n15.20 LEZIONE\n“La gestione del personale pubblico: come innervare una vera meritocrazia” \nMaurizio Decastri\, professore ordinario di Organizzazione Aziendale – UNIVERSITÀ DI ROMA TOR VERGATA \n16.00 DISCUSSIONE: “La riorganizzazione delle amministrazioni pubbliche per l’attuazione del Pnrr”\n– Andrea Bonomi Savignon\, ricercatore e co-direttore Master – MIMAP\, UNIVERSITÀ DEGLI STUDI DI ROMA TOR VERGATA\n– Maurizio Decastri\, professore ordinario di Organizzazione Aziendale – UNIVERSITÀ DI ROMA TOR VERGATA\n– Sergio Gasparrini\, consigliere – CORTE DEI CONTI\n– Renato Loiero\, consigliere parlamentare – SENATO DELLA REPUBBLICA  e Direttore – SERVIZIO BILANCIO DELLO STATO\n \nModera: Gianfranco Rebora\, professore emerito di Organizzazione e Gestione delle Risorse Umane – UNIVERSITÁ LIUC – CATTANEO DI CASTELLANZA e direttore responsabile – SVILUPPO&ORGANIZZAZIONE \n16.45 CHIUSURA DEI LAVORI \n{/tab} \n{tab Relatori} \nIntervengono: \nAnnalisa Alberti\, human resources\, facility management\, ICT & compliance director – RHEINMETALL ITALIA  \nGiuditta Alessandrini\, professore ordinario senior di pedagogia sociale e del lavoro – UNIVERSITÀ DI ROMA TRE e professoressa straordinaria – UNIVERSITÁ MERCATORUM \nMassimo Balducci\, esperto del Centre on Good Governance – CONSIGLIO D’EUROPA \nAndrea Bonomi Savignon\, ricercatore e co-direttore Master – MIMAP\, UNIVERSITÀ DEGLI STUDI DI ROMA TOR VERGATA \nAntonio Cocozza\, professore ordinario di Sociologia dei processi economici e del lavoro\, presso il Dipartimento di Scienze della Formazione – UNIVERSITÁ DEGLI STUDI ROMA TRE \nGiuseppe Conte\, direttore centrale formazione e sviluppo risorse umane – INPS \nMaurizio Decastri\, professore ordinario di Organizzazione Aziendale – UNIVERSITÀ DI ROMA TOR VERGATA \nDavide De Palma\, cto – HRCOFFEE \nSergio Gasparrini\, consigliere – CORTE DEI CONTI \nRenato Loiero\, consigliere parlamentare – SENATO DELLA REPUBBLICA  e Direttore – SERVIZIO BILANCIO DELLO STATO \nRiccardo Maltoni\, responsabile Organizzazione e Processi in ambito RUO – POSTE ITALIANE  \nDaniele Piacentini\, direttore risorse umane – FONDAZIONE POLICLINICO UNIVERSITARIO AGOSTINO GEMELLI  \nGianfranco Rebora\, professore emerito di Organizzazione e Gestione delle Risorse Umane – UNIVERSITÁ LIUC – CATTANEO DI CASTELLANZA e direttore responsabile – SVILUPPO&ORGANIZZAZIONE \nRoberto Savini Zangrandi\, board member – COMPASSION ITALIA ONLUS E COMPASSION SPAGNA  \nGuido Stratta\, direttore people & organisation – GRUPPO ENEL \nAnna Maria Testa\, Italy hr director – ZTE ITALIA \nGianpiero Tufilli\, hr director – THALES ITALIA \nConduce:\nChiara Lupi\, direttrice editoriale – ESTE \n{/tab} \n{tab Format} \nIl convegno si tiene in presenza. Non è prevista la trasmissione online \nIl Convegno si svolgerà nel rispetto delle norme sanitarie anti-Covid 19.\nL’accesso è consentito solo ai possessori di Green Pass che dovrà essere esibito all’accredito\, il giorno dell’evento. \nInoltre\, saranno garantite ai partecipanti le seguenti misure di sicurezza: \n• Misurazione temperatura corporea all’ingresso;\n• Sanificazione spazi;\n• Distanziamento sociale tra le sedute;\n• Distribuzione di Lunch Box. \n{/tab} \n{tab Iscrizione} \nIl convegno è rivolto a: Manager dell’area organizzazione e Manager dell’area risorse umane delle aziende private di medie grandi dimensioni\, Consulenti\, Accademici ed esperti extra-azienda.\nIl convegno è rivolto a: Tutte le figure manageriali che all’interno delle pubbliche amministrazioni si occupano di Organizzazione e Gestione delle Risorse Umane \nL’accesso al convegno prevede il pagamento di una quota di € 150\,00+IVA. \nLa quota di partecipazione è personale. \nSi accettano pagamenti tramite paypal/carta di credito. \nI pagamenti tramite bonifico sono accettati solo nel caso di iscrizioni multiple in cui la somma da versare sia superiore ai 700 euro+iva. Il pagamento deve arrivare entro il giorno prima del Convegno.\nPer effettuare iscrizioni multiple e pagare con bonifico richiedi il modulo di iscrizione in pdf a: giulia.zicconi@este.it \nPer qualsiasi informazione contattare:\nResponsabile del Progetto: Giulia Zicconi – Event & Project Manager- giulia.zicconi@este.it – Tel. 02.91434415 – Mobile: 340.8236039 \n{/tab} \n{tab Area Download} \nSCARICA IL REPORT DEL CONVEGNO \nDi seguito sono disponibili le presentazioni dei relatori del Convegno in formato PDF: \nAntonio Cocozza\, professore ordinario di Sociologia dei processi economici e del lavoro\, presso il Dipartimento di Scienze della Formazione – UNIVERSITÁ DEGLI STUDI ROMA TRE \nGianfranco Rebora\, professore emerito di Organizzazione e Gestione delle Risorse Umane – UNIVERSITÁ LIUC – CATTANEO DI CASTELLANZA e direttore responsabile – SVILUPPO&ORGANIZZAZIONE \n{/tab} \n{tab Gallery fotografica} \n\n\n\n	\n	\n		\n	\n\n	\n\n				\n					\n		\n		\n		\n			\n									L'accredito\n															\n		\n\n	\n\n\n	\n\n	\n\n				\n					\n		\n		\n		\n			\n									la libreria ESTE\n															\n		\n\n	\n\n\n	\n\n	\n\n				\n					\n		\n		\n		\n			\n									Desk HRCOFFEE\n															\n		\n\n	\n\n\n	\n\n	\n\n				\n					\n		\n		\n		\n			\n									L'apertura dei lavori\n															\n		\n\n	\n\n\n	\n\n	\n\n				\n					\n		\n		\n		\n			\n									Discussione_Per un design dell’organizzazione a 360 gradi idee e metodi per innervare il sapere consolidato\n															\n		\n\n	\n\n\n	\n\n	\n\n				\n					\n		\n		\n		\n			\n									Discussione -Costruire organizzazioni sostenibili il ruolo della direzione risorse umane\n															\n		\n\n	\n\n\n	\n\n	\n\n				\n					\n		\n		\n		\n			\n									Coffee break\n															\n		\n\n	\n\n\n	\n\n	\n\n				\n					\n		\n		\n		\n			\n									Lezione_Antonio Cocozza - UNIVERSITÁ DEGLI STUDI ROMA TRE\n															\n		\n\n	\n\n\n	\n\n	\n\n				\n					\n		\n		\n		\n			\n									Discussione_Come innovare formazione e reclutamento dei manager pubblici\n															\n		\n\n	\n\n\n	\n\n	\n\n				\n					\n		\n		\n		\n			\n									Lezione_Maurizio Decastri – UNIVERSITÀ DI ROMA TOR VERGATA\n															\n		\n\n	\n\n\n	\n\n	\n\n				\n					\n		\n		\n		\n			\n									Discussione_La riorganizzazione delle amministrazioni pubbliche per l’attuazione del Pnrr\n															\n		\n\n	\n\n		\n	\n\n	\n	\n	\n\n	\n\n\n{/tab} \n{tab Tutte le tappe} \nMilano – 7 e 8 ottobre 2021 \n{/tab} \n  \nSponsor\n \nMedia Partner\n\n\n\n \n\nOnlus\n \n 
URL:https://www.este.it/incontro/forum-di-sviluppo-e-organizzazione-roma-2021/
LOCATION:Leon’s Place Hotel\, Via Venti Settembre 90/94\, Roma\, Italia\, 00187
ATTACH;FMTTYPE=image/png:https://www.este.it/wp-content/uploads/2021/10/banner_Forum_Roma-2-e1635149950680.png
END:VEVENT
END:VCALENDAR