BEGIN:VCALENDAR
VERSION:2.0
PRODID:-//Edizioni Este - ECPv6.15.11//NONSGML v1.0//EN
CALSCALE:GREGORIAN
METHOD:PUBLISH
X-ORIGINAL-URL:https://www.este.it
X-WR-CALDESC:Eventi per Edizioni Este
REFRESH-INTERVAL;VALUE=DURATION:PT1H
X-Robots-Tag:noindex
X-PUBLISHED-TTL:PT1H
BEGIN:VTIMEZONE
TZID:Europe/Rome
BEGIN:DAYLIGHT
TZOFFSETFROM:+0100
TZOFFSETTO:+0200
TZNAME:CEST
DTSTART:20250330T010000
END:DAYLIGHT
BEGIN:STANDARD
TZOFFSETFROM:+0200
TZOFFSETTO:+0100
TZNAME:CET
DTSTART:20251026T010000
END:STANDARD
BEGIN:DAYLIGHT
TZOFFSETFROM:+0100
TZOFFSETTO:+0200
TZNAME:CEST
DTSTART:20260329T010000
END:DAYLIGHT
BEGIN:STANDARD
TZOFFSETFROM:+0200
TZOFFSETTO:+0100
TZNAME:CET
DTSTART:20261025T010000
END:STANDARD
BEGIN:DAYLIGHT
TZOFFSETFROM:+0100
TZOFFSETTO:+0200
TZNAME:CEST
DTSTART:20270328T010000
END:DAYLIGHT
BEGIN:STANDARD
TZOFFSETFROM:+0200
TZOFFSETTO:+0100
TZNAME:CET
DTSTART:20271031T010000
END:STANDARD
END:VTIMEZONE
BEGIN:VEVENT
DTSTART;VALUE=DATE:20260526
DTEND;VALUE=DATE:20260528
DTSTAMP:20260421T071642
CREATED:20260323T102207Z
LAST-MODIFIED:20260416T094744Z
UID:10000578-1779757200-1779843599@www.este.it
SUMMARY:Trasparenza salariale: adeguarsi agli obblighi della Direttiva Ue e impostare nuovi modelli organizzativi - Bologna
DESCRIPTION:IL TEMA: \nEntro giugno 2026 l’Italia recepirà la Direttiva Ue Pay Transparency Directive (2023/970) che impone alle aziende la trasparenza in merito all’equità salariale per le mansioni di pari valore e alle politiche retributive per contrastare tutte le discriminazioni. In particolare\, la normativa prevede: obblighi di trasparenza prima dell’inizio e durante il rapporto di lavoro; obbligo di rendicontare sul gender pay gap (in modo graduale rispetto alla dimensione aziendale). \nChi non si adeguerà rischia sanzioni amministrative e risarcimenti alle potenziali vittime di discriminazioni. \nIn questo corso: \n\nsaranno esaminate tutte le azioni che le aziende dovranno affrontare per rispettare le regole sulla trasparenza salariale\, dalla fase di selezione del personale al periodo del rapporto di lavoro;\n\n\nsaranno analizzati e sviluppati metodi\, strumenti e tecniche per coprire la rendicontazione sul gender pay gap;\n\n\ni partecipanti verranno formati in tutti gli strumenti principali per poter essere in linea con la normativa UE e verranno prese in esame le potenziali sanzioni in caso di violazione degli obblighi di legge previsti.\n\nPer le aziende italiane l’introduzione della Direttiva europea è anche una straordinaria occasione per rivedere i modelli organizzativi: quali sono le opportunità organizzative generate dal rispetto della normativa? \nDurante il corso sarà possibile confrontarsi con i docenti per chiarire tutti quegli aspetti ritenuti importanti per la propria azienda di appartenza. \nSCARICA IL MODULO DI ADESIONE\nSCARICA LA BROCHURE\n{tab Docenti} \nEdizione Napoli \nCiro Cafiero\, Avvocato Giuslavorista & Founding Partner di Studio Legale Cafiero Pezzali e Associati\n \nAvvocato con esperienza nel campo del diritto del lavoro e delle relazioni industriali. Presta assistenza giudiziale e consulenza stragiudiziale in relazione ad ogni profilo del rapporto di lavoro nonché dell’organizzazione del lavoro in imprese nazionali ed internazionali. A titolo esemplificativo\, si occupa di relazioni industriali\, gestione del\npersonale\, trasferimenti di azienda o ramo d’azienda\, processi di ristrutturazione e riorganizzazione aziendale ed analisi dei profili giuslavorstici afferenti operazioni di M&A. È legale fiduciario di importanti realtà produttive e di diversi enti pubblici. Ha assunto l’incarico di esperto di politiche del lavoro presso il Ministero del Lavoro e delle Politiche Sociali ed ha\, successivamente\, collaborato\, in qualità di giuslavorista\, con il Governatorato dello Stato della Città del Vaticano e con la Commissione Attività produttive della Regione Campania. e Collabora con la cattedra di Diritto del Lavoro delle Relazioni Industriali dell’Università Luiss Guido Carli\, della Libera Università degli Studi Maria SS. Assunta (LUMSA) e dell’Università degli Studi Internazionali di Roma (UNINT). \n\nMiriam Quarti\, senior consultant\, responsabile area reward & engagement di ODM Consulting\n \nLaureata in Filosofia con specializzazione post Laurea in Risorse Umane\, è responsabile dell’Area Reward & Engagement di ODM Consulting. Ha 15 anni di esperienza nella consulenza HR con un focus sui progetti di costruzione delle politiche retributive in ottica di Total Reward.\nIl concetto di equità e merito\, la valorizzazione delle diversità e il wellbeing delle persone sono alla base delle nuove politiche di ricompensa\, centrali nei processi di attraction\, retention ed engagement delle persone. Sviluppa progetti orientati a ottimizzare l’utilizzo delle leve del Total Reward garantendo un equilibrio tra costi\, benefici per azienda e lavoratori e sostenibilità nel tempo. \n{/tab} \n{tab Format} \nIl percorso formativo prevede una giornata di formazione della durata di 6\,5 ore/formazione in presenza. La giornata si svolgerà dalle 9.30 alle 13.00 e dalle 14.00 alle 17.00. \n{/tab} \n{tab Modalità di partecipazione} \nIl Corso è rivolto a Responsabili HR e Organizzazione\, Responsabili dell’amministrazione del personale\, Imprenditori\, Consulenti del lavoro. \nLa partecipazione al corso prevede il pagamento di una quota di € 400\,00+IVA a persona (pagabile in 3 rate con PayPal)\, da effettuarsi prima dell’inizio del corso.\nL’intera iniziativa formativa è finanziabile attraverso i principali Fondi Interprofessionali \nSconto del 15% per i soci ESTE PLUS. \nPer iscriversi al Corso è necessario acquistare il biglietto pagando tramite bonifico bancario o con carta di credito/paypal. \nCon bonifico bancario\, il versamento della quota di iscrizione pari a € 400+iva\, dovrà essere effettuato prima dell’inizio del corso alle seguenti\ncoordinate:\nBanca Intesa San Paolo\nIBAN IT24C0306909533100000005837\nintestato a ESTE srl\ncausale: partecipazione al corso [nome corso\, nome\, cognome partecipante] \nL’iscrizione si intende perfezionata al ricevimento\, da parte di ESTE\, del modulo di adesione compilato in ogni sua parte e debitamente sottoscritto\, oppure dell’apposito form online compilato al momento del pagamento sul sito ESTE \nIn caso di rinuncia alla partecipazione\, comunicata per iscritto almeno 8 giorni prima della data di inizio del corso\, sarà restituita l’intera quota versata. In caso di rinuncia successiva a tale termine\, sarà fatturata l’intera quota di iscrizione. \nESTE si riserva la facoltà di modificare le date di inizio e termine o di annullare i corsi programmati; ogni variazione sarà tempestivamente comunicata agli interessati. In caso di annullamento del corso\, sarà restituita l’intera quota eventualmente versata. \nPartecipanti: minimo 8\, massimo 25. \nAl termine del percorso formativo sarà rilasciato un attestato di partecipazione \nTermine adesioni: 19 maggio 2026 \nPer qualsiasi informazione contattare: \nCoordinazione: Daniele Meneghini – daniele.meneghini@este.it – Cell. 3896794551 \n{/tab}
URL:https://www.este.it/incontro/trasparenza-salariale-adeguarsi-agli-obblighi-della-direttiva-ue-e-impostare-nuovi-modelli-organizzativi-bologna/
LOCATION:Bologna\, Italia
CATEGORIES:Corso
ATTACH;FMTTYPE=image/png:https://www.este.it/wp-content/uploads/2026/03/BANNER_BOLOGNA-scaled.png
END:VEVENT
BEGIN:VEVENT
DTSTART;TZID=Europe/Rome:20261020T090000
DTEND;TZID=Europe/Rome:20261020T163000
DTSTAMP:20260421T071642
CREATED:20251219T082553Z
LAST-MODIFIED:20260420T161407Z
UID:10000504-1792486800-1792513800@www.este.it
SUMMARY:CAPITALE UMANO - BOLOGNA 2026
DESCRIPTION:IL TEMA: CAPITALE UMANO\nViviamo nell’illusione che per far funzionare un’azienda servano capitali infiniti\, tecnologie di ultima generazione o modelli organizzativi complessi. La verità è che i soldi sono una commodity\, la tecnologia si compra e i modelli organizzativi restano scarabocchi su una lavagna se non c’è nessuno che li faccia vivere. Le aziende sono fatte di scelte. E le scelte hanno bisogno di gambe\, cuore e cervello per trasformarsi in realtà. In un mercato dove i capitali e i software sono a disposizione di tutti\, il Capitale Umano è diventato l’unica\, vera risorsa scarsa. Le Persone danno corpo alla visione\, risolvono gli imprevisti che nessun algoritmo ha previsto e creano valore dove prima c’era solo un foglio di calcolo. \nSe hai le persone giuste\, il resto si trova o si costruisce. Se non le hai\, non esiste tecnologia o budget che possa salvarti. \nIL PROGETTO\nCapitale Umano vuole coinvolgere tutti coloro che hanno ruoli di responsabilità nella guida di persone all’interno delle aziende del territorio\, manager\, imprenditori e Team leader. Si discuterà del valore delle persone come motore dello sviluppo organizzativo e della crescita d’impresa. Attraverso il confronto su strategie\, tecniche e strumenti\, esploreremo il contributo decisivo delle Risorse Umane nel guidare le aziende verso i grandi temi del Lavoro. \nSCARICA IL PROGETTO COMMERCIALE\n{tab Programma} \nIn fase di definizione \n{/tab} \n{tab Relatori} \nIn fase di definizione \n{/tab} \n{tab Testimonianze aziendali} \nIn fase di definizione \n{/tab} \n{tab Format} \nOgni convegno si sviluppa nell’arco di una giornata e mezza.  \nLa sera del primo giorno si tiene la Cena di Anteprima: un momento di incontro e confronto durante il quale si crea un dibattito tra Relatori\, Sponsor e Partecipanti.\nIl giorno successivo ogni convegno prosegue per l’intera giornata attraverso un susseguirsi di interventi\, sottoforma di relazioni singole o tavole rotonde\, da parte di manager\, capi d’azienda\, esperti ed esponenti delle aziende Sponsor\,\nche condividono casi concreti e strategie adottate nella gestione del personale. \n{/tab} \n{tab Iscrizione} \nIl convegno è rivolto ai People Manager: Responsabili HR\, Imprenditori\, Capi Azienda e\, in generale\, a chi all’interno delle aziende si occupa e preoccupa delle Persone. \nIl convegno è GRATUITO. La partecipazione è garantita a tutti gli abbonati di Persone&Conoscenze (digitale+cartaceo)\, che hanno la precedenza nell’accesso e nell’assegnazione dei posti.\nPer i non abbonati\, l’iscrizione è soggetta a conferma da parte della segreteria organizzativa. \nPer qualsiasi informazione contattare: Laura Malnati – Account Eventi – laura.malnati@este.it – Tel. 02.91434414 – Mobile: 340 388 6069 \n{/tab} \n{/tab} \n{/tab} \n{tab Tutte le tappe} \nNapoli\, 24 marzo \nTorino\, 23 giugno \nPadova\, 7 luglio \nBologna\, 20 ottobre \n{/tab} \nSponsor\n                  \n\n               \n\nMedia partner
URL:https://www.este.it/incontro/capitale-umano-bologna-2026/
LOCATION:Bologna\, Italia
ATTACH;FMTTYPE=image/png:https://www.este.it/wp-content/uploads/2025/12/BOLOGNA-scaled.png
END:VEVENT
END:VCALENDAR