BEGIN:VCALENDAR
VERSION:2.0
PRODID:-//Edizioni Este - ECPv6.15.11//NONSGML v1.0//EN
CALSCALE:GREGORIAN
METHOD:PUBLISH
X-ORIGINAL-URL:https://www.este.it
X-WR-CALDESC:Eventi per Edizioni Este
REFRESH-INTERVAL;VALUE=DURATION:PT1H
X-Robots-Tag:noindex
X-PUBLISHED-TTL:PT1H
BEGIN:VTIMEZONE
TZID:Europe/Rome
BEGIN:DAYLIGHT
TZOFFSETFROM:+0100
TZOFFSETTO:+0200
TZNAME:CEST
DTSTART:20220327T010000
END:DAYLIGHT
BEGIN:STANDARD
TZOFFSETFROM:+0200
TZOFFSETTO:+0100
TZNAME:CET
DTSTART:20221030T010000
END:STANDARD
BEGIN:DAYLIGHT
TZOFFSETFROM:+0100
TZOFFSETTO:+0200
TZNAME:CEST
DTSTART:20230326T010000
END:DAYLIGHT
BEGIN:STANDARD
TZOFFSETFROM:+0200
TZOFFSETTO:+0100
TZNAME:CET
DTSTART:20231029T010000
END:STANDARD
BEGIN:DAYLIGHT
TZOFFSETFROM:+0100
TZOFFSETTO:+0200
TZNAME:CEST
DTSTART:20240331T010000
END:DAYLIGHT
BEGIN:STANDARD
TZOFFSETFROM:+0200
TZOFFSETTO:+0100
TZNAME:CET
DTSTART:20241027T010000
END:STANDARD
BEGIN:DAYLIGHT
TZOFFSETFROM:+0100
TZOFFSETTO:+0200
TZNAME:CEST
DTSTART:20250330T010000
END:DAYLIGHT
BEGIN:STANDARD
TZOFFSETFROM:+0200
TZOFFSETTO:+0100
TZNAME:CET
DTSTART:20251026T010000
END:STANDARD
BEGIN:DAYLIGHT
TZOFFSETFROM:+0100
TZOFFSETTO:+0200
TZNAME:CEST
DTSTART:20260329T010000
END:DAYLIGHT
BEGIN:STANDARD
TZOFFSETFROM:+0200
TZOFFSETTO:+0100
TZNAME:CET
DTSTART:20261025T010000
END:STANDARD
BEGIN:DAYLIGHT
TZOFFSETFROM:+0100
TZOFFSETTO:+0200
TZNAME:CEST
DTSTART:20270328T010000
END:DAYLIGHT
BEGIN:STANDARD
TZOFFSETFROM:+0200
TZOFFSETTO:+0100
TZNAME:CET
DTSTART:20271031T010000
END:STANDARD
END:VTIMEZONE
BEGIN:VEVENT
DTSTART;VALUE=DATE:20260212
DTEND;VALUE=DATE:20260214
DTSTAMP:20260422T094946
CREATED:20251223T100149Z
LAST-MODIFIED:20260205T085606Z
UID:10000497-1770858000-1770944399@www.este.it
SUMMARY:Trasparenza salariale: adeguarsi agli obblighi della Direttiva Ue e impostare nuovi modelli organizzativi - Milano
DESCRIPTION:IL TEMA: \nEntro giugno 2026 l’Italia recepirà la Direttiva Ue Pay Transparency Directive (2023/970) che impone alle aziende la trasparenza in merito all’equità salariale per le mansioni di pari valore e alle politiche retributive per contrastare tutte le discriminazioni. In particolare\, la normativa prevede: obblighi di trasparenza prima dell’inizio e durante il rapporto di lavoro; obbligo di rendicontare sul gender pay gap (in modo graduale rispetto alla dimensione aziendale). Chi non si adeguerà rischia sanzioni amministrative e risarcimenti alle potenziali vittime di discriminazioni. \nQuali sono le azioni che le imprese devono impostare per rispettare le regole sulla trasparenza salariale sua in fase di selezione del personale sia durante il rapporto di lavoro? \nE come si produce una rendicontazione sul gender pay gap?  \nQuali strumenti servono per essere in linea con la normativa Ue? \nQuali sono le potenziali sanzioni in caso di violazione degli obblighi? \nPer le aziende italiane l’introduzione della Direttiva europea è anche una straordinaria occasione per rivedere i modelli organizzativi: quali sono le opportunità organizzative generate dal rispetto della normativa? \nSCOPRI IL PROGETTO COMPLETO\n{tab Docenti} \nDiego Paciello\, responsabile dell’area fiscale\, welfare\, compensation and benefits – TOFFOLETTO DEL LUCA TAMAJO\n \nEsperto in materia di consulenza fiscale\, tributaria\, societaria e contrattuale\, è specialista dell’implementazione di piani di welfare aziendale\, in progetti di Total Compensation e della relativa fiscalità. Dottore commercialista e Revisore dei Conti\, si laurea all’Università Bicocca nel 2003. Dopo alcune importanti esperienze nel settore fiscale e del welfare aziendale\, entra nel 2017 in Toffoletto De Luca Tamajo dove prosegue nel proprio impegno in materia fiscale ed organizzativa per l’introduzione di piani di welfare aziendale e per l’armonizzazione e l’ottimizzazione dell’impatto fiscale dei benefit aziendali\, di progettazione ed implementazione di progetti complessi di flexible benefits e relativi sistemi a supporto (business analytics e gestione documentale). È relatore\, docente e formatore presso varie istituzioni private e pubbliche\, tra cui l’Università Cattolica del Sacro Cuore\, l’Università Sant’Anna di Pisa\, l’Università Ca’ Foscari Venezia\, l’Ordine dei Dottori Commercialisti e degli Esperti Contabili di Milano e l’Ordine Nazionale dei Consulenti del Lavoro. \n\nMiriam Quarti\, senior consultant\, responsabile area reward & engagement di ODM Consulting\n \nLaureata in Filosofia con specializzazione post Laurea in Risorse Umane\, è responsabile dell’Area Reward & Engagement di ODM Consulting. Ha 15 anni di esperienza nella consulenza HR con un focus sui progetti di costruzione delle politiche retributive in ottica di Total Reward.\nIl concetto di equità e merito\, la valorizzazione delle diversità e il wellbeing delle persone sono alla base delle nuove politiche di ricompensa\, centrali nei processi di attraction\, retention ed engagement delle persone. Sviluppa progetti orientati a ottimizzare l’utilizzo delle leve del Total Reward garantendo un equilibrio tra costi\, benefici per azienda e lavoratori e sostenibilità nel tempo. \n{/tab} \n{tab Format} \nIl percorso formativo prevede una giornata di formazione della durata di sei ore da svolgere in presenza. La giornata si svolgerà dalle 9.30 alle 13.00 e dalle 14.00 alle 17.00. \n{/tab} \n{tab Modalità di partecipazione} \nIl Corso è rivolto a Responsabili HR e Organizzazione\, Responsabili dell’amministrazione del personale\, Imprenditori\, Consulenti del lavoro. \nLa partecipazione al corso prevede il pagamento di una quota di € 400\,00+IVA a persona (pagabile in 3 rate con PayPal).\nL’intera iniziativa formativa è finanziabile attraverso i principali Fondi Interprofessionali \nSconto del 15% per i soci ESTE PLUS. \nPer iscriversi al Corso è necessario acquistare il biglietto pagando tramite carta di credito/paypal. \nPartecipanti: minimo 8\, massimo 25. \nAl termine del percorso formativo sarà rilasciato un attestato di partecipazione \nTermine adesioni: 9 febbraio 2026 \nPer qualsiasi informazione contattare: \nResponsabile: Martina Galbiati – martina.galbiati@este.it – Cell. 339.1068668 \n{/tab}
URL:https://www.este.it/incontro/trasparenza-salariale-adeguarsi-agli-obblighi-della-direttiva-ue-e-impostare-nuovi-modelli-organizzativi-milano-iii-edizione/
LOCATION:AC Hotel Milano by Marriott\, Via Enrico Tazzoli\, 2\, Milano\, Italia\, 20154\, Italia
ATTACH;FMTTYPE=image/png:https://www.este.it/wp-content/uploads/2025/12/BANNER_CORSO_TRASPARENZA_SALARIALE_GENERICO-04-scaled.png
END:VEVENT
BEGIN:VEVENT
DTSTART;TZID=Europe/Rome:20240926T170000
DTEND;TZID=Europe/Rome:20240926T193000
DTSTAMP:20260422T094946
CREATED:20240801T143807Z
LAST-MODIFIED:20240930T144516Z
UID:10000371-1727370000-1727379000@www.este.it
SUMMARY:Presentazione piani redazionali e incontri 2025
DESCRIPTION:Durante l’incontro la Direzione editoriale della casa editrice\, i Direttori e le Direttrici delle riviste e del quotidiano\, i giornalisti ESTE\, presenteranno i piani redazionali e gli incontri per il 2025. \nNe parleremo con gli inserzionisti\, gli sponsor\, gli uffici stampa\, gli autori\, gli amici. \nL’evento è anche l’occasione per presentare i dati di diffusione aggiornati e l’offerta pubblicitaria (tariffe e format) dei prodotti editoriali\, oltre alle opportunità commerciali degli incontri. \n{tab Programma} \nL’accredito è previsto alle ore 17.00. L’inizio dei lavori alle ore 17.30.  \nIntervengono: \nAndrea Bobbiese\, direttore generale – ESTE \nChiara Lupi\, direttrice editoriale – ESTE \nDario Colombo\, caporedattore – ESTE \nAlessandro Gastaldi\, redattore – ESTE \nAlessia Stucchi\, redattrice – ESTE \nBarbara Quacquarelli\, direttrice – MIT SLOAN MANAGEMENT REVIEW ITALIA \nGianfranco Rebora\, direttore – SVILUPPO&ORGANIZZAZIONE \n{/tab} \n{tab Format} \nL’evento si tiene in presenza. Non è prevista la trasmissione online \n{/tab} \n{tab Iscrizione} \n\n\n\nLa partecipazione è GRATUITA\, previa registrazione al sito ESTE e conferma da parte della segreteria organizzativa. \n\n\n\nPer qualsiasi informazione contattare: \nGiulia Zicconi – Responsabile Eventi  – giulia.zicconi@este.it – Tel. 02.91434415 – Mobile: 340.8236039 \nLaura Malnati – Account eventi – laura.malnati@este.it – Tel. 02.91434414 – Mobile: 340 388 6069 \n{/tab} \n{tab Area Download} \nCLICCA E SCARICA LA PRESENTAZIONE DEI PROGETTI EDITORIALI E DEGLI INCONTRI 2025 \nCLICCA E SCARICA L’ESTRATTO SPECIALE 50 ANNI SVILUPPO&ORGANIZZAZIONE \n{/tab} \n{tab Gallery Fotografica} \n\n\n\n	\n	\n		\n	\n\n	\n\n				\n					\n		\n		\n		\n			\n															\n		\n\n	\n\n\n	\n\n	\n\n				\n					\n		\n		\n		\n			\n															\n		\n\n	\n\n\n	\n\n	\n\n				\n					\n		\n		\n		\n			\n															\n		\n\n	\n\n\n	\n\n	\n\n				\n					\n		\n		\n		\n			\n															\n		\n\n	\n\n\n	\n\n	\n\n				\n					\n		\n		\n		\n			\n															\n		\n\n	\n\n\n	\n\n	\n\n				\n					\n		\n		\n		\n			\n															\n		\n\n	\n\n\n	\n\n	\n\n				\n					\n		\n		\n		\n			\n															\n		\n\n	\n\n\n	\n\n	\n\n				\n					\n		\n		\n		\n			\n															\n		\n\n	\n\n\n	\n\n	\n\n				\n					\n		\n		\n		\n			\n															\n		\n\n	\n\n\n	\n\n	\n\n				\n					\n		\n		\n		\n			\n															\n		\n\n	\n\n\n	\n\n	\n\n				\n					\n		\n		\n		\n			\n															\n		\n\n	\n\n\n	\n\n	\n\n				\n					\n		\n		\n		\n			\n															\n		\n\n	\n\n\n	\n\n	\n\n				\n					\n		\n		\n		\n			\n															\n		\n\n	\n\n\n	\n\n	\n\n				\n					\n		\n		\n		\n			\n															\n		\n\n	\n\n\n	\n\n	\n\n				\n					\n		\n		\n		\n			\n															\n		\n\n	\n\n\n	\n\n	\n\n				\n					\n		\n		\n		\n			\n															\n		\n\n	\n\n\n	\n\n	\n\n				\n					\n		\n		\n		\n			\n															\n		\n\n	\n\n		\n	\n\n	\n	\n	\n\n	\n\n\n{/tab} \n{/tab}
URL:https://www.este.it/incontro/presentazione-piani-redazionali-e-incontri-2025/
LOCATION:AC Hotel Milano by Marriott\, Via Enrico Tazzoli\, 2\, Milano\, Italia\, 20154\, Italia
ATTACH;FMTTYPE=image/png:https://www.este.it/wp-content/uploads/2024/08/pres_piani_2025-2.png
END:VEVENT
BEGIN:VEVENT
DTSTART;TZID=Europe/Rome:20230328T140000
DTEND;TZID=Europe/Rome:20230328T180000
DTSTAMP:20260422T094946
CREATED:20230226T112841Z
LAST-MODIFIED:20230315T084312Z
UID:10000097-1680012000-1680026400@www.este.it
SUMMARY:ReConnect: un attacco è inevitabile. Siate pronti - Evento Cohesity | Milano
DESCRIPTION:CLICCA QUI PER ISCRIVERTI\nReconnect: Milano è un evento speciale dedicato alla gestione e sicurezza dei dati con l’obiettivo di aiutare a implementare una strategia di business resiliency in azienda\, mettendo in atto le migliori pratiche per proteggere i dati e rilevare ed effettuare un ripristino efficace e rapido a seguito di un attacco ransomware. \nPartecipando all’evento organizzato da COHESITY a Milano sarà possibile: \n\nParlare direttamente con degli esperti di settore\nConoscere le best practice: ricevere utili informazioni sul cyber vaulting e sul ripristino. Scoprire come le aziende stanno modernizzando le loro strategie di backup e recovery per evitare il riscatto.\nScoprire le ultime tecnologie basate sul Machine Learning per rafforzare la resilienza informatica prima\, durante e dopo un attacco.\n\n{tab Relatori} \nMauro Cacciafani\, Data Protection Officer – PUBLIACQUA \nGiorgio Campatelli\, partner organization leader – CISCO \nFabrizio Gegerly\, architecture sales leader Italy – CISCO \nLuca Mattii\, alliances manager – CISCO \nMartina Midolo\, redattrice – ESTE  \n{/tab} \n{tab Format} \nIl convegno si tiene in presenza. Non è prevista la trasmissione online. \nIl convegno si sviluppa dalle ore 14.30 alle ore 18.30. Segue un aperitivo di networking a chiusura dell’evento. \n{/tab} \n{tab Iscrizione} \n\n\n\nL’evento è rivolto a: CIO\, Repsonsabili IT\, Demand Manager\, Responsabili Cybersecurity e Business Continuity di medie e grandi aziende. \nLa partecipazione è GRATUITA\, previa registrazione al sito di COHESITY e conferma da parte della segreteria organizzativa. \nPer qualsiasi informazione contattare: \n\n\n\nResponsabile del Progetto: Giulia Zicconi –  Responsabile Eventi – giulia.zicconi@este.it – Tel. 02.91434415 – Mobile: 340.8236039 \n{/tab} \n{/tab} \nOrganizzato con\n \n 
URL:https://www.este.it/incontro/reconnect-attacco-inevitabile-siate-pronti-cohesity-milano-evento-in-presenza/
LOCATION:AC Hotel Milano by Marriott\, Via Enrico Tazzoli\, 2\, Milano\, Italia\, 20154\, Italia
ATTACH;FMTTYPE=image/png:https://www.este.it/wp-content/uploads/2023/02/Banner_SITO-5.png
END:VEVENT
END:VCALENDAR