BEGIN:VCALENDAR
VERSION:2.0
PRODID:-//Edizioni Este - ECPv6.15.11//NONSGML v1.0//EN
CALSCALE:GREGORIAN
METHOD:PUBLISH
X-ORIGINAL-URL:https://www.este.it
X-WR-CALDESC:Eventi per Edizioni Este
REFRESH-INTERVAL;VALUE=DURATION:PT1H
X-Robots-Tag:noindex
X-PUBLISHED-TTL:PT1H
BEGIN:VTIMEZONE
TZID:Europe/Rome
BEGIN:DAYLIGHT
TZOFFSETFROM:+0100
TZOFFSETTO:+0200
TZNAME:CEST
DTSTART:20220327T010000
END:DAYLIGHT
BEGIN:STANDARD
TZOFFSETFROM:+0200
TZOFFSETTO:+0100
TZNAME:CET
DTSTART:20221030T010000
END:STANDARD
BEGIN:DAYLIGHT
TZOFFSETFROM:+0100
TZOFFSETTO:+0200
TZNAME:CEST
DTSTART:20230326T010000
END:DAYLIGHT
BEGIN:STANDARD
TZOFFSETFROM:+0200
TZOFFSETTO:+0100
TZNAME:CET
DTSTART:20231029T010000
END:STANDARD
BEGIN:DAYLIGHT
TZOFFSETFROM:+0100
TZOFFSETTO:+0200
TZNAME:CEST
DTSTART:20240331T010000
END:DAYLIGHT
BEGIN:STANDARD
TZOFFSETFROM:+0200
TZOFFSETTO:+0100
TZNAME:CET
DTSTART:20241027T010000
END:STANDARD
END:VTIMEZONE
BEGIN:VEVENT
DTSTART;TZID=Europe/Rome:20230511T143000
DTEND;TZID=Europe/Rome:20230511T180000
DTSTAMP:20260420T061335
CREATED:20230302T084227Z
LAST-MODIFIED:20230510T071421Z
UID:10000098-1683815400-1683828000@www.este.it
SUMMARY:Registi d'impresa - Proiezione "E noi come stronzi rimanemmo a guardare" e dibattito
DESCRIPTION:Il cinema aiuta a smontare la commedia sociale che ingloba anche le imprese e le organizzazioni di tutti i tempi. Il progetto “Registi d’impresa” ricerca significati per il management e per l’organizzazione aziendale\, traendo spunto dalla visione di un film\, selezionato per le sue tematiche manageriali. \nUn appuntamento a porte chiuse ed a numero limitato\, in cui i manager\, hanno l’opportunità di discutere e di condividere le proprie esperienze e i punti di vista sui temi trattati nella pellicola “E noi come stronzi rimanemmo a guardare”\, attraverso una riflessione critica delle questioni manageriali. \n{tab Partecipanti} \nAlberto Carminati\, HR manager – BIANCHI \nElisa Cavedagna\, group human resources director – KERAKOLL \nPeter Durante\, chief human resources officer e member board of directors – ITALGAS \nMichelangelo Ferraro\, ceo – ISAPIENS \nFrida Mura\,  head of sales & partnership HR solution – ARCHIVA GROUP  \nMichele Nuonno\, HR manager – TAKKO FASHION \nPaolo Pacchiana\, HR manager – BFF BANKING GROUP \nGianfranco Rebora\, professore emerito di Organizzazione e Gestione delle Risorse Umane – UNIVERSITÁ LIUC – CATTANEO DI CASTELLANZA e direttore responsabile – SVILUPPO&ORGANIZZAZIONE \nFabio Salvi\, team lead people partner Italy\, Spain\, Portugal\, Serbia\, Croatia and Romania – FLIXBUS \n{/tab} \n{tab Format} \nSviluppo&Organizzazione\, la più importante rivista accademica italiana di organizzazione aziendale\, promuove periodicamente incontri a porte chiuse con accademici\, consulenti\, imprenditori\, manager\, rappresentanti delle associazioni per discutere e approfondire tematiche di attualità in materia di organizzazione aziendale e risorse umane. \nL’incontro prevede la proiezione di un film\, selezionato per le sue tematiche manageriali\, un dibattito tra i partecipanti ed un aperitivo finale alle 18.00. \nIl dibattito sarà oggetto di un reportage da pubblicarsi sulla rivista Sviluppo&Organizzazione\, all’interno della rubrica “Cinema & Romanzi”. \nDialogherà con i partecipanti la redazione di ESTE. \n{/tab} \n{tab Iscrizione} \nQuesto incontro in presenza si svolge ‘a porte chiuse’. La partecipazione all’evento può avvenire solo su invito della casa editrice ESTE. \nPer qualsiasi informazione contattare:\nRaffaella Rapisardi – Event & Project Manager – raffaella.rapisardi@este.it – Tel. 02 91434405 \n{/tab} \n 
URL:https://www.este.it/incontro/registi-dimpresa-proiezione-e-noi-come-stronzi-rimanemmo-a-guardare/
LOCATION:Cinema Anteo – Milano\, Piazza XXV Aprile\, 8\, Milano\, Italia
ATTACH;FMTTYPE=image/jpeg:https://www.este.it/wp-content/uploads/2023/02/registi_dimpresa_banner_OK.jpg
END:VEVENT
END:VCALENDAR