BEGIN:VCALENDAR
VERSION:2.0
PRODID:-//Edizioni Este - ECPv6.15.11//NONSGML v1.0//EN
CALSCALE:GREGORIAN
METHOD:PUBLISH
X-ORIGINAL-URL:https://www.este.it
X-WR-CALDESC:Eventi per Edizioni Este
REFRESH-INTERVAL;VALUE=DURATION:PT1H
X-Robots-Tag:noindex
X-PUBLISHED-TTL:PT1H
BEGIN:VTIMEZONE
TZID:Europe/Rome
BEGIN:DAYLIGHT
TZOFFSETFROM:+0100
TZOFFSETTO:+0200
TZNAME:CEST
DTSTART:20220327T010000
END:DAYLIGHT
BEGIN:STANDARD
TZOFFSETFROM:+0200
TZOFFSETTO:+0100
TZNAME:CET
DTSTART:20221030T010000
END:STANDARD
BEGIN:DAYLIGHT
TZOFFSETFROM:+0100
TZOFFSETTO:+0200
TZNAME:CEST
DTSTART:20230326T010000
END:DAYLIGHT
BEGIN:STANDARD
TZOFFSETFROM:+0200
TZOFFSETTO:+0100
TZNAME:CET
DTSTART:20231029T010000
END:STANDARD
BEGIN:DAYLIGHT
TZOFFSETFROM:+0100
TZOFFSETTO:+0200
TZNAME:CEST
DTSTART:20240331T010000
END:DAYLIGHT
BEGIN:STANDARD
TZOFFSETFROM:+0200
TZOFFSETTO:+0100
TZNAME:CET
DTSTART:20241027T010000
END:STANDARD
END:VTIMEZONE
BEGIN:VEVENT
DTSTART;TZID=Europe/Rome:20230214T120000
DTEND;TZID=Europe/Rome:20230214T130000
DTSTAMP:20260420T224609
CREATED:20221116T160552Z
LAST-MODIFIED:20230309T113620Z
UID:10000084-1676376000-1676379600@www.este.it
SUMMARY:Webinar - Azienda e candidato: amore a prima vista
DESCRIPTION:La ricerca del candidato giusto non può essere lasciata al caso: per incontrare ‘l’anima gemella’ e portarla in azienda occorre metodo. Il mercato del lavoro mostra maggiore vivacità ma aumentano le complessità: pandemia\, e incertezze determinate dalle crisi geopolitiche\, hanno modificato le scale di priorità dei candidati. E le aziende devono tenerne conto. Le persone vogliono relazionarsi con aziende con le quali condividono una scala valoriale e per questo l’employer branding necessita di cura: l’immagine che l’azienda fornisce di sé non può discostarsi dalla percezione che ne hanno le persone che vi lavorano o vi hanno lavorato e lasciano recensioni. Alla base di una ricerca che deve condurre al perfetto match tra azienda e candidato c’è dunque la comunicazione: proporre un messaggio adeguato alle nuove aspettative\, e in linea con i valori dell’impresa\, è fondamentale per agire con trasparenza sin dal ‘primo appuntamento’ e far sì che il primo incontro si trasformi in una relazione seria e duratura. \nCome fare? Per realizzare il perfetto match Indeed\, per la ricerca di lavoro in Italia e nel mondo\, e Glassdoor\, leader mondiale nelle informazioni su aziende e posti di lavoro\, hanno unito le forze per consentire un più efficace ingaggio delle persone in cerca di lavoro. \nIl webinar sarà l’occasione per approfondire un metodo per individuare il candidato giusto e analizzare: \n\nCome sfruttare le potenzialità delle piattaforme per l’employer branding Indeed e Glassdor;\nQuali le strategie di employer branding più efficaci utilizzate dalle aziende italiane;\nCaso aziendale di un’azienda che ha trovato l’’anima gemella’.\n\n{tab Relatori} \nAndrea Briganti\, senior account executive growth – INDEED \nGiacomo Loi\, client success specialist- INDEED \nLuca Torresan\, marketing and communication manager – RSG GROUP ITALIA \nRomina Zanetel\, country marketing senior specialist – INDEED \nModera:\nChiara Lupi\, direttrice editoriale – ESTE \n{/tab} \n{tab Format}\nIl webinar si tiene online tramite piattaforma Cisco Webex \n{/tab} \n{tab Iscrizione} \n\n\n\nIl webinar è rivolto ai Responsabili Selezione e Risorse Umane.   \nLa partecipazione al Webinar è GRATUITA\, previa registrazione al sito ESTE e conferma da parte della segreteria organizzativa. La segreteria organizzativa si riserva la facoltà di convalidare le iscrizioni ricevute. \nGli iscritti riceveranno nell’arco delle 24 ore successive alla propria iscrizione\, la mail con il link e le istruzioni d’accesso alla piattaforma Cisco Webex. \n\n\n\nPer qualsiasi informazione contattare: \nResponsabile del Progetto: Giulia Zicconi – Event & Project Manager- giulia.zicconi@este.it – Tel. 02.91434415 – Mobile: 340.8236039 \n{/tab} \n{tab Area Download} \nScarica il report del webinar \nClicca qui e scarica la presentazione dei relatori in formato pdf \n{/tab} \n{/tab} \nOrganizzato con:
URL:https://www.este.it/incontro/webinar-azienda-candidato-amore-prima-vista/
LOCATION:ONLINE
CATEGORIES:Webinar
ATTACH;FMTTYPE=image/png:https://www.este.it/wp-content/uploads/2022/11/sito.png
END:VEVENT
BEGIN:VEVENT
DTSTART;TZID=Europe/Rome:20230216T110000
DTEND;TZID=Europe/Rome:20230216T123000
DTSTAMP:20260420T224609
CREATED:20221221T115341Z
LAST-MODIFIED:20230123T092458Z
UID:10000091-1676545200-1676550600@www.este.it
SUMMARY:Webinar - Automatizzare il Processo Accounts Payable in SAP - Dalla richiesta di acquisto alla registrazione automatica delle fatture fornitori
DESCRIPTION:CLICCA QUI PER ISCRIVERTI\n  \nTEMA: Efficientare il ciclo passivo e abbattere i tempi di attraversamento della fattura grazie a una digitalizzazione completa e a tecnologie di Robotic Process Automation. \nDopo l’avvio della fatturazione elettronica è possibile proseguire nel percorso orientato ad un efficientamento del processo di gestione delle fatture fornitori\, che può arrivare fino alla registrazione automatica\, grazie a logiche avanzate di Robotic Process Automation. \nIl webinar sarà occasione per: \n\nscoprire i vantaggi della gestione integrata di SAP con un sistema documentale enterprise;\ntoccare con mano\, mediante una demo live del cruscotto di gestione fatture fornitori\, un esempio di percorso completo\, dalla ricezione del documento fino alla sua registrazione senza intervento umano;\nassistere a un esempio di gestione controllata dell’RDA integrata in SAP\, durante la presentazione del corso full digital;\nscoprire come mantenere il controllo dei processi con alto grado di automatismo tramite dashboard evolute di monitoraggio\n\n{tab Relatori} \nLorenzo Della Vedova\, SAP Delivery Manager – SIAV \nMichele Neri\, ceo – IPERCERAMICA \nMarco Zanolli\, SAP Business Development Manager – SIAV \nModera: Federica Biffi\, redattrice – ESTE \n{/tab} \n{tab Format}\nIl webinar si tiene online tramite piattaforma Cisco Webex \n{/tab} \n{tab Iscrizione} \n\n\n\nIl webinar è rivolto a: Responsabili Amministrazione (CFO)\, Responsabili IT\, Responsabili Operativi (COO) \nLa partecipazione al Webinar è GRATUITA\, previa registrazione al sito di SIAV e conferma da parte della segreteria organizzativa. \nPer qualsiasi informazione contattare: \n\n\n\nResponsabile del Progetto: Giulia Zicconi – Event & Project Manager- giulia.zicconi@este.it – Tel. 02.91434415 – Mobile: 340.8236039 \n{/tab} \n{/tab} \nOrganizzato con
URL:https://www.este.it/incontro/webinar-automatizzare-processo-accounts-payable-sap/
LOCATION:ONLINE
CATEGORIES:Webinar
ATTACH;FMTTYPE=image/png:https://www.este.it/wp-content/uploads/2022/12/banner_SITO-1.png
END:VEVENT
BEGIN:VEVENT
DTSTART;TZID=Europe/Rome:20230216T143000
DTEND;TZID=Europe/Rome:20230216T190000
DTSTAMP:20260420T224609
CREATED:20221219T150750Z
LAST-MODIFIED:20230511T152504Z
UID:10000087-1676557800-1676574000@www.este.it
SUMMARY:ENERGY AT WORK- Riportare l’Energia nelle Organizzazioni | Evento in presenza
DESCRIPTION:EVENTO IN PRESENZA GRATUITO \nCosa si può fare per consumare più energia?  \nSembra paradossale\, ma mentre la riduzione dei consumi è un problema all’ordine del giorno\, chi lavora nelle organizzazioni deve riflettere sul contrario. Aumentare l’energia delle persone nelle Organizzazioni è oggi al primo posto nella riflessione dei manager: di fronte al fenomeno della great resignation\, alla “generazione purpose”\, così attenta a valori diversi dal pieno ingaggio verso la carriera\, e nuove attese rispetto ai leader\, cresce la necessità di un nuovo patto tra impresa\, persone e società. \n L’evento\, organizzato in collaborazione con EOS MANAGEMENT CONSULTING\, è occasione per riflettere su tre temi cruciali: \n\nEros: la passione\, oltre l’engagement\nEquilibrio: l’armonia\, oltre le contrapposizioni  (tra “fare presto e fare bene”\,  “lavoro e tempo libero”; “valutazione e sviluppo”\, ecc.)\nExecution: la realizzazione\, oltre le buone idee.\n\nQueste tre «E» animeranno una conversazione aperta con chi si occupa di persone e organizzazioni\, a partire da esperienze di testimoni esperti e keynote speech di Partner di EOS. \n{tab Programma} \n14.30 ACCREDITO DEI PARTECIPANTI \n15.00 Benvenuto e apertura dei lavori\nA cura di Maurizio Decastri\, founding partner e president – EOS MANAGEMENT CONSULTING \n15.10 E e O: Energia e Organizzazioni nella complessità (Stefano Nanni\, Partner Eos).\nLe aziende hanno bisogno di nuova Energia. Ma quale? Come per l’ambiente\, oggi crediamo serva un’energia da “fonti nuove”\, rinnovabili e sostenibili\, oltre i paradigmi della motivazione di breve termine\, verso uno scambio di valore più ampio\, inclusivo e aperto fra Azienda e Persone. Eros\, Equilibrio\, Execution….  E\, non O. Anzi\, E e O.\nStefano Nanni\, consulting solution leader e senior partner – EOS MANAGEMENT CONSULTING  \n15.30 EROS. Ritrovare l’entusiasmo nelle Organizzazioni\nLe tradizionali forme di engagement sembrano non riuscire più a cogliere appieno la domanda di partecipazione contemporanea. Ma perché? La metafora dell’Eros può favorire un nuovo approccio in cui la passione per quello che si fa e le relazioni che si vivono s’incrocia con lo spirito del tempo. Per essere cittadini del mondo\, sia dentro che fuori le organizzazioni.\nAl termine dell’intervento verrà dato spazio alle domande da parte del pubblico.\nAlessandro Donadio\, associate partner – EOS MANAGEMENT CONSULTING  \n16.00 EQUILIBRIO. Prima parte.\nTAVOLA ROTONDA: Fast & Well. Una nuova armonia tra l’impresa e le sue persone.\nLe aziende hanno bisogno di un cambio di passo per perseguire una buona performance col ritmo velocissimo di oggi. Ma come? Crediamo che sia indispensabile coniugare risultati e benessere personale per genare valore per le imprese e per le persone. \nIntervengono: \nMaria Grazia Bizzarri\, chief human resource officer – ITALIAONLINE\nAlessandro Camilleri\, group human resources and organization director – GRUPPO HERA\nDeborah Carè\, chief human resource officer – ELICA COOKING\nTiziana Rosato\, HR director – BORSALINO \nCoordina: Elena Passoni\, people development practice leader e associate partner – EOS MANAGEMENT CONSULTING \n16.35 La sfida della sostenibilità: come possono e devono contribuire le imprese?\nEnrico Giovannini\, già ministro delle infrastrutture e della mobilità sostenibili della Repubblica italiana \n17.00 COFFEE BREAK \n17.20 EQUILIBRIO. Seconda parte.\nTAVOLA ROTONDA: Profitable & Ethic. Un nuovo scambio tra l’impresa e il mondo esterno.\nProfitto o etica; prima il profitto e poi l’etica: questi sono errore che ha spesso messo in crisi la naturale relazione di questi due termini. Ma cosa possiamo fare? Ribaltare la relazione gerarchica tra i termini per un’etica organizzativa che si alimenti del profitto per i suoi obiettivi. Non solo organizzativi\, ma sociali. \nIntervengono: \nAndrea Fascetti\, global hr & organization director – DOLCE&GABBANA\nMauro Ghilardi\, chief people & transformation officer – A2A\nFrancesca Manili Pessina\, executive vice president human resources\, organization & facility management – SKY ITALIA\nAmelia Parente\, rare conditions\, governement affairs & transformation director –ROCHE ITALIA\n \nCoordina: Laura Calcaterra\, workforce & performance practice leader e associate partner – EOS MANAGEMENT CONSULTING \n17.55 EXECUTION. Fare\, fare bene. Il Caso Vittoria Assicurazioni.\nI progetti di cambiamento organizzativo sviluppati nel corso degli anni da Vittoria Assicurazioni sono stati la risposta sia all’esigenza di far accadere la strategia\, sia alla necessità di rispondere velocemente alle sollecitazioni del business. Questa sfida non poteva essere vinta senza il coinvolgimento attivo di numerosi interlocutori a diversi livelli\, partecipi attraverso il “fare bene” sia dei risultati che del loro stesso ingaggio e motivazione.\nIntervengono: \n– Matteo Campaner\, direttore generale – VITTORIA ASSICURAZIONI\n– Marco Giannì\, responsabile innovazione agenzie – VITTORIA ASSICURAZIONI\n– Mauro Ghiselli\, AD e partner – EOS MANAGEMENT CONSULTING\n– Carlotta Allasina\, manager – EOS MANAGEMENT CONSULTING \n18.30 Riflessione conclusiva: Quale energia per quali Organizzazioni nel futuro?\nMaurizio Decastri\, founding partner e president – EOS MANAGEMENT CONSULTING \n18.45: CHIUSURA DEI LAVORI E APERITIVO DI NETWORKING \n{/tab} \n{tab Relatori} \nLe testimonianze aziendali: \nMaria Grazia Bizzarri\, chief human resource officer – ITALIAONLINE \nAlessandro Camilleri\, group human resources and organization director – GRUPPO HERA \nMatteo Campaner\, direttore generale – VITTORIA ASSICURAZIONI \nDeborah Carè\, chief human resource officer – ELICA COOKING \nAndrea Fascetti\, global hr & organization director – DOLCE&GABBANA \nMauro Ghilardi\, chief people & transformation officer – A2A \nMarco Giannì\, responsabile innovazione agenzie – VITTORIA ASSICURAZIONI \nEnrico Giovannini\, già ministro delle infrastrutture e della mobilità sostenibili della Repubblica italiana \nAmelia Parente\, rare conditions\, governement affairs & transformation director – ROCHE ITALIA \nFrancesca Manili Pessina\, executive vice president human resources\, organization & facility management – SKY ITALIA \nTiziana Rosato\, HR director – BORSALINO \n  \nCon gli interventi di: \nCarlotta Allasina\, manager – EOS MANAGEMENT CONSULTING \nLaura Calcaterra\, workforce & performance practice leader e associate partner – EOS MANAGEMENT CONSULTING \nMaurizio Decastri\, founding partner e president – EOS MANAGEMENT CONSULTING \nAlessandro Donadio\, associate partner – EOS MANAGEMENT CONSULTING  \nMauro Ghiselli\, managing partner – EOS MANAGEMENT CONSULTING \nStefano Nanni\, consulting solution leader e senior partner – EOS MANAGEMENT CONSULTING  \nElena Passoni\, people development practice leader e associate partner – EOS MANAGEMENT CONSULTING  \n{/tab} \n{tab Format} \nIl convegno si tiene in presenza. Non è prevista la trasmissione online. \nIl convegno si sviluppa dalle ore 14.30 alle ore 19.00. Segue un aperitivo di networking a chiusura dell’evento. \n{/tab} \n{tab Iscrizione} \nIl convegno è rivolto a: Direttori HR\, Responsabili Organizzazione\, Sviluppo e Formazione\, Welfare\,  People and Culture\, Responsabili D&I\, Transformation Manager\, Top Manager. \nL’accesso al convegno è GRATUITO e subordinato alla conferma della segreteria organizzativa. \nPer qualsiasi informazione contattare: Giulia Zicconi – Event & Project Manager- giulia.zicconi@este.it – Tel. 02.91434415 – Mobile: 340.8236039 \n{/tab} \n{tab Gallery fotografica} \n\n\n\n	\n	\n		\n	\n\n	\n\n				\n					\n		\n		\n		\n			\n															\n		\n\n	\n\n\n	\n\n	\n\n				\n					\n		\n		\n		\n			\n															\n		\n\n	\n\n\n	\n\n	\n\n				\n					\n		\n		\n		\n			\n															\n		\n\n	\n\n\n	\n\n	\n\n				\n					\n		\n		\n		\n			\n															\n		\n\n	\n\n\n	\n\n	\n\n				\n					\n		\n		\n		\n			\n															\n		\n\n	\n\n\n	\n\n	\n\n				\n					\n		\n		\n		\n			\n															\n		\n\n	\n\n\n	\n\n	\n\n				\n					\n		\n		\n		\n			\n															\n		\n\n	\n\n\n	\n\n	\n\n				\n					\n		\n		\n		\n			\n															\n		\n\n	\n\n\n	\n\n	\n\n				\n					\n		\n		\n		\n			\n															\n		\n\n	\n\n\n	\n\n	\n\n				\n					\n		\n		\n		\n			\n															\n		\n\n	\n\n\n	\n\n	\n\n				\n					\n		\n		\n		\n			\n															\n		\n\n	\n\n\n	\n\n	\n\n				\n					\n		\n		\n		\n			\n															\n		\n\n	\n\n\n	\n\n	\n\n				\n					\n		\n		\n		\n			\n															\n		\n\n	\n\n\n	\n\n	\n\n				\n					\n		\n		\n		\n			\n															\n		\n\n	\n\n\n	\n\n	\n\n				\n					\n		\n		\n		\n			\n															\n		\n\n	\n\n\n	\n\n	\n\n				\n					\n		\n		\n		\n			\n															\n		\n\n	\n\n\n	\n\n	\n\n				\n					\n		\n		\n		\n			\n															\n		\n\n	\n\n\n	\n\n	\n\n				\n					\n		\n		\n		\n			\n															\n		\n\n	\n\n\n	\n\n	\n\n				\n					\n		\n		\n		\n			\n															\n		\n\n	\n\n\n	\n\n	\n\n				\n					\n		\n		\n		\n			\n															\n		\n\n	\n\n\n	\n\n	\n\n				\n					\n		\n		\n		\n			\n															\n		\n\n	\n\n\n	\n\n	\n\n				\n					\n		\n		\n		\n			\n															\n		\n\n	\n\n\n	\n\n	\n\n				\n					\n		\n		\n		\n			\n															\n		\n\n	\n\n\n	\n\n	\n\n				\n					\n		\n		\n		\n			\n															\n		\n\n	\n\n\n	\n\n	\n\n				\n					\n		\n		\n		\n			\n															\n		\n\n	\n\n\n	\n\n	\n\n				\n					\n		\n		\n		\n			\n															\n		\n\n	\n\n\n	\n\n	\n\n				\n					\n		\n		\n		\n			\n															\n		\n\n	\n\n\n	\n\n	\n\n				\n					\n		\n		\n		\n			\n															\n		\n\n	\n\n\n	\n\n	\n\n				\n					\n		\n		\n		\n			\n															\n		\n\n	\n\n\n	\n\n	\n\n				\n					\n		\n		\n		\n			\n															\n		\n\n	\n\n\n	\n\n	\n\n				\n					\n		\n		\n		\n			\n															\n		\n\n	\n\n\n	\n\n	\n\n				\n					\n		\n		\n		\n			\n															\n		\n\n	\n\n		\n	\n\n	\n	\n	\n\n	\n\n\n{/tab} \n{/tab} \nSponsor
URL:https://www.este.it/incontro/energy-at-work/
LOCATION:Palazzo delle Stelline\, Corso Magenta 61\, Milano\, Lombardia\, Italia\, Italia
ATTACH;FMTTYPE=image/jpeg:https://www.este.it/wp-content/uploads/2022/12/sito.jpg
END:VEVENT
BEGIN:VEVENT
DTSTART;TZID=Europe/Rome:20230216T170000
DTEND;TZID=Europe/Rome:20230216T180000
DTSTAMP:20260420T224609
CREATED:20221221T111410Z
LAST-MODIFIED:20230117T094028Z
UID:10000088-1676566800-1676570400@www.este.it
SUMMARY:Letture Manageriali - Dialogo con Paolo Borghetti\, autore di 'Digital mentor'
DESCRIPTION:Eliminare gli ostacoli alla digitalizzazione attraverso un approccio umanista\nCompetenze digitali e apertura al cambiamento sono la chiave per rimanere competitivi in quest’epoca di continue crisi. E il vero limite per le imprese\, soprattutto per le PMI\, è la difficoltà a reperire persone specializzate per gestire le sfide inedite. Spesso\, il vero gap è comunicativo: molti imprenditori si affidano a fornitori esterni – software house – che non parlano la loro stessa lingua\, con conseguenti ostacoli a digitalizzare l’organizzazione.\nAlle PMI serve il digital mentor\, il manager che mette a disposizione delle aziende il suo know how digitale attraverso un approccio umanista\, capace di valorizzare le persone\, che sono le vere protagoniste della trasformazione. Perché le tecnologie\, da sole\, non bastano: bisogna comprendere il linguaggio informatico\, capire l’importanza dei dati e l’uso che se ne può fare\, e saper scegliere i giusti strumenti. E\, soprattutto\, non bisogna dimenticare che la finalità di ogni progetto è migliorare la vita degli esseri umani. \nACQUISTA IL LIBRO\n{tab Relatore} \nInterviene\nPaolo Borghetti\, imprenditore\, fondatore di FUTURE AGE \nConduce:\nElisa Marasca\, redattrice – ESTE  \n{/tab} \n{tab Iscrizione} \n\n\n\nLa partecipazione al Webinar è GRATUITA\, previa registrazione al sito ESTE. \nL’evento si terrà online\, tramite la piattaforma CISCO WEBEX.  \nGli iscritti riceveranno nell’arco delle 24 ore successive alla propria iscrizione\, la mail con il link e le istruzioni d’accesso alla piattaforma Cisco Webex. \n\n\n\nPer qualsiasi informazione contattare: \nResponsabile del Progetto: Martina Galbiati – Responsabile Eventi e Marketing – martina.galbiati@este.it – Tel. 02.91434403 \n{/tab} \n{/tab}
URL:https://www.este.it/incontro/letture-manageriali-dialogo-con-paolo-borghetti-autore-di-digital-mentor/
LOCATION:ONLINE
CATEGORIES:Webinar
ATTACH;FMTTYPE=image/png:https://www.este.it/wp-content/uploads/2022/12/Banner_Borghetti.png
END:VEVENT
END:VCALENDAR