BEGIN:VCALENDAR
VERSION:2.0
PRODID:-//Edizioni Este - ECPv6.15.11//NONSGML v1.0//EN
CALSCALE:GREGORIAN
METHOD:PUBLISH
X-WR-CALNAME:Edizioni Este
X-ORIGINAL-URL:https://www.este.it
X-WR-CALDESC:Eventi per Edizioni Este
REFRESH-INTERVAL;VALUE=DURATION:PT1H
X-Robots-Tag:noindex
X-PUBLISHED-TTL:PT1H
BEGIN:VTIMEZONE
TZID:Europe/Rome
BEGIN:DAYLIGHT
TZOFFSETFROM:+0100
TZOFFSETTO:+0200
TZNAME:CEST
DTSTART:20210328T010000
END:DAYLIGHT
BEGIN:STANDARD
TZOFFSETFROM:+0200
TZOFFSETTO:+0100
TZNAME:CET
DTSTART:20211031T010000
END:STANDARD
BEGIN:DAYLIGHT
TZOFFSETFROM:+0100
TZOFFSETTO:+0200
TZNAME:CEST
DTSTART:20220327T010000
END:DAYLIGHT
BEGIN:STANDARD
TZOFFSETFROM:+0200
TZOFFSETTO:+0100
TZNAME:CET
DTSTART:20221030T010000
END:STANDARD
BEGIN:DAYLIGHT
TZOFFSETFROM:+0100
TZOFFSETTO:+0200
TZNAME:CEST
DTSTART:20230326T010000
END:DAYLIGHT
BEGIN:STANDARD
TZOFFSETFROM:+0200
TZOFFSETTO:+0100
TZNAME:CET
DTSTART:20231029T010000
END:STANDARD
END:VTIMEZONE
BEGIN:VEVENT
DTSTART;TZID=Europe/Rome:20220607T143000
DTEND;TZID=Europe/Rome:20220607T180000
DTSTAMP:20260421T123508
CREATED:20220331T085529Z
LAST-MODIFIED:20220526T184144Z
UID:10000173-1654612200-1654624800@www.este.it
SUMMARY:LEZIONE - L’organizzazione reale sotto la punta dell’iceberg dell’organizzazione formale
DESCRIPTION:Comprendere e sviluppare la società dentro le organizzazioni vitali. \nOgni organizzazione contiene\, oltre all’organizzazione formale\, anche diversi strati coesistenti di sistemi di regolazione sociale o tecnica: la cultura\, i ruoli lavorativi agiti\, il sistema professionale\, le comunità di pratica\, le tecnologie\, “il posto di lavoro che c’è dentro le persone” e molti altri. La burocrazia weberiana e il taylor-fordismo volevano tenerli fuori dalla porta delle fabbriche e degli uffici\, ma la crescente turbolenza dei mercati\, delle tecnologie e di sistemi sociali li hanno resi indispensabili. È la “Società” che entra nelle organizzazioni. Se essi non sono convergenti\, l’organizzazione diventa una arena di conflitti che il management cerca di regolare con una crescente burocrazia e creando practices scollegate affidate alle responsabilità di silos funzionali (IT\, HR\, Finance\, Education\, Corporate communication etc). L’organizzazione reale si analizza e si progetta in modo integrato con la partecipazione delle persone: questa è la principale proposta scientifica che verrà approfondita nel corso della lezione. \nLa lezione si tiene esclusivamente online tramite piattaforma Cisco Webex\, dalle 14.30 alle 18.00. \n{tab Maestro} \nFEDERICO BUTERA \nFederico Butera\, Professore Emerito di Scienze dell’Organizzazione. Già Ordinario alle Università di Milano Bicocca e di Roma Sapienza. È Presidente della Fondazione Irso e Direttore della rivista Studi Organizzativi. È autore di 37 libri e di oltre 220 articoli sui temi dell’organizzazione\, del lavoro e delle professioni. Il suo penultimo libro è Organizzazione e Società. Innovare le organizzazioni dell’Italia che vogliamo\, Marsilio 2020\, pagg 460 \n  \n  \n  \n{/tab} \n{tab Iscrizione} \nLa lezione ha un costo di partecipazione di Euro 250\,00+iva. Le iscrizioni chiudono il giorno prima della lezione alle ore 12.00.\nLa lezione si tiene esclusivamente online tramite piattaforma Cisco Webex\, dalle 14.30 alle 18.00. \nMODALITA’ DI PAGAMENTO\nSi accettano pagamenti tramite paypal/carta di credito.\nI pagamenti tramite bonifico sono accettati solo nel caso di iscrizioni multiple in cui la somma da versare sia superiore ai 700 euro+iva. Il pagamento deve arrivare entro il giorno prima della lezione.\nPer effettuare iscrizioni multiple e pagare con bonifico richiedi il modulo di iscrizione in pdf a raffaella.rapisardi@este.it \nPer qualsiasi informazione contattare: \nRaffaella Rapisardi – Event & Project Manager – raffaella.rapisardi@este.it – Tel. 02.91434400 – Mobile: 349.3633278 \n{/tab} \n{tab Tutte le Lezioni} \nONLINE\, 7 Giugno 2022 –  L’organizzazione reale sotto la punta dell’iceberg dell’organizzazione formale di Federico Butera \nONLINE\, 21 Giugno 2022 – Quel che resta (e quel che cambia) della leadership. Un’analisi tra passato\, presente e futuro di Gian Piero Quaglino \nONLINE\, 30 Giugno 2022 – Dalla comunicazione alla conversazione di Giuseppe Varchetta \nONLINE\, 20 Settembre 2022 –  Organizzazioni sull’orlo di una crisi di identità di Pier Luigi Celli \nONLINE\, 4 Ottobre 2022 – Verso la formazione come learning experience: il ruolo delle non cognitive o socio-emotional skills di Giuditta Alessandrini \nONLINE\, 20 Ottobre 2022 – La gestione del cambiamento di Antonio Giangreco \n{/tab}
URL:https://www.este.it/incontro/lezione-organizzazione-reale-sotto-punta-dell-iceberg-dell-organizzazione-formale/
LOCATION:ONLINE
CATEGORIES:Seminario
ATTACH;FMTTYPE=image/jpeg:https://www.este.it/wp-content/uploads/2022/03/LaScuola_SO_lezioni_Butera.jpg
END:VEVENT
END:VCALENDAR