BEGIN:VCALENDAR
VERSION:2.0
PRODID:-//Edizioni Este - ECPv6.15.11//NONSGML v1.0//EN
CALSCALE:GREGORIAN
METHOD:PUBLISH
X-ORIGINAL-URL:https://www.este.it
X-WR-CALDESC:Eventi per Edizioni Este
REFRESH-INTERVAL;VALUE=DURATION:PT1H
X-Robots-Tag:noindex
X-PUBLISHED-TTL:PT1H
BEGIN:VTIMEZONE
TZID:Europe/Rome
BEGIN:DAYLIGHT
TZOFFSETFROM:+0100
TZOFFSETTO:+0200
TZNAME:CEST
DTSTART:20210328T010000
END:DAYLIGHT
BEGIN:STANDARD
TZOFFSETFROM:+0200
TZOFFSETTO:+0100
TZNAME:CET
DTSTART:20211031T010000
END:STANDARD
BEGIN:DAYLIGHT
TZOFFSETFROM:+0100
TZOFFSETTO:+0200
TZNAME:CEST
DTSTART:20220327T010000
END:DAYLIGHT
BEGIN:STANDARD
TZOFFSETFROM:+0200
TZOFFSETTO:+0100
TZNAME:CET
DTSTART:20221030T010000
END:STANDARD
BEGIN:DAYLIGHT
TZOFFSETFROM:+0100
TZOFFSETTO:+0200
TZNAME:CEST
DTSTART:20230326T010000
END:DAYLIGHT
BEGIN:STANDARD
TZOFFSETFROM:+0200
TZOFFSETTO:+0100
TZNAME:CET
DTSTART:20231029T010000
END:STANDARD
END:VTIMEZONE
BEGIN:VTIMEZONE
TZID:America/Los_Angeles
BEGIN:DAYLIGHT
TZOFFSETFROM:-0800
TZOFFSETTO:-0700
TZNAME:PDT
DTSTART:20210314T100000
END:DAYLIGHT
BEGIN:STANDARD
TZOFFSETFROM:-0700
TZOFFSETTO:-0800
TZNAME:PST
DTSTART:20211107T090000
END:STANDARD
BEGIN:DAYLIGHT
TZOFFSETFROM:-0800
TZOFFSETTO:-0700
TZNAME:PDT
DTSTART:20220313T100000
END:DAYLIGHT
BEGIN:STANDARD
TZOFFSETFROM:-0700
TZOFFSETTO:-0800
TZNAME:PST
DTSTART:20221106T090000
END:STANDARD
BEGIN:DAYLIGHT
TZOFFSETFROM:-0800
TZOFFSETTO:-0700
TZNAME:PDT
DTSTART:20230312T100000
END:DAYLIGHT
BEGIN:STANDARD
TZOFFSETFROM:-0700
TZOFFSETTO:-0800
TZNAME:PST
DTSTART:20231105T090000
END:STANDARD
END:VTIMEZONE
BEGIN:VEVENT
DTSTART;TZID=Europe/Rome:20220330T120000
DTEND;TZID=Europe/Rome:20220330T130000
DTSTAMP:20260421T071803
CREATED:20220308T141420Z
LAST-MODIFIED:20220404T100810Z
UID:10000159-1648641600-1648645200@www.este.it
SUMMARY:Webinar -  Progettare l’azienda paperless: il primo passo verso la competitività
DESCRIPTION:Migliorare produttività\, tagliare costi e facilitare nuove modalità di organizzazione del lavoro come lo smart working hanno un comune punto di partenza: la dematerializzazione dei documenti. La creazione di una azienda paperless è un passaggio obbligato per concretizzare la trasformazione digitale ed i vantaggi che può portare alle imprese.\nSe il lavoro non è più vincolato ad un luogo\, anche i documenti devono abbandonare la loro dimensione fisica in modo da essere accessibili ovunque ed in qualsiasi momento.\nLa digitalizzazione di documenti e processi ne velocizza gestione e condivisione e riduce i rischi di errore legati alle operazioni manuali.\nL’azienda paperless presuppone però un salto culturale che richiede una attenta progettazione: non è infatti sufficiente riversare in formato digitale i documenti cartacei. La vera innovazione consiste nel gestire tutta la vita del documento (creazione\, gestione\, firma\, conservazione) senza che abbia mai una forma cartacea\, ripensando in ottica digitale tutti i processi aziendali. \nEcco che riprogettare l’azienda in ottica paperless si configura come un’attività altamente strategica all’interno di un percorso di digital transformation che abilita non solo modalità di collaborazione innovative ma anche nuovi servizi da offrire ai propri clienti. \nLa gestione paperless può riguardare ogni ambito dell’azienda: i contratti commerciali\, le documentazioni dell’ufficio acquisti e della direzione del personale. \nObiettivo del webinar sarà approfondire i vantaggi dell’approccio paperless analizzando flussi completamente dematerializzati all’interno dei diversi dipartimenti. \n{tab Relatori} \nInterviene: \nPaolo Grotto\, socio amministratore e direttore commerciale – ARKET  \nModera:\nChiara Lupi\, direttrice editoriale – ESTE \n{/tab} \n{tab Format}\nIl webinar si tiene online tramite piattaforma Cisco Webex \n{/tab} \n{tab Iscrizione} \n\n\n\nIl webinar è rivolto a: Responsabili Risorse Umane\, Responsabili Commerciali e Responsabili Acquisti \nLa partecipazione al Webinar è GRATUITA\, previa registrazione al sito ESTE e conferma da parte della segreteria organizzativa. La segreteria organizzativa si riserva la facoltà di convalidare le iscrizioni ricevute. \nGli iscritti riceveranno nell’arco delle 24 ore successive alla propria iscrizione\, la mail con il link e le istruzioni d’accesso alla piattaforma Cisco Webex. \nSCARICA IL MODULO DI ISCRIZIONE IN PDF \n\n\n\nPer qualsiasi informazione contattare:\nGiulia Zicconi – Event & Project Manager- giulia.zicconi@este.it – Tel. 02.91434415 – Mobile: 340.8236039 \n{/tab} \n{tab Area Download} \nSCARICA IL REPORT DEL WEBINAR \nDi seguito è disponibile la presentazione del relatore del webinar in formato PDF:  \nPaolo Grotto\, socio amministratore e direttore commerciale – ARKET \n{/tab} \n{/tab} \nLo Sponsor
URL:https://www.este.it/incontro/webinar-progettare-azienda-paperless/
LOCATION:ONLINE
ATTACH;FMTTYPE=image/png:https://www.este.it/wp-content/uploads/2022/03/banner1.png
END:VEVENT
BEGIN:VEVENT
DTSTART;TZID=America/Los_Angeles:20220401T120000
DTEND;TZID=America/Los_Angeles:20220401T130000
DTSTAMP:20260421T071803
CREATED:20220329T164311Z
LAST-MODIFIED:20220331T122438Z
UID:10000170-1648814400-1648818000@www.este.it
SUMMARY:PdM TALK - Le grandi scuole
DESCRIPTION:{tab Spunti di dibattito} \nCultura e formazione determinano la qualità della classe dirigente. Oggi\, a tutta evidenza\, mancano le grandi scuole che perseguano questo scopo. L’assenza delle scuole di partito\, ad esempio\, ha contribuito all’impreparazione della nostra classe politica. Nelle imprese\, imprevedibilità e ridefinizione di scenari competitivi richiedono competenze che vanno ben oltre i temi legati all’innovazione tecnologica: ai manager è richiesta una maggiore competenza organizzativa e di progettazione dei processi\, in un contesto dove i confini del lavoro si sono estesi a campi multifunzionali. Quali le competenze da coltivare e promuovere? Dove ci si può formare? Chi sono i nuovi maestri? \n{/tab} \n{tab Partecipanti} \nMichelangelo Ferraro\, ceo – ISAPIENS \nSalvatore Lazzara\, responsabile ufficio formazione – AGENZIA DELLE ENTRATE \nGian Piero Quaglino\, Accademico ed esperto di formazione\, già professore ordinario di psicologia della formazione – IPAP – Istituto di psicologia analitica \nConducono Dario Colombo\, caporedattore – Parole di Management e Chiara Lupi\, direttrice editoriale – ESTE \n{/tab} \n{tab Modalità di partecipazione} \nPdM Talk si svolge online e la partecipazione è GRATUITA.\nNon occorre iscriversi: lo streaming è liberamente accessibile dalla home page del quotidiano online www.paroledimanagement.it a partire dalle ore 12.00. \nÈ possibile inviare domande e commenti durante la diretta al numero 342.5551916. \n{/tab} \n{tab Contatti} \nPer informazioni sul progetto:\nDario Colombo – direttore responsabile di Parole di Management – dario.colombo@este.it – Tel. 02 91434412 \n{/tab}
URL:https://www.este.it/incontro/pdm-talk-le-grandi-scuole/
LOCATION:ONLINE
CATEGORIES:PdM Talk
ATTACH;FMTTYPE=image/jpeg:https://www.este.it/wp-content/uploads/2021/05/Pdm_Talk_banner_Tavola-disegno-1.jpg
END:VEVENT
END:VCALENDAR