BEGIN:VCALENDAR
VERSION:2.0
PRODID:-//Edizioni Este - ECPv6.15.11//NONSGML v1.0//EN
CALSCALE:GREGORIAN
METHOD:PUBLISH
X-ORIGINAL-URL:https://www.este.it
X-WR-CALDESC:Eventi per Edizioni Este
REFRESH-INTERVAL;VALUE=DURATION:PT1H
X-Robots-Tag:noindex
X-PUBLISHED-TTL:PT1H
BEGIN:VTIMEZONE
TZID:America/Los_Angeles
BEGIN:DAYLIGHT
TZOFFSETFROM:-0800
TZOFFSETTO:-0700
TZNAME:PDT
DTSTART:20210314T100000
END:DAYLIGHT
BEGIN:STANDARD
TZOFFSETFROM:-0700
TZOFFSETTO:-0800
TZNAME:PST
DTSTART:20211107T090000
END:STANDARD
BEGIN:DAYLIGHT
TZOFFSETFROM:-0800
TZOFFSETTO:-0700
TZNAME:PDT
DTSTART:20220313T100000
END:DAYLIGHT
BEGIN:STANDARD
TZOFFSETFROM:-0700
TZOFFSETTO:-0800
TZNAME:PST
DTSTART:20221106T090000
END:STANDARD
BEGIN:DAYLIGHT
TZOFFSETFROM:-0800
TZOFFSETTO:-0700
TZNAME:PDT
DTSTART:20230312T100000
END:DAYLIGHT
BEGIN:STANDARD
TZOFFSETFROM:-0700
TZOFFSETTO:-0800
TZNAME:PST
DTSTART:20231105T090000
END:STANDARD
END:VTIMEZONE
BEGIN:VEVENT
DTSTART;TZID=America/Los_Angeles:20220304T120000
DTEND;TZID=America/Los_Angeles:20220304T130000
DTSTAMP:20260420T224619
CREATED:20220302T111139Z
LAST-MODIFIED:20220303T165118Z
UID:10000165-1646395200-1646398800@www.este.it
SUMMARY:PdM TALK - Il lavoro e la manifattura: la Quarta Rivoluzione Industriale in Emilia Romagna
DESCRIPTION:{tab Spunti di dibattito} \nParte dall’Emilia Romagna il viaggio di FabbricaFuturo alla scoperta delle eccellenze del Paese. La nostra vocazione manifatturiera trova in Emilia una delle massime espressioni: alla maturità delle imprese e dei distretti si associano le grandi forze che animano la manifattura nel contesto globale: la flessibilità\, la complessità e la capacità di far convivere il capitalismo familiare con l’accesso ad altri capitali. L’Emilia è seconda regione in Europa per specializzazione manifatturiera e rappresenta un laboratorio che consente di monitorare l’evoluzione della regione all’interno di un processo di globalizzazione dove molte questioni rimangono aperte: l’intelligenza delle macchine\, il futuro del lavoro\, la creazione di ecosistemi. Partiremo dal libro di Lorenzo Ciapetti\, Una rivoluzione discreta\, per analizzare un’evoluzione che\, partendo dall’Emilia può aiutarci a comprendere la rivoluzione in atto. \n{/tab} \n{tab Partecipanti} \nFabio Cappellozza\, presidente – CONSIDI \nLorenzo Ciapetti\, autore di “Una rivoluzione discreta – La fabbrica e l’ecosistema. Viaggio nella Quarta Rivoluzione industriale in Emilia-Romagna” e direttore del centro di ricerche sullo sviluppo locale Antares – UNIVERSITA’ DI BOLOGNA \nConducono Dario Colombo\, caporedattore – Parole di Management e Chiara Lupi\, direttrice editoriale – ESTE \n{/tab} \n{tab Modalità di partecipazione} \nPdM Talk si svolge online e la partecipazione è GRATUITA.\nNon occorre iscriversi: lo streaming è liberamente accessibile dalla home page del quotidiano online www.paroledimanagement.it a partire dalle ore 12.00. \nÈ possibile inviare domande e commenti durante la diretta al numero 342.5551916. \n{/tab} \n{tab Contatti} \nPer informazioni sul progetto:\nDario Colombo – direttore responsabile di Parole di Management – dario.colombo@este.it – Tel. 02 91434412 \n{/tab}
URL:https://www.este.it/incontro/pdm-talk-il-lavoro-e-la-manifattura-la-quarta-rivoluzione-industriale-in-emilia-romagna/
LOCATION:ONLINE
CATEGORIES:PdM Talk
ATTACH;FMTTYPE=image/jpeg:https://www.este.it/wp-content/uploads/2021/05/Pdm_Talk_banner_Tavola-disegno-1.jpg
END:VEVENT
END:VCALENDAR