BEGIN:VCALENDAR
VERSION:2.0
PRODID:-//Edizioni Este - ECPv6.15.11//NONSGML v1.0//EN
CALSCALE:GREGORIAN
METHOD:PUBLISH
X-WR-CALNAME:Edizioni Este
X-ORIGINAL-URL:https://www.este.it
X-WR-CALDESC:Eventi per Edizioni Este
REFRESH-INTERVAL;VALUE=DURATION:PT1H
X-Robots-Tag:noindex
X-PUBLISHED-TTL:PT1H
BEGIN:VTIMEZONE
TZID:Europe/Rome
BEGIN:DAYLIGHT
TZOFFSETFROM:+0100
TZOFFSETTO:+0200
TZNAME:CEST
DTSTART:20210328T010000
END:DAYLIGHT
BEGIN:STANDARD
TZOFFSETFROM:+0200
TZOFFSETTO:+0100
TZNAME:CET
DTSTART:20211031T010000
END:STANDARD
BEGIN:DAYLIGHT
TZOFFSETFROM:+0100
TZOFFSETTO:+0200
TZNAME:CEST
DTSTART:20220327T010000
END:DAYLIGHT
BEGIN:STANDARD
TZOFFSETFROM:+0200
TZOFFSETTO:+0100
TZNAME:CET
DTSTART:20221030T010000
END:STANDARD
BEGIN:DAYLIGHT
TZOFFSETFROM:+0100
TZOFFSETTO:+0200
TZNAME:CEST
DTSTART:20230326T010000
END:DAYLIGHT
BEGIN:STANDARD
TZOFFSETFROM:+0200
TZOFFSETTO:+0100
TZNAME:CET
DTSTART:20231029T010000
END:STANDARD
END:VTIMEZONE
BEGIN:VTIMEZONE
TZID:America/Los_Angeles
BEGIN:DAYLIGHT
TZOFFSETFROM:-0800
TZOFFSETTO:-0700
TZNAME:PDT
DTSTART:20210314T100000
END:DAYLIGHT
BEGIN:STANDARD
TZOFFSETFROM:-0700
TZOFFSETTO:-0800
TZNAME:PST
DTSTART:20211107T090000
END:STANDARD
BEGIN:DAYLIGHT
TZOFFSETFROM:-0800
TZOFFSETTO:-0700
TZNAME:PDT
DTSTART:20220313T100000
END:DAYLIGHT
BEGIN:STANDARD
TZOFFSETFROM:-0700
TZOFFSETTO:-0800
TZNAME:PST
DTSTART:20221106T090000
END:STANDARD
BEGIN:DAYLIGHT
TZOFFSETFROM:-0800
TZOFFSETTO:-0700
TZNAME:PDT
DTSTART:20230312T100000
END:DAYLIGHT
BEGIN:STANDARD
TZOFFSETFROM:-0700
TZOFFSETTO:-0800
TZNAME:PST
DTSTART:20231105T090000
END:STANDARD
END:VTIMEZONE
BEGIN:VEVENT
DTSTART;TZID=Europe/Rome:20220223T120000
DTEND;TZID=Europe/Rome:20220223T130000
DTSTAMP:20260420T033849
CREATED:20220201T100323Z
LAST-MODIFIED:20220401T075934Z
UID:10000009-1645617600-1645621200@www.este.it
SUMMARY:Webinar - Employee Experience: la sfida è progettarla come un servizio
DESCRIPTION:È tempo di ripensare l’employee experience ma la sua riprogettazione richiede un cambio di paradigma: la sfida passa per l’adozione delle medesime logiche con le quali si progetta un prodotto o un servizio da erogare. Una nuova sfida per l’Hr che oggi è chiamato ad attingere ad altre discipline per creare ambienti di lavoro che contrastino fenomeni come la great resignation. Progettare ambienti dove le persone\, a ogni età\, identifichino dimensioni di senso\, aderenze valoriali e condivisione all’interno di contesti che favoriscano maggiore responsabilità\, reattività e capacità decisionali richiede\, da parte della direzione del personale\, l’adozione di approcci mai sperimentati prima. Mutuare ad esempio le dinamiche di progettazione della user experience può essere un punto di partenza: la user experience rappresenta un tassello fondamentale per accompagnare le persone a muoversi con maggiore efficacia all’interno di ogni ambiente e per semplificare le esperienze aumentando soddisfazione e produttività. Occorre dunque tenere conto di nuovi fattori per garantire una employee eXperience autentica\, gratificante e portatrice di significati\, che consenta di applicare capacità decisionali alle competenze. Metodologie Agile applicate all’hr incentivano collaborazione\, trasparenza e motivazione ma il vero cambio di paradigma per l’Hr è considerare l’employee experience un servizio\, la cui progettazione richiede nuove logiche. \nObiettivo del webinar sarà approfondire come progettare employee experience attingendo a dinamiche dello sviluppo di prodotti e servizi e quali le macro aree da sviluppare per una eccellente EX. \n{tab Relatori} \nInterviene: \nAlessandro Raguseo\, founder & ceo – REVERSE \nModera:\nChiara Lupi\, direttrice editoriale – ESTE \n{/tab} \n{tab Format}\nIl webinar si tiene online tramite piattaforma Cisco Webex \n{/tab} \n{tab Iscrizione} \n\n\n\nIl webinar è rivolto ai Responsabili delle Risorse Umane.  \nLa partecipazione al Webinar è GRATUITA\, previa registrazione al sito ESTE e conferma da parte della segreteria organizzativa. La segreteria organizzativa si riserva la facoltà di convalidare le iscrizioni ricevute. \nGli iscritti riceveranno nell’arco delle 24 ore successive alla propria iscrizione\, la mail con il link e le istruzioni d’accesso alla piattaforma Cisco Webex. \nSCARICA IL MODULO D'ISCRIZIONE IN PDF\n\n\n\nPer qualsiasi informazione contattare: \nResponsabile del Progetto: Giulia Zicconi – Event & Project Manager- giulia.zicconi@este.it – Tel. 02.91434415 – Mobile: 340.8236039 \n{/tab} \n{tab Area Download} \nSCARICA IL REPORT DEL WEBINAR \n{/tab} \n{/tab} \nLo Sponsor
URL:https://www.este.it/incontro/webinar-employee-experience/
LOCATION:ONLINE
CATEGORIES:Webinar
ATTACH;FMTTYPE=image/png:https://www.este.it/wp-content/uploads/2022/02/banner_02.png
END:VEVENT
BEGIN:VEVENT
DTSTART;TZID=America/Los_Angeles:20220225T120000
DTEND;TZID=America/Los_Angeles:20220225T130000
DTSTAMP:20260420T033849
CREATED:20220223T133327Z
LAST-MODIFIED:20220224T143543Z
UID:10000164-1645790400-1645794000@www.este.it
SUMMARY:PdM TALK - Il futuro dell’industria si progetta con i dati
DESCRIPTION:{tab Spunti di dibattito} \nTensioni geopolitiche\, crisi energetiche aumento dei costi delle materie prime\, inflazione: molte sono le incertezze che pesano sulla nostra industria. Se il contesto è incerto e difficilmente prevedibile diventa ancora più importante mettere in sicurezza il perimetro della propria organizzazione. Come? Adottando un approccio data driven: solo analizzando e valorizzando i dati prodotti all’interno della propria filiera sarà possibile progettare lo sviluppo futuro. La completa visibilità della filiera diventa la più efficace assicurazione contro l’imprevedibilità. In tutti i settori. \n{/tab} \n{tab Partecipanti} \nAlessandro Conti\, country manager Italy – CONNECTING FOOD \nPaola Pomi\, ceo – SINFO ONE \nConducono Dario Colombo\, caporedattore – Parole di Management e Chiara Lupi\, direttrice editoriale – ESTE \n{/tab} \n{tab Modalità di partecipazione} \nPdM Talk si svolge online e la partecipazione è GRATUITA.\nNon occorre iscriversi: lo streaming è liberamente accessibile dalla home page del quotidiano online www.paroledimanagement.it a partire dalle ore 12.00. \nÈ possibile inviare domande e commenti durante la diretta al numero 342.5551916. \n{/tab} \n{tab Contatti} \nPer informazioni sul progetto:\nDario Colombo – direttore responsabile di Parole di Management – dario.colombo@este.it – Tel. 02 91434412 \n{/tab}
URL:https://www.este.it/incontro/pdm-talk-il-futuro-dellindustria-si-progetta-con-i-dati/
LOCATION:ONLINE
CATEGORIES:PdM Talk
ATTACH;FMTTYPE=image/jpeg:https://www.este.it/wp-content/uploads/2021/05/Pdm_Talk_banner_Tavola-disegno-1.jpg
END:VEVENT
END:VCALENDAR