BEGIN:VCALENDAR
VERSION:2.0
PRODID:-//Edizioni Este - ECPv6.15.11//NONSGML v1.0//EN
CALSCALE:GREGORIAN
METHOD:PUBLISH
X-ORIGINAL-URL:https://www.este.it
X-WR-CALDESC:Eventi per Edizioni Este
REFRESH-INTERVAL;VALUE=DURATION:PT1H
X-Robots-Tag:noindex
X-PUBLISHED-TTL:PT1H
BEGIN:VTIMEZONE
TZID:America/Los_Angeles
BEGIN:DAYLIGHT
TZOFFSETFROM:-0800
TZOFFSETTO:-0700
TZNAME:PDT
DTSTART:20210314T100000
END:DAYLIGHT
BEGIN:STANDARD
TZOFFSETFROM:-0700
TZOFFSETTO:-0800
TZNAME:PST
DTSTART:20211107T090000
END:STANDARD
BEGIN:DAYLIGHT
TZOFFSETFROM:-0800
TZOFFSETTO:-0700
TZNAME:PDT
DTSTART:20220313T100000
END:DAYLIGHT
BEGIN:STANDARD
TZOFFSETFROM:-0700
TZOFFSETTO:-0800
TZNAME:PST
DTSTART:20221106T090000
END:STANDARD
BEGIN:DAYLIGHT
TZOFFSETFROM:-0800
TZOFFSETTO:-0700
TZNAME:PDT
DTSTART:20230312T100000
END:DAYLIGHT
BEGIN:STANDARD
TZOFFSETFROM:-0700
TZOFFSETTO:-0800
TZNAME:PST
DTSTART:20231105T090000
END:STANDARD
END:VTIMEZONE
BEGIN:VEVENT
DTSTART;TZID=America/Los_Angeles:20220211T120000
DTEND;TZID=America/Los_Angeles:20220211T130000
DTSTAMP:20260420T063336
CREATED:20220209T081405Z
LAST-MODIFIED:20220210T113308Z
UID:10000161-1644580800-1644584400@www.este.it
SUMMARY:PdM TALK - L’economia dipende dalla scienza?
DESCRIPTION:{tab Spunti di dibattito} \nCalano i contagi e\, lentamente\, si riducono le restrizioni. Ma non basta vincere statisticamente la battaglia contro il Covid per considerarsi al sicuro. Le pandemie fanno parte di cicli inevitabili e solo il nostro comportamento può modificare il corso della storia\, scrive il Professor Bassetti nel suo ultimo libro. Le nostre scelte condizioneranno le prossime generazioni ma quali le conseguenze dell’epidemia sull’economia reale? Il Pil è rimbalzato verso l’alto e ora ci dobbiamo confrontare con una spinta inflattiva che getta molte ombre sulla ripresa. \n{/tab} \n{tab Partecipanti} \nMatteo Bassetti\, infettivologo\, professore ordinario di malattie infettive – UNIVERSITA’ DI GENOVA e direttore del reparto malattie infettive – OSPEDALE SAN MARTINO DI GENOVA \nStefania Brancaccio\, vice presidente – COELMO\n \nNicola Costantino\, professore ordinario professore ordinario di ingegneria economico gestionale\, già rettore – POLITECNICO DI BARI \nConducono Dario Colombo\, caporedattore – Parole di Management e Chiara Lupi\, direttrice editoriale – ESTE \n{/tab} \n{tab Modalità di partecipazione} \nPdM Talk si svolge online e la partecipazione è GRATUITA.\nNon occorre iscriversi: lo streaming è liberamente accessibile dalla home page del quotidiano online www.paroledimanagement.it a partire dalle ore 12.00. \nÈ possibile inviare domande e commenti durante la diretta al numero 342.5551916. \n{/tab} \n{tab Contatti} \nPer informazioni sul progetto:\nDario Colombo – direttore responsabile di Parole di Management – dario.colombo@este.it – Tel. 02 91434412 \n{/tab}
URL:https://www.este.it/incontro/pdm-talk-leconomia-dipende-dalla-scienza/
LOCATION:ONLINE
CATEGORIES:PdM Talk
ATTACH;FMTTYPE=image/jpeg:https://www.este.it/wp-content/uploads/2021/05/Pdm_Talk_banner_Tavola-disegno-1.jpg
END:VEVENT
END:VCALENDAR