BEGIN:VCALENDAR
VERSION:2.0
PRODID:-//Edizioni Este - ECPv6.15.11//NONSGML v1.0//EN
CALSCALE:GREGORIAN
METHOD:PUBLISH
X-WR-CALNAME:Edizioni Este
X-ORIGINAL-URL:https://www.este.it
X-WR-CALDESC:Eventi per Edizioni Este
REFRESH-INTERVAL;VALUE=DURATION:PT1H
X-Robots-Tag:noindex
X-PUBLISHED-TTL:PT1H
BEGIN:VTIMEZONE
TZID:America/Los_Angeles
BEGIN:DAYLIGHT
TZOFFSETFROM:-0800
TZOFFSETTO:-0700
TZNAME:PDT
DTSTART:20200308T100000
END:DAYLIGHT
BEGIN:STANDARD
TZOFFSETFROM:-0700
TZOFFSETTO:-0800
TZNAME:PST
DTSTART:20201101T090000
END:STANDARD
BEGIN:DAYLIGHT
TZOFFSETFROM:-0800
TZOFFSETTO:-0700
TZNAME:PDT
DTSTART:20210314T100000
END:DAYLIGHT
BEGIN:STANDARD
TZOFFSETFROM:-0700
TZOFFSETTO:-0800
TZNAME:PST
DTSTART:20211107T090000
END:STANDARD
BEGIN:DAYLIGHT
TZOFFSETFROM:-0800
TZOFFSETTO:-0700
TZNAME:PDT
DTSTART:20220313T100000
END:DAYLIGHT
BEGIN:STANDARD
TZOFFSETFROM:-0700
TZOFFSETTO:-0800
TZNAME:PST
DTSTART:20221106T090000
END:STANDARD
END:VTIMEZONE
BEGIN:VEVENT
DTSTART;TZID=America/Los_Angeles:20211210T120000
DTEND;TZID=America/Los_Angeles:20211210T130000
DTSTAMP:20260421T113944
CREATED:20211206T135949Z
LAST-MODIFIED:20211209T082135Z
UID:10000023-1639137600-1639141200@www.este.it
SUMMARY:PdM TALK - Gestire la sostenibilità
DESCRIPTION:{tab} \n{tab Spunti di dibattito} \nLa parte più cospicua delle risorse del nostro Pnrr è dedicato a rivoluzione verde e transizione ecologica. La Cop26\, la conferenza delle Nazioni Unite sui cambiamenti climatici che si è conclusa lo scorso 12 novembre a Glasgow\, si è posta tra gli obiettivi di azzerare le emissioni nette entro il 2050 e contenere l’aumento della temperatura entro uno 1\,5 gradi. Riduzione dell’utilizzo di carbone\, contenimento della deforestazione e incremento nell’uso delle energie rinnovabili sono gli interventi più urgenti da perseguire.\nMa rivoluzioni e transizioni non sono mai indolori. Le risorse in campo sono cospicue\, tuttavia riconvertire interi settori industriali -pensiamo all’impatto del motore elettrico nell’automotive- richiede risorse capaci di cogliere le opportunità dell’innovazione tecnologica e una notevole capacità progettuale in grado di assorbire le differenze di lavorazioni e di competenze coinvolte. Come si stanno muovendo le nostre imprese? \n{/tab} \n{tab Partecipanti} \nGiuseppe Bruni\, presidente – NETWORK ITALIANO DELLE SOCIETA’ BENEFIT \nGiovanna Montiglio\, responsabile ESG – OMB SALERI \nAlberto Sogni\, responsabile energia – CLUST-ER GREENTECH – ENERGIA E SVILUPPO SOSTENIBILE DELL’EMILIA ROMAGNA \nConducono Dario Colombo\, caporedattore – Parole di Management e Chiara Lupi\, direttrice editoriale – ESTE \n{/tab} \n{tab Modalità di partecipazione} \nPdM Talk si svolge online e la partecipazione è GRATUITA.\nNon occorre iscriversi: lo streaming è liberamente accessibile dalla home page del quotidiano online www.paroledimanagement.it a partire dalle ore 12.00. \nÈ possibile inviare domande e commenti durante la diretta al numero 342.5551916. \n{/tab} \n{tab Contatti} \nPer informazioni sul progetto:\nDario Colombo – direttore responsabile di Parole di Management – dario.colombo@este.it – Tel. 02 91434412 \n{/tab}
URL:https://www.este.it/incontro/pdm-talk-gestire-la-sostenibilita/
LOCATION:ONLINE
CATEGORIES:PdM Talk
ATTACH;FMTTYPE=image/jpeg:https://www.este.it/wp-content/uploads/2021/05/Pdm_Talk_banner_Tavola-disegno-1.jpg
END:VEVENT
END:VCALENDAR