BEGIN:VCALENDAR
VERSION:2.0
PRODID:-//Edizioni Este - ECPv6.15.11//NONSGML v1.0//EN
CALSCALE:GREGORIAN
METHOD:PUBLISH
X-WR-CALNAME:Edizioni Este
X-ORIGINAL-URL:https://www.este.it
X-WR-CALDESC:Eventi per Edizioni Este
REFRESH-INTERVAL;VALUE=DURATION:PT1H
X-Robots-Tag:noindex
X-PUBLISHED-TTL:PT1H
BEGIN:VTIMEZONE
TZID:Europe/Rome
BEGIN:DAYLIGHT
TZOFFSETFROM:+0100
TZOFFSETTO:+0200
TZNAME:CEST
DTSTART:20200329T010000
END:DAYLIGHT
BEGIN:STANDARD
TZOFFSETFROM:+0200
TZOFFSETTO:+0100
TZNAME:CET
DTSTART:20201025T010000
END:STANDARD
BEGIN:DAYLIGHT
TZOFFSETFROM:+0100
TZOFFSETTO:+0200
TZNAME:CEST
DTSTART:20210328T010000
END:DAYLIGHT
BEGIN:STANDARD
TZOFFSETFROM:+0200
TZOFFSETTO:+0100
TZNAME:CET
DTSTART:20211031T010000
END:STANDARD
BEGIN:DAYLIGHT
TZOFFSETFROM:+0100
TZOFFSETTO:+0200
TZNAME:CEST
DTSTART:20220327T010000
END:DAYLIGHT
BEGIN:STANDARD
TZOFFSETFROM:+0200
TZOFFSETTO:+0100
TZNAME:CET
DTSTART:20221030T010000
END:STANDARD
END:VTIMEZONE
BEGIN:VTIMEZONE
TZID:America/Los_Angeles
BEGIN:DAYLIGHT
TZOFFSETFROM:-0800
TZOFFSETTO:-0700
TZNAME:PDT
DTSTART:20200308T100000
END:DAYLIGHT
BEGIN:STANDARD
TZOFFSETFROM:-0700
TZOFFSETTO:-0800
TZNAME:PST
DTSTART:20201101T090000
END:STANDARD
BEGIN:DAYLIGHT
TZOFFSETFROM:-0800
TZOFFSETTO:-0700
TZNAME:PDT
DTSTART:20210314T100000
END:DAYLIGHT
BEGIN:STANDARD
TZOFFSETFROM:-0700
TZOFFSETTO:-0800
TZNAME:PST
DTSTART:20211107T090000
END:STANDARD
BEGIN:DAYLIGHT
TZOFFSETFROM:-0800
TZOFFSETTO:-0700
TZNAME:PDT
DTSTART:20220313T100000
END:DAYLIGHT
BEGIN:STANDARD
TZOFFSETFROM:-0700
TZOFFSETTO:-0800
TZNAME:PST
DTSTART:20221106T090000
END:STANDARD
END:VTIMEZONE
BEGIN:VEVENT
DTSTART;TZID=Europe/Rome:20211123T100000
DTEND;TZID=Europe/Rome:20211123T120000
DTSTAMP:20260420T065111
CREATED:20210713T155534Z
LAST-MODIFIED:20211123T093301Z
UID:10000132-1637661600-1637668800@www.este.it
SUMMARY:Discussione - Lo sviluppo delle Academy aziendali anche nelle PMI
DESCRIPTION:La presente Discussione è riservata ai rappresentati di aziende medio-grandi con l’obiettivo di confrontarsi sul tema dello sviluppo delle Academy aziendali anche nelle PMI. Dialogherà con i partecipanti la redazione di Sviluppo&Organizzazione. \n{tab Programma} \nNon mancano\, nello scenario attuale\, proposte suggestive di nuovi modelli organizzativi\, pensati per valorizzare le potenzialità delle tecnologie\, la grande disponibilità di dati e la globalizzazione\, oppure per fronteggiare incertezza e crisi ricorrenti\, ma anche per gestire una crescita ‘esponenziale’ in mercati emergenti. Ammessa la necessità di confrontarsi con l’eredità del passato\, con l’esperienza concreta delle aziende e con le sperimentazioni in atto\, serve il coraggio di dare spazio all’immaginazione. L’emergere di organizzazioni innovative\, collegate a nuove forme di lavoro e a processi di collaborazione sostenuti da tecnologie abilitanti\, richiede certamente uno sforzo creativo e immaginativo. E per vagliare le opzioni possibili ha senso riflettere anche su ciò che sinora non è stato\, ma che configura una meta ideale. \n{/tab} \n{tab Relatori} \nGabriele Bonacossa\, chief hr officer – ILPRA \nPatrizia Belotti\, chief people & organization officer – GEFRAN\n \nLucia Borini\, responsabile academy – REALE GROUP \nAndrea Martone\, direttore del centro sullo strategic management e family business – LIUC BUSINESS SCHOOL e professore associato di organizzazione e sistemi informativi  – LIUC- UNIVERSITÁ e MIB\, professor – IESEG (Grand Ecole dell’Università Cattolica di Lille – Francia) \nMaurizio Rossi\, lead design electric & electronic manager – ERRE TECHNOLOGY GROUP \nAnnalisa Spedicato\, hr business partner – TESISQUARE \nSarah Reale\, psicologa delle organizzazioni  e senior learning specialist – GENERALI ACADEMY ITALIA \n{/tab} \n{tab Format} \nSviluppo&Organizzazione\, la più importante rivista accademica italiana di organizzazione aziendale\, promuove periodicamente incontri a porte chiuse con accademici\, consulenti\, imprenditori\, manager\, rappresentanti delle associazioni per discutere e approfondire tematiche di attualità in materia di organizzazione aziendale e risorse umane.\nGli incontri sono oggetto della rubrica intitolata “Le discussioni di Sviluppo&Organizzazione” che ospita il resoconto della riunione con ampio servizio fotografico realizzato ad hoc.\nLa presente Discussione è riservata ai rappresentati di aziende medio-grandi con l’obiettivo di confrontarsi sul tema dello sviluppo delle Academy aziendali anche nelle PMI. \nDialogherà con i partecipanti la redazione di Sviluppo&Organizzazione. \n{/tab} \n{tab Iscrizione} \nQuesto incontro è online e si svolge ‘a porte chiuse’. La partecipazione all’evento può avvenire solo su invito della casa editrice ESTE. \nPer qualsiasi informazione contattare:\nDario Colombo – caporedattore di Sviluppo&Organizzazione – dario.colombo@este.it – Tel. 02 91434412 \n{/tab} \n 
URL:https://www.este.it/incontro/discussione-lo-sviluppo-delle-academy-aziendali-anche-nelle-pmi/
ATTACH;FMTTYPE=image/jpeg:https://www.este.it/wp-content/uploads/2021/07/discussioni_Academy.jpg
END:VEVENT
BEGIN:VEVENT
DTSTART;TZID=Europe/Rome:20211124T113000
DTEND;TZID=Europe/Rome:20211124T130000
DTSTAMP:20260420T065111
CREATED:20211004T160353Z
LAST-MODIFIED:20220112T171009Z
UID:10000049-1637753400-1637758800@www.este.it
SUMMARY:Webinar - CULTURA ORGANIZZATIVA DIGITALE - Pensare ai processi aziendali in digitale: casi concreti di efficientamento organizzativo
DESCRIPTION:Viviamo immersi in un sistema produttivo digitale e cambiano i meccanismi di produzione del valore: oltre al valore di uso\, o scambio\, acquisiscono sempre più valore i servizi. La vendita di prodotti viene supportata e valorizzata dalla vendita di servizi\, abilitati dalle tecnologie digitali. È così che gli ecosistemi produttivi si organizzano come piattaforme digitali: infrastrutture in grado di connettere sistemi diversi e condividere informazioni. Premessa abilitante per la digitalizzazione e la creazione del digital twin dei processi aziendali è il ridisegno dei flussi di lavoro che consente di mappare le procedure preservando il know how aziendale: grazie a software di gestione e automazione dei processi diventa possibile svincolare le persone dall’esecuzione di operazioni ripetitive e manuali per consentire loro di dedicarsi ad attività a più alto valore aggiunto: lo sviluppo del business. Per questo\, digitalizzare un processo documentale non è un intervento tecnico ma un investimento culturale: richiede il coinvolgimento di tutti gli attori del processo in possesso delle conoscenze necessarie per la riorganizzazione del lavoro. \nMettere ordine all’interno delle attività d’ufficio oggi non basta\, occorrono nuovi strumenti ed è necessario adottare nuovi modi di lavorare. Un sistema automatizzato garantisce risparmi di tempi e costi e riduce le probabilità di errori. L’obiettivo è che le persone si occupino del business e non di operazioni a basso valore aggiunto\, ripetitive e che possono essere svolte da un processo digitale. L’infrastruttura che rende possibile il passaggio dal controllo all’analisi dell’efficienza c’è. E la crescita di produttività e competitività passa da qui. \nNel corso dell’incontro sarà possibile approfondire come l’infrastruttura automatizzata ha impattato sul processo di gestione della produzione su commessa. \n{tab Relatori} \nIntervengono: \nAlberto Bottelli\, it manager – GIBUS \nPaolo Grotto\, socio amministratore e direttore commerciale – ARKET  \nModera:\nChiara Lupi\, direttrice editoriale – ESTE \n{/tab} \n{tab Format}\nIl webinar si tiene online tramite piattaforma Cisco Webex \n{/tab} \n{tab Iscrizione} \n\n\n\nIl webinar è rivolto a: Responsabile Organizzazione\, Responsabile Produzione e IT Manager di aziende che operano su commessa. \nLa partecipazione al Webinar è GRATUITA\, previa registrazione al sito ESTE e conferma da parte della segreteria organizzativa. La segreteria organizzativa si riserva la facoltà di convalidare le iscrizioni ricevute. \nGli iscritti riceveranno nell’arco delle 24 ore successive alla propria iscrizione\, la mail con il link e le istruzioni d’accesso alla piattaforma Cisco Webex. \nSCARICA IL MODULO DI ISCRIZIONE IN PDF \n\n\n\nPer qualsiasi informazione contattare: \nResponsabile del Progetto: Martina Galbiati – Responsabile Eventi e Marketing – martina.galbiati@este.it – Tel. 02.91434403 – Mobile: 3391068668\nResponsabile Operativo: Giulia Zicconi – Event & Project Manager- giulia.zicconi@este.it – Tel. 02.91434415 – Mobile: 340.8236039 \n{/tab} \n{tab Area Download} \nSCARICA IL REPORT DEL WEBINAR \nScarica la presentazione: \nPresentazione Paolo Grotto\, socio amministratore e direttore commerciale – ARKET e Alberto Bottelli\, it manager – GIBUS \n{/tab} \n{/tab} \nLo Sponsor
URL:https://www.este.it/incontro/webinar-processi-aziendali-digitale/
LOCATION:ONLINE
ATTACH;FMTTYPE=image/png:https://www.este.it/wp-content/uploads/2021/10/banner2-2.png
END:VEVENT
BEGIN:VEVENT
DTSTART;TZID=Europe/Rome:20211125T170000
DTEND;TZID=Europe/Rome:20211125T180000
DTSTAMP:20260420T065111
CREATED:20211027T085220Z
LAST-MODIFIED:20211029T101845Z
UID:10000005-1637859600-1637863200@www.este.it
SUMMARY:Letture Manageriali – Dialogo con Angelo Luigi Marchetti\, autore del libro "I tre cerchi dell'innovazione"
DESCRIPTION:L’innovazione è il risultato di una combinazione di spinte diverse\, di azioni individuali concrete portate avanti con coraggio dai singoli\, non calate dall’alto. \nIl tema dell’innovazione è più che mai attuale in quest’epoca di trasformazioni. Attraverso la condivisione dell’esperienza personale dell’autore ed esempi del passato e del presente\, il volume intende fornire spunti\, riflessioni e suggerimenti a chi vuole innovare nel mondo dell’impresa. E lo fa partendo dall’assunto che l’innovazione “è un’attitudine che si deve trasformare in abitudine”.\nMa soprattutto\, il vero innovatore è “colui che lascia innovare”\, poiché un’azienda può dirsi innovativa solo se apprende\, evolve\, cambia e si adatta al contesto. Il mondo in cui viviamo\, però\, non è immutabile: chiunque può determinare il cambiamento\, così come ogni impresa può influenzare il proprio ecosistema. \nACQUISTA IL LIBRO \n{tab Relatore} \nAngelo Luigi Marchetti\, amministratore delegato – MARLEGNO\, autore dei libri “I tre cerchi dell’innovazione” e ‘L’imprenditore e il manager” \nModera:\nDario Colombo\, caporedattore – ESTE e direttore – PAROLE DI MANAGEMENT  \n{/tab} \n{tab Iscrizione} \nLa partecipazione al Webinar è GRATUITA\, previa registrazione al sito ESTE. \n\n\nL’evento si terrà online\, tramite la piattaforma CISCO WEBEX.  \nGli iscritti riceveranno nell’arco delle 24 ore successive alla propria iscrizione\, la mail con il link e le istruzioni d’accesso alla piattaforma Cisco Webex. \n\n\nPer qualsiasi informazione contattare: \nResponsabile del Progetto: Martina Galbiati – Responsabile Eventi e Marketing – martina.galbiati@este.it – Tel. 02.91434403 – Mobile: 3391068668\nResponsabile Operativo: Federica Lucarelli – Event & Project Manager – federica.lucarelli@este.it – Tel. 02.91434414 – Mobile: 3403886069 \n{/tab}
URL:https://www.este.it/incontro/letture-manageriali-dialogo-con-angelo-luigi-marchetti-autore-del-libro-i-tre-cerchi-dellinnovazione/
CATEGORIES:Webinar
ATTACH;FMTTYPE=image/png:https://www.este.it/wp-content/uploads/2021/10/Banner_Tavola-disegno-1-1-1.png
END:VEVENT
BEGIN:VEVENT
DTSTART;TZID=Europe/Rome:20211126T090000
DTEND;TZID=Europe/Rome:20211126T164500
DTSTAMP:20260420T065111
CREATED:20211021T092214Z
LAST-MODIFIED:20211222T151858Z
UID:10000046-1637917200-1637945100@www.este.it
SUMMARY:FORUM DI SVILUPPO E ORGANIZZAZIONE - Roma 2021
DESCRIPTION:Il Forum di Sviluppo e Organizzazione è un progetto convegnistico nato nel 2019 e organizzato da Sviluppo&Organizzazione\, la più prestigiosa rivista italiana di Organizzazione Aziendale che ha l’obiettivo di aprire il confronto sui temi dell’organizzazione aziendale\, attuali e in divenire\, legati al mondo delle imprese e delle pubbliche amministrazioni. Il Forum è dedicato a chi governa le strategie di crescita attraverso l’organizzazione del lavoro e le risorse umane. \nIL TEMA DELL’EDIZIONE 2021 – L’ORGANIZZAZIONE NEL XXI SECOLO TRA INNOVAZIONE DISTRUTTIVA E VALORE DELLA CONOSCENZA\nIl Forum propone di analizzare in quali forme\, con quali protagonisti\, con quale dinamica interattiva le organizzazioni private e pubbliche\, ormai pienamente entrate nel XXI secolo\, affrontano la sfida dell’innovazione e fanno i conti con i modelli già sperimentati.\nSu scala globale\, l’umanità avverte la sproporzione tra le enormi potenzialità offerte dagli sviluppi della scienza e delle tecnologie e la stasi\, se non l’arretramento\, della capacità di governo della complessità socio-politica.\nOggi si vive l’ambiguità di un presente ancora stretto tra l’utopia di un futuro illuminato da tecnologie che esaltano competenze e qualità delle persone e le distopie che proiettano sinistramente in avanti le contraddizioni di sistemi di potere chiusi e oppressivi.\nLe pubbliche amministrazioni sono al centro di queste tensioni\, che richiedono radicali cambiamenti nella progettualità organizzativa\, nei metodi di lavoro\, nei modelli comportamentali. \nSCOPRI LE OPPORTUNITA' DI SPONSORIZZAZIONE\n{tab Programma} \nMATTINA\nLe organizzazioni\, il management e il lavoro di fronte alle sfide del XXI secolo\nLe organizzazioni del XXI secolo\, i loro manager e gli stessi lavoratori non possono eludere la doppia sfida della molteplicità e dello sviluppo sostenibile. Occorre accettare la complessità e l’incertezza\, imparando a ricercare l’efficacia performativa attraversando la pluralità di valori\, di prospettive\, di relazioni\, di significati\, di discipline\, di culture\, di obiettivi\, di rappresentazioni e interpretazioni della performance\, e così via. Al tempo stesso\, lo sviluppo sostenibile è un grande campo di cambiamento\, nel quale attori nuovi sfidano centri di potere consolidati\, innovazioni e inerzie si contrastano\, soluzioni univoche sono ancora lontane dall’imporsi e servono invece abilità sociali di adattamento e flessibilità che occorre coltivare. \n9.00 ACCREDITO DEI PARTECIPANTI \n9.45 BENVENUTO E APERTURA DEI LAVORI\nChiara Lupi\, direttrice editoriale – ESTE \n10.00 LEZIONE\n“Una nuova progettualità organizzativa per fronteggiare  un contesto dinamico”\nRumore\, soggettività\, performance. Queste tre parole qualificano meglio di altre l’era che sembra aprirsi in questo XXI secolo\, con rilievo e conseguenze anche per il management e l’organizzazione. Rumore\, soggettività e performance non sono mancati nel percorso del Novecento. Ma\, alla svolta del secolo\, esprimono nuovi e più radicali impulsi che modificano struttura e dinamiche di quegli ecosistemi di organizzazioni che costituiscono l’attuale società. La relazione cerca di collegare la riflessione sul futuro delle organizzazioni alle questioni che riguardano il lavoro\, in uno scenario che comprende agli estremi utopie e distopie: esplosione della soggettività\, effetto overflow\, garbuglio della socio-materialità\, affermarsi di motori dell’immaginario\, hyper-management\, dataismo\, sono tutti fenomeni che minano le pretese di definire modelli di valenza generale. Il futuro delle organizzazioni resta aperto a molteplici possibilità. Per le organizzazioni\, diversamente dalle famiglie di Tolstoj\, esisteranno molteplici modi per essere “felici”\, oltre che “infelici”. Il lavoro e i lavoratori\, attraverso la mediazione delle conoscenze\, hanno carte importanti da giocare in questo scenario se sapranno rivitalizzare l’esperienza storica di mestieri e professioni. La pubblica amministrazione merita una riflessione specifica in questo quadro\, focalizzata sui cambiamenti attesi per le competenze e i valori professionali che richiedono un nuovo impegno progettuale\, oltre le riforme dei decenni precedenti.\nGianfranco Rebora\, professore emerito di Organizzazione e Gestione delle Risorse Umane – UNIVERSITÁ LIUC – CATTANEO DI CASTELLANZA e direttore responsabile – SVILUPPO&ORGANIZZAZIONE \n10.45 DISCUSSIONE: “Per un design dell’organizzazione a 360 gradi: idee e metodi per innervare il sapere consolidato”\n– Riccardo Maltoni\, responsabile Organizzazione e Processi in ambito RUO – POSTE ITALIANE \n– Daniele Piacentini\, direttore risorse umane – FONDAZIONE POLICLINICO UNIVERSITARIO AGOSTINO GEMELLI \n– Gianpiero Tufilli\, hr director – THALES ITALIA\n \nModera: Gianfranco Rebora\, professore emerito di Organizzazione e Gestione delle Risorse Umane – UNIVERSITÁ LIUC – CATTANEO DI CASTELLANZA e direttore responsabile – SVILUPPO&ORGANIZZAZIONE \n11.30 PAUSA CAFFÈ \n12.00 DISCUSSIONE: “Costruire organizzazioni sostenibili: il ruolo della direzione risorse umane”\nIntervengono:\n– Annalisa Alberti\, SVP\, direttore risorse umane\, compliance \, ICT & facility management – RHEINMETALL ITALIA \n– Davide De Palma\, cto – HRCOFFEE\n– Guido Stratta\, direttore people & organization – GRUPPO ENEL\n– Anna Maria Testa\, Italy hr director – ZTE ITALIA\n \nModera: Giuditta Alessandrini\, professore ordinario senior di pedagogia sociale e del lavoro – UNIVERSITÀ DI ROMA TRE e professoressa straordinaria – UNIVERSITÁ MERCATORUM \n13.00 PAUSA PRANZO \nPOMERIGGIO \nQuale organizzazione della PA per il XXI secolo\nUna nuova impostazione strategica e organizzativa della PA non riguarda solo l’attuazione del Piano Nazionale di Ripresa e Resilienza\, certo una grande opportunità di innovazione. Tecnologie digitali\, “economia delle piattaforme”\, conseguenze dalla pandemia\, emergenza climatica\, problematiche emergenti della sicurezza e della protezione\, costituiscono fattori concomitanti che incidono sulle relazioni sociali in tanti aspetti anche della vita quotidiana e che alimentano una domanda di regolazione e intervento pubblico in termini nuovi. Le grandi organizzazioni professionali dei settori dell’educazione\, della salute\, della giustizia\, dell’assistenza sociale\, dei beni culturali\, della gestione del territorio\, ecc.\, esprimono un enorme fabbisogno di innovazione organizzativa\, di una progettualità di ampio respiro orientata alla qualità del servizio\, al miglioramento delle relazioni con i cittadini\, allo sviluppo di competenze e professionalità non tradizionali. \n14.00 LEZIONE\nIl miglioramento organizzativo nelle pubbliche amministrazioni virtuose\nL’adeguatezza dei sistemi politici dipende in misura considerevole dall’efficacia delle istituzioni amministrative. Infatti\, nelle nostre società\, sempre più complesse\, globalizzate e competitive\, non competono più prodotti o servizi\, ma Sistemi Paese. In questo nuovo scenario\, il raggiungimento di un’efficace grado di sviluppo economico e sociale è sempre più correlato con il ruolo innovativo delle public policies e la qualità delle  performance delle pubbliche amministrazioni. Per queste ragioni\, le riforme previste dal PNRR possono creare le condizioni per lo sviluppo e supportare i processi di innovazione nei comparti chiave: educazione e formazione; ricerca scientifica e innovazione tecnologica; attività imprenditoriale e lavoro; sanità; previdenza e assistenza sociale.\nAntonio Cocozza\, professore ordinario di Sociologia dei processi economici e del lavoro\, presso il Dipartimento di Scienze della Formazione – UNIVERSITÁ DEGLI STUDI ROMA TRE \n14.40 DISCUSSIONE: “Come innovare formazione e reclutamento dei manager pubblici”\n– Giuseppe Conte\, direttore centrale formazione e sviluppo risorse umane – INPS\n– Massimo Balducci\, esperto del Centre on Good Governance – CONSIGLIO D’EUROPA \nModera: Antonio Cocozza\, professore ordinario di Sociologia dei processi economici e del lavoro\, presso il Dipartimento di Scienze della Formazione – UNIVERSITÁ DEGLI STUDI ROMA TRE \n15.20 LEZIONE\n“La gestione del personale pubblico: come innervare una vera meritocrazia” \nMaurizio Decastri\, professore ordinario di Organizzazione Aziendale – UNIVERSITÀ DI ROMA TOR VERGATA \n16.00 DISCUSSIONE: “La riorganizzazione delle amministrazioni pubbliche per l’attuazione del Pnrr”\n– Andrea Bonomi Savignon\, ricercatore e co-direttore Master – MIMAP\, UNIVERSITÀ DEGLI STUDI DI ROMA TOR VERGATA\n– Maurizio Decastri\, professore ordinario di Organizzazione Aziendale – UNIVERSITÀ DI ROMA TOR VERGATA\n– Sergio Gasparrini\, consigliere – CORTE DEI CONTI\n– Renato Loiero\, consigliere parlamentare – SENATO DELLA REPUBBLICA  e Direttore – SERVIZIO BILANCIO DELLO STATO\n \nModera: Gianfranco Rebora\, professore emerito di Organizzazione e Gestione delle Risorse Umane – UNIVERSITÁ LIUC – CATTANEO DI CASTELLANZA e direttore responsabile – SVILUPPO&ORGANIZZAZIONE \n16.45 CHIUSURA DEI LAVORI \n{/tab} \n{tab Relatori} \nIntervengono: \nAnnalisa Alberti\, human resources\, facility management\, ICT & compliance director – RHEINMETALL ITALIA  \nGiuditta Alessandrini\, professore ordinario senior di pedagogia sociale e del lavoro – UNIVERSITÀ DI ROMA TRE e professoressa straordinaria – UNIVERSITÁ MERCATORUM \nMassimo Balducci\, esperto del Centre on Good Governance – CONSIGLIO D’EUROPA \nAndrea Bonomi Savignon\, ricercatore e co-direttore Master – MIMAP\, UNIVERSITÀ DEGLI STUDI DI ROMA TOR VERGATA \nAntonio Cocozza\, professore ordinario di Sociologia dei processi economici e del lavoro\, presso il Dipartimento di Scienze della Formazione – UNIVERSITÁ DEGLI STUDI ROMA TRE \nGiuseppe Conte\, direttore centrale formazione e sviluppo risorse umane – INPS \nMaurizio Decastri\, professore ordinario di Organizzazione Aziendale – UNIVERSITÀ DI ROMA TOR VERGATA \nDavide De Palma\, cto – HRCOFFEE \nSergio Gasparrini\, consigliere – CORTE DEI CONTI \nRenato Loiero\, consigliere parlamentare – SENATO DELLA REPUBBLICA  e Direttore – SERVIZIO BILANCIO DELLO STATO \nRiccardo Maltoni\, responsabile Organizzazione e Processi in ambito RUO – POSTE ITALIANE  \nDaniele Piacentini\, direttore risorse umane – FONDAZIONE POLICLINICO UNIVERSITARIO AGOSTINO GEMELLI  \nGianfranco Rebora\, professore emerito di Organizzazione e Gestione delle Risorse Umane – UNIVERSITÁ LIUC – CATTANEO DI CASTELLANZA e direttore responsabile – SVILUPPO&ORGANIZZAZIONE \nRoberto Savini Zangrandi\, board member – COMPASSION ITALIA ONLUS E COMPASSION SPAGNA  \nGuido Stratta\, direttore people & organisation – GRUPPO ENEL \nAnna Maria Testa\, Italy hr director – ZTE ITALIA \nGianpiero Tufilli\, hr director – THALES ITALIA \nConduce:\nChiara Lupi\, direttrice editoriale – ESTE \n{/tab} \n{tab Format} \nIl convegno si tiene in presenza. Non è prevista la trasmissione online \nIl Convegno si svolgerà nel rispetto delle norme sanitarie anti-Covid 19.\nL’accesso è consentito solo ai possessori di Green Pass che dovrà essere esibito all’accredito\, il giorno dell’evento. \nInoltre\, saranno garantite ai partecipanti le seguenti misure di sicurezza: \n• Misurazione temperatura corporea all’ingresso;\n• Sanificazione spazi;\n• Distanziamento sociale tra le sedute;\n• Distribuzione di Lunch Box. \n{/tab} \n{tab Iscrizione} \nIl convegno è rivolto a: Manager dell’area organizzazione e Manager dell’area risorse umane delle aziende private di medie grandi dimensioni\, Consulenti\, Accademici ed esperti extra-azienda.\nIl convegno è rivolto a: Tutte le figure manageriali che all’interno delle pubbliche amministrazioni si occupano di Organizzazione e Gestione delle Risorse Umane \nL’accesso al convegno prevede il pagamento di una quota di € 150\,00+IVA. \nLa quota di partecipazione è personale. \nSi accettano pagamenti tramite paypal/carta di credito. \nI pagamenti tramite bonifico sono accettati solo nel caso di iscrizioni multiple in cui la somma da versare sia superiore ai 700 euro+iva. Il pagamento deve arrivare entro il giorno prima del Convegno.\nPer effettuare iscrizioni multiple e pagare con bonifico richiedi il modulo di iscrizione in pdf a: giulia.zicconi@este.it \nPer qualsiasi informazione contattare:\nResponsabile del Progetto: Giulia Zicconi – Event & Project Manager- giulia.zicconi@este.it – Tel. 02.91434415 – Mobile: 340.8236039 \n{/tab} \n{tab Area Download} \nSCARICA IL REPORT DEL CONVEGNO \nDi seguito sono disponibili le presentazioni dei relatori del Convegno in formato PDF: \nAntonio Cocozza\, professore ordinario di Sociologia dei processi economici e del lavoro\, presso il Dipartimento di Scienze della Formazione – UNIVERSITÁ DEGLI STUDI ROMA TRE \nGianfranco Rebora\, professore emerito di Organizzazione e Gestione delle Risorse Umane – UNIVERSITÁ LIUC – CATTANEO DI CASTELLANZA e direttore responsabile – SVILUPPO&ORGANIZZAZIONE \n{/tab} \n{tab Gallery fotografica} \n\n\n\n	\n	\n		\n	\n\n	\n\n				\n					\n		\n		\n		\n			\n									L'accredito\n															\n		\n\n	\n\n\n	\n\n	\n\n				\n					\n		\n		\n		\n			\n									la libreria ESTE\n															\n		\n\n	\n\n\n	\n\n	\n\n				\n					\n		\n		\n		\n			\n									Desk HRCOFFEE\n															\n		\n\n	\n\n\n	\n\n	\n\n				\n					\n		\n		\n		\n			\n									L'apertura dei lavori\n															\n		\n\n	\n\n\n	\n\n	\n\n				\n					\n		\n		\n		\n			\n									Discussione_Per un design dell’organizzazione a 360 gradi idee e metodi per innervare il sapere consolidato\n															\n		\n\n	\n\n\n	\n\n	\n\n				\n					\n		\n		\n		\n			\n									Discussione -Costruire organizzazioni sostenibili il ruolo della direzione risorse umane\n															\n		\n\n	\n\n\n	\n\n	\n\n				\n					\n		\n		\n		\n			\n									Coffee break\n															\n		\n\n	\n\n\n	\n\n	\n\n				\n					\n		\n		\n		\n			\n									Lezione_Antonio Cocozza - UNIVERSITÁ DEGLI STUDI ROMA TRE\n															\n		\n\n	\n\n\n	\n\n	\n\n				\n					\n		\n		\n		\n			\n									Discussione_Come innovare formazione e reclutamento dei manager pubblici\n															\n		\n\n	\n\n\n	\n\n	\n\n				\n					\n		\n		\n		\n			\n									Lezione_Maurizio Decastri – UNIVERSITÀ DI ROMA TOR VERGATA\n															\n		\n\n	\n\n\n	\n\n	\n\n				\n					\n		\n		\n		\n			\n									Discussione_La riorganizzazione delle amministrazioni pubbliche per l’attuazione del Pnrr\n															\n		\n\n	\n\n		\n	\n\n	\n	\n	\n\n	\n\n\n{/tab} \n{tab Tutte le tappe} \nMilano – 7 e 8 ottobre 2021 \n{/tab} \n  \nSponsor\n \nMedia Partner\n\n\n\n \n\nOnlus\n \n 
URL:https://www.este.it/incontro/forum-di-sviluppo-e-organizzazione-roma-2021/
LOCATION:Leon’s Place Hotel\, Via Venti Settembre 90/94\, Roma\, Italia\, 00187
ATTACH;FMTTYPE=image/png:https://www.este.it/wp-content/uploads/2021/10/banner_Forum_Roma-2-e1635149950680.png
END:VEVENT
BEGIN:VEVENT
DTSTART;TZID=America/Los_Angeles:20211126T120000
DTEND;TZID=America/Los_Angeles:20211126T130000
DTSTAMP:20260420T065111
CREATED:20211124T083643Z
LAST-MODIFIED:20211126T102123Z
UID:10000038-1637928000-1637931600@www.este.it
SUMMARY:PdM TALK - Organizzazioni efficaci per lo sviluppo del Paese
DESCRIPTION:{tab} \n{tab Spunti di dibattito} \nPer le organizzazioni\, diversamente dalle famiglie di Tolstoj\, esisteranno molteplici modi per essere ‘felici’\, oltre che ‘infelici’. Le persone\, valorizzando le loro conoscenze\, possono portare importanti contributi ma quali sono le dinamiche che le organizzazioni pubbliche e private devono attivare per affrontare le sfide del XXI secolo? Anche le pubbliche amministrazioni sono al centro di tensioni che richiedono radicali cambiamenti nella progettualità organizzativa\, nei metodi di lavoro\, nei modelli comportamentali. Considerando che il livello delle performance delle pubbliche amministrazioni è sempre più determinante per lo sviluppo del Paese\, in che direzione è necessario operare per un miglioramento organizzativo che abbia effettivo impatto sulla società? \n{/tab} \n{tab Partecipanti} \nAnnalisa Alberti\, SVP\, direttore risorse umane\, compliance \, ICT & facility management – RHEINMETALL ITALIA  \nMassimo Balducci\, esperto del Centre on Good Governance – CONSIGLIO D’EUROPA \nAntonio Cocozza\, professore ordinario di Sociologia dei processi economici e del lavoro\, presso il Dipartimento di Scienze della Formazione – UNIVERSITÁ DEGLI STUDI ROMA TRE \nRiccardo Maltoni\, responsabile Organizzazione e Processi in ambito RUO – POSTE ITALIANE \nGianpiero Tufilli\, hr director – THALES ITALIA \nConducono Dario Colombo\, caporedattore – Parole di Management e Chiara Lupi\, direttrice editoriale – ESTE \n{/tab} \n{tab Modalità di partecipazione} \nPdM Talk si svolge online e la partecipazione è GRATUITA.\nNon occorre iscriversi: lo streaming è liberamente accessibile dalla home page del quotidiano online www.paroledimanagement.it a partire dalle ore 12.00. \nÈ possibile inviare domande e commenti durante la diretta al numero 342.5551916. \n{/tab} \n{tab Contatti} \nPer informazioni sul progetto:\nDario Colombo – direttore responsabile di Parole di Management – dario.colombo@este.it – Tel. 02 91434412 \n{/tab}
URL:https://www.este.it/incontro/pdm-talk-organizzazioni-efficaci-per-lo-sviluppo-del-paese/
LOCATION:ONLINE
CATEGORIES:PdM Talk
ATTACH;FMTTYPE=image/jpeg:https://www.este.it/wp-content/uploads/2021/05/Pdm_Talk_banner_Tavola-disegno-1.jpg
END:VEVENT
END:VCALENDAR