BEGIN:VCALENDAR
VERSION:2.0
PRODID:-//Edizioni Este - ECPv6.15.11//NONSGML v1.0//EN
CALSCALE:GREGORIAN
METHOD:PUBLISH
X-WR-CALNAME:Edizioni Este
X-ORIGINAL-URL:https://www.este.it
X-WR-CALDESC:Eventi per Edizioni Este
REFRESH-INTERVAL;VALUE=DURATION:PT1H
X-Robots-Tag:noindex
X-PUBLISHED-TTL:PT1H
BEGIN:VTIMEZONE
TZID:Europe/Rome
BEGIN:DAYLIGHT
TZOFFSETFROM:+0100
TZOFFSETTO:+0200
TZNAME:CEST
DTSTART:20200329T010000
END:DAYLIGHT
BEGIN:STANDARD
TZOFFSETFROM:+0200
TZOFFSETTO:+0100
TZNAME:CET
DTSTART:20201025T010000
END:STANDARD
BEGIN:DAYLIGHT
TZOFFSETFROM:+0100
TZOFFSETTO:+0200
TZNAME:CEST
DTSTART:20210328T010000
END:DAYLIGHT
BEGIN:STANDARD
TZOFFSETFROM:+0200
TZOFFSETTO:+0100
TZNAME:CET
DTSTART:20211031T010000
END:STANDARD
BEGIN:DAYLIGHT
TZOFFSETFROM:+0100
TZOFFSETTO:+0200
TZNAME:CEST
DTSTART:20220327T010000
END:DAYLIGHT
BEGIN:STANDARD
TZOFFSETFROM:+0200
TZOFFSETTO:+0100
TZNAME:CET
DTSTART:20221030T010000
END:STANDARD
END:VTIMEZONE
BEGIN:VEVENT
DTSTART;TZID=Europe/Rome:20210727T170000
DTEND;TZID=Europe/Rome:20210727T180000
DTSTAMP:20260420T044513
CREATED:20210713T152355Z
LAST-MODIFIED:20210723T114153Z
UID:10000118-1627405200-1627408800@www.este.it
SUMMARY:Letture Manageriali - Dialogo con gli autori di Sviluppo & Organizzazione - Francesco Varanini
DESCRIPTION:Dal 1970\, ininterrottamente\, la casa editrice ESTE pubblica il bimestrale di organizzazione aziendale più autorevole del Paese.\nLa rivista si è evoluta in parallelo con la crescita e allo sviluppo dell’Italia\, accompagnando nella loro formazione generazioni di manager che utilizzano Sviluppo&Organizzazione per formarsi e per rimanere aggiornati in merito alle più evolute pratiche organizzative. \nL’immenso patrimonio culturale rappresentato dagli articoli dei più autorevoli studiosi delle dinamiche organizzative pubblicati in 50 anni di storia da Sviluppo&Organizzazione merita di essere riproposto e valorizzato. \nPer questo la Raccolta degli articoli è pubblicata in tre volumi raccolti in un prezioso Cofanetto: il primo volume dedicato al periodo dal 1970 al 1990\, il secondo dal 1990 al 2020 e il terzo contiene il racconto della storia della rivista e i profili e la storia delle aziende Sponsor dell’iniziativa. \nIl Cofanetto ha una tiratura limitata e numerata di 500 copie. \nACQUISTA IL COFANETTO \n{tab Relatori} \nInterviene: \n\nFrancesco Varanini\,  Direttore responsabile – PERSONE&CONOSCENZE \n\nModera:\nChiara Lupi\, Direttrice Editoriale – ESTE \n{/tab} \n{tab Modalità di partecipazione} \n\n\n\nLa partecipazione al Webinar è GRATUITA\, previa registrazione al sito ESTE. \nL’evento si terrà online\, tramite la piattaforma CISCO WEBEX.  \nGli iscritti riceveranno nell’arco delle 24 ore successive alla propria iscrizione\, la mail con il link e le istruzioni d’accesso alla piattaforma Cisco Webex. \n\n\n\nPer qualsiasi informazione contattare: \nResponsabile del Progetto: Martina Galbiati – Responsabile Eventi e Marketing – martina.galbiati@este.it – Tel. 02.91434403 – Mobile: 3391068668\nResponsabile Operativo: Giulia Zicconi – Event & Project Manager- giulia.zicconi@este.it – Tel. 02.91434415 – Mobile: 340.8236039 \n{/tab} \n{tab Gli Appuntamenti} \n29 giugno – Gian Piero Quaglino \n6 luglio – Barbara Czarniawska \n13 luglio – Federico Butera \n20 luglio – Alberto Bubbio \n27 luglio – Francesco Varanini \n{/tab} \n{/tab}
URL:https://www.este.it/incontro/letture-manageriali-dialogo-con-gli-autori-di-sviluppo-organizzazione-francesco-varanini/
LOCATION:Palazzo delle Stelline\, Corso Magenta 61\, Milano\, Lombardia\, Italia\, Italia
ATTACH;FMTTYPE=image/png:https://www.este.it/wp-content/uploads/2021/07/Varanini.png
END:VEVENT
END:VCALENDAR