BEGIN:VCALENDAR
VERSION:2.0
PRODID:-//Edizioni Este - ECPv6.15.11//NONSGML v1.0//EN
CALSCALE:GREGORIAN
METHOD:PUBLISH
X-WR-CALNAME:Edizioni Este
X-ORIGINAL-URL:https://www.este.it
X-WR-CALDESC:Eventi per Edizioni Este
REFRESH-INTERVAL;VALUE=DURATION:PT1H
X-Robots-Tag:noindex
X-PUBLISHED-TTL:PT1H
BEGIN:VTIMEZONE
TZID:Europe/Rome
BEGIN:DAYLIGHT
TZOFFSETFROM:+0100
TZOFFSETTO:+0200
TZNAME:CEST
DTSTART:20250330T010000
END:DAYLIGHT
BEGIN:STANDARD
TZOFFSETFROM:+0200
TZOFFSETTO:+0100
TZNAME:CET
DTSTART:20251026T010000
END:STANDARD
BEGIN:DAYLIGHT
TZOFFSETFROM:+0100
TZOFFSETTO:+0200
TZNAME:CEST
DTSTART:20260329T010000
END:DAYLIGHT
BEGIN:STANDARD
TZOFFSETFROM:+0200
TZOFFSETTO:+0100
TZNAME:CET
DTSTART:20261025T010000
END:STANDARD
BEGIN:DAYLIGHT
TZOFFSETFROM:+0100
TZOFFSETTO:+0200
TZNAME:CEST
DTSTART:20270328T010000
END:DAYLIGHT
BEGIN:STANDARD
TZOFFSETFROM:+0200
TZOFFSETTO:+0100
TZNAME:CET
DTSTART:20271031T010000
END:STANDARD
END:VTIMEZONE
BEGIN:VEVENT
DTSTART;TZID=Europe/Rome:20260421T090000
DTEND;TZID=Europe/Rome:20260421T160000
DTSTAMP:20260421T062212
CREATED:20260325T093244Z
LAST-MODIFIED:20260420T094110Z
UID:10000581-1776762000-1776787200@www.este.it
SUMMARY:Officine 2026 - 21 Aprile - Emilia Romagna - DALLARA
DESCRIPTION:Viaggio nell’eccellenza manifatturiera italiana. \nLa tappa del 21 Aprile sarà ospitata dall’azienda DALLARA di Varano de’ Melegari (PR)\, una delle più importanti realtà specializzate nella progettazione\, nello sviluppo e nella produzione di vetture da corsa ad alte prestazioni. \n  \n{tab Testimonianze aziendali} \n  \n  \nSettore: Fabbricazione di macchine da impiego generale\nDipendenti: 280\nFatturato: 180 milioni di euro\nSede: Valsamoggia (BO) \n  \n  \n \nSettore: consulenza organizzativa\nDipendenti: 80\nFatturato: 10 milioni di euro\nSede: Grisignano di Zocco (VI) \n  \n  \n  \nSettore: Fabbricazione di autoveicoli\nDipendenti: 950\nFatturato: 253 milioni di euro\nSede: Varano de’ Melegari (PR) \n  \n  \n \n  \nSettore: Fabbricazione di carta\, cartone ondulato e di imballaggi di carta e cartone\nDipendenti: 2400 (divisione packaging Italia)\nFatturato: 1000 milioni di euro (divisione packaging Italia)\nSede: Vimercate (MI) e Castelfranco Emilia (MO) \n  \n  \n  \nSettore: Fabbricazione di altri prodotti in ceramica per uso tecnico e industriale\nDipendenti: 70\nFatturato: 16\,5 milioni di euro\nSede: Sassuolo (MO) \n  \n  \n \n  \nSettore: Fabbricazione di rivestimenti superficiali (coating)\, trattamenti termici e lavorazioni meccaniche di precisione\nDipendenti: 350 (1750 Gruppo)\nFatturato: 55 milioni di euro ( 280 milioni di euro Gruppo)\nSede: Rubbiano (PR) \n  \n  \n \n  \n  \nSettore: Fabbricazione di altre macchine per l’agricoltura e la silvicoltura (Strutture e Attrezzature Zootecniche\, Impianti liquami\, Impianti biogas e biometano\, Fotovoltaici)\nDipendenti: 250\nFatturato: 80 milioni di euro\nSede: Fiorenzuola d’Arda (PC) \n  \n  \n  \n \n  \n  \nSettore: consulenza nel settore delle tecnologie dell’informatica\nDipendenti: 180\nFatturato: 25 milioni di euro\nSede: Parma \n  \n  \n  \n \nSettore: Fabbricazione di packaging e imballaggi\nDipendenti: 65\nFatturato: 12 milioni di euro\nSede: Modena \n  \n  \n  \n  \n  \nSettore: Elaborazione di dati\nDipendenti: 450\nFatturato: 35 milioni di euro\nSede: Bologna \n  \n*I dati di sintesi (ateco\, dipendenti\, fatturato) sono stati comunicati direttamente dalle aziende o ricavati dalla banca dati camerale www.atoka.it e si riferiscono all’ultimo bilancio disponibile. \n{/tab} \n{tab Partecipanti} \nNelso Antolotti\, Presidente – LINCOTEK \nAlessandro Busatto\, principal – CONSIDI \nOsvaldo Del Vecchio\, Fondatore  – TECNOCART \nManuel D’Errico\, responsabile Dipartimento Automotive e Industriale – DS SMITH \nEnrico Grandi\, managing director – CATERPILLAR \nPaola Pomi\, ceo – SINFO ONE  \nFrancesca Rota\, amministratore delegato – ROTA GUIDO \nMassimiliano Secchi\, amministratore delegato – EXACER \nAndrea Vecchi\, Marketing & Communication Director – DALLARA \nLaura Vitelli\, Head of area Consulenza HR – ZETA SERVICE e Board Member  – FONDAZIONE LIBELLULA \n{/tab} \n{tab Sponsor} \n \n  \n  \n  \n  \n \n  \n \n  \n  \n{/tab} \n{tab sede dell’incontro} \nDALLARA ACADEMY \n\nVia Provinciale\, 33/a\n43040 Varano de’ Melegari PR\n\n\n{/tab} \n{tab Modalità di Partecipazione} \nLe Officine prevedono incontri a porte chiuse\, la cui partecipazione avviene su invito. \nPer qualsiasi informazione contattare: \nDario Colombo\n\nRESPONSABILE DEL PROGETTO\ndario.colombo@este.it \n\n{/tab} \n{tab Tutte le tappe} \nClicca qui per scoprire tutte le tappe del progetto 2026 \n{/tab} \n 
URL:https://www.este.it/incontro/officine-2026-21-aprile-emilia-romagna-2/
LOCATION:Emilia Romagna\, Emilia Romagna\, Italia
ATTACH;FMTTYPE=image/png:https://www.este.it/wp-content/uploads/2026/03/Dallara-banner-scaled.png
END:VEVENT
BEGIN:VEVENT
DTSTART;TZID=Europe/Rome:20260421T173000
DTEND;TZID=Europe/Rome:20260421T193000
DTSTAMP:20260421T062212
CREATED:20260330T112711Z
LAST-MODIFIED:20260408T101136Z
UID:10000582-1776792600-1776799800@www.este.it
SUMMARY:LEGGIAMO - Presentazione del libro "Pubblicità oggi"
DESCRIPTION:Quello che vediamo online non è mai neutro. \nLa pubblicità non si limita più a promuovere prodotti: plasma i nostri immaginari\, condiziona le nostre scelte e modella la società. La stessa intelligenza con cui sappiamo creare messaggi efficaci può essere usata per manipolare\, alimentare dipendenze e monetizzare ogni frammento della nostra attenzione. \nQuesto libro è un invito a guardare con maggiore consapevolezza ciò che scorre davanti ai nostri occhi ogni giorno. Le informazioni online sono filtrate da logiche precise\, costruite per monetizzare i nostri comportamenti\, i nostri gusti e perfino le nostre emozioni. Riconoscerlo è il primo passo per non lasciarci influenzare. E\, soprattutto\, per rispondere alla domanda: ho scelto io oppure il sistema ha scelto per me? \nACQUISTA IL LIBRO\nL’AUTRICE\n\nAlessandra Di Lorenzo\, Consulente e docente universitaria di media digitali \nLavora come consulente e docente universitaria nel campo dei media digitali. Con oltre vent’anni di esperienza\, ha ricoperto ruoli di leadership in aziende internazionali\, tra cui Vodafone\, eBay e lastminute.com media. italo-britannica e basata a Londra\, figura tra le venticinque donne più influenti dell’economia digitale nel Regno Unito. Oggi si occupa di Intelligenza Artificiale\, pubblicità digitale e delle dinamiche che orientato l’attenzione e le scelte online. \n  \n{tab Programma} \n17.30 – Presentazione del libro Pubblicità oggi \nAlessandra Di Lorenzo dialoga con Chiara Lupi\, Direttrice editoriale di ESTE \n18.30 – Aperitivo \n{/tab} \n{tab Location} \nRistorante Testina Milano \n\nVia Abbadesse\, 19\, 20124 Milano MI\n\n{/tab} \n{tab Iscrizione} \nLa partecipazione è GRATUITA fino a esaurimento posti. \nÈ possibile partecipare all’evento in presenza o seguire la diretta streaming tramite piattaforma Cisco Webex. \nPer qualsiasi informazione contattare: Gaia Galimberti – Marketing – gaia.galimberti@este.it – Tel. 02.91434413 \n{/tab} \n{tab Tutti gli incontri} \nIL PROGETTO\nLeggiamo è la nuova serie di incontri pensata per creare uno spazio di dialogo intorno ai libri\, alle idee e alle storie che raccontano il mondo del lavoro e delle organizzazioni. Un appuntamento dedicato a chi ama leggere\, confrontarsi e approfondire i temi che attraversano il dibattito contemporaneo. \nLeggiamo si riunisce due martedì al mese con la presentazione di un libro insieme agli autori. A guidare la conversazione è Chiara Lupi\, Direttrice editoriale di ESTE\, che modera il dialogo con gli autori e con il pubblico\, stimolando riflessioni\, domande e confronto sui temi emersi dalla lettura. \nDopo la presentazione\, la serata prosegue con un aperitivo\, offrendo un momento di networking e conversazione tra autori\, lettori e professionisti interessati ai temi trattati. \nSCARICA IL CALENDARIO\n21 aprile – Pubblicità oggi con Alessandra Di Lorenzo \n5 maggio – Logoi dell’innovazione. Contro la trappola del si è “sempre fatto così” con Gianni Previdi \n26 maggio – 100 Parole per un manager umanista con Alfredo Biffi\, Giovanni A. Lodigiani\, Grazia Mannozzi\, Barbara Neri\, Simone Vender \n{/tab}
URL:https://www.este.it/incontro/leggiamo-presentazione-del-libro-pubblicita-oggi/
LOCATION:Testina Milano\, Via Abbadesse\, 19\, Milano\, 20124\, Italia
CATEGORIES:Evento,Webinar
ATTACH;FMTTYPE=image/png:https://www.este.it/wp-content/uploads/2026/03/Banner_Sito_DiLorenzo-scaled.png
END:VEVENT
END:VCALENDAR