BEGIN:VCALENDAR
VERSION:2.0
PRODID:-//Edizioni Este - ECPv6.15.11//NONSGML v1.0//EN
CALSCALE:GREGORIAN
METHOD:PUBLISH
X-ORIGINAL-URL:https://www.este.it
X-WR-CALDESC:Eventi per Edizioni Este
REFRESH-INTERVAL;VALUE=DURATION:PT1H
X-Robots-Tag:noindex
X-PUBLISHED-TTL:PT1H
BEGIN:VTIMEZONE
TZID:Europe/Rome
BEGIN:DAYLIGHT
TZOFFSETFROM:+0100
TZOFFSETTO:+0200
TZNAME:CEST
DTSTART:20230326T010000
END:DAYLIGHT
BEGIN:STANDARD
TZOFFSETFROM:+0200
TZOFFSETTO:+0100
TZNAME:CET
DTSTART:20231029T010000
END:STANDARD
BEGIN:DAYLIGHT
TZOFFSETFROM:+0100
TZOFFSETTO:+0200
TZNAME:CEST
DTSTART:20240331T010000
END:DAYLIGHT
BEGIN:STANDARD
TZOFFSETFROM:+0200
TZOFFSETTO:+0100
TZNAME:CET
DTSTART:20241027T010000
END:STANDARD
BEGIN:DAYLIGHT
TZOFFSETFROM:+0100
TZOFFSETTO:+0200
TZNAME:CEST
DTSTART:20250330T010000
END:DAYLIGHT
BEGIN:STANDARD
TZOFFSETFROM:+0200
TZOFFSETTO:+0100
TZNAME:CET
DTSTART:20251026T010000
END:STANDARD
END:VTIMEZONE
BEGIN:VEVENT
DTSTART;TZID=Europe/Rome:20240612T093000
DTEND;TZID=Europe/Rome:20240613T170000
DTSTAMP:20260423T014643
CREATED:20240508T092507Z
LAST-MODIFIED:20240517T102249Z
UID:10000311-1718184600-1718298000@www.este.it
SUMMARY:Corso: It's all about People - Milano
DESCRIPTION:Come osservare le abitudini di interazione delle persone ci può aiutare a far emergere i loro veri bisogni e a fare scelte più coerenti ed efficaci \nIL TEMA: \nUna delle cose più complesse in assoluto è comprendere cosa le persone vogliano realmente; in molti casi anche quello che ci viene detto non corrisponde\, fino in fondo\, al reale bisogno che una Persona ha. \nIn questa prima giornata assieme ci addentreremo nella scoperta di come osservare le persone per scoprire e far emergere i loro reali bisogni. \nSperimenteremo\, attraverso una serie di esperienze di “gioco serio”\, come sia incredibilmente facile “dare per scontato” o cogliere solo superficialmente tanto nelle interazioni con le persone e\, di conseguenza\, come sia fondamentale allineare il nostro approccio comunicativo per essere certi di non lasciare indietro nulla e nessuno. \nNella seconda giornata ci focalizzeremo in modo specifico sulla scoperta e analisi dei bisogni delle persone con cui interagiamo quotidianamente; utilizzeremo il modello “Jobs to Be Done” e la metodologia LEGO® SERIOUS PLAY® per costruire una corretta abitudine di esplorazione come strumento utile a orientare le nostre scelte e le nostre decisioni. \n  \nSCOPRI IL PROGETTO\nSCARICA IL MODULO DI ADESIONE\n  \n{tab Programma} \nGIORNO 1 \n1. Chi sono realmente le persone che incontriamo?. \n2. Come e quanto è facile dare per scontato: Bricks & Dice Experience.\nAttraverso dadi e mattoncini scopriamo come\, sia parlando che scrivendo\, diamo tanto per scontato. \n3. Perché NON esiste la comunicazione efficace.\nLe variabili e il viaggio che ogni informazione che vogliamo comunicare fa. \n  \nGIORNO 2 \n4. Jobs to Be Done e i bisogni delle Persone.\nNon sempre quanto è più evidente corrisponde al vero; i bisogni delle persone sono chiari solo nelle loro teste (e a volte neanche lì). \n5. Costruiamo\, con la metodologia LEGO® SERIOUS PLAY®\, un modello di approccio alla scoperta dei bisogni e delle conseguenti richieste che le persone fanno.\nOsserviamo le cose in modo differente alla ricerca di quel che\, davvero\, può rendere le nostre decisioni e le nostre scelte le uniche corrette per le Persone con cui interagiamo. \n  \n{/tab} \n{tab Docente} \nPippo Sorrentino\nDopo oltre 25 anni vissuti in azienda ad occuparmi di cose\, sono tornato ad occuparmi esclusivamente di Persone.\nDa Imprenditore ho capito quanto fondamentale sia il ruolo delle Persone all’interno di un’Azienda e non solo per le loro competenze. Non amo parole come “Risorse” o “Collaboratori”\, amo le Persone per quello che sono…. Persone.\nOggi mi occupo di facilitare la creatività e il cambiamento con l’aiuto di metodologie di gioco serio. Ho la convinzione che l’uso dei giochi permetta alle aziende di estrarre il meglio dalle Persone in termini di creatività ed unicità. L’esperienza mi ha mostrato come le risposte a domande “serie” create\, costruite\, generate con il gioco portino un valore inaspettato e inestimabile. \n  \n{/tab} \n{tab Format e Obiettivo} \nIl Corso si svolge in presenza. Le lezioni saranno caratterizzate da ampie parti pratiche in cui\, con l’uso di metodologie di “gioco serio”\, i partecipanti sperimenteranno attivamente le considerazioni proposte\, fino a scoprire e testare un nuovo approccio non convenzionale alla ricerca e definizione dei reali bisogni delle Persone riscrivendo le modalità di confronto che si può rendere necessario mettere in campo. \nIn queste due giornate\, l’obiettivo sarà l’esplorazione del complesso mondo del sistema delle relazioni umane. I partecipanti scopriranno come identificare il modo più adatto di rapportarsi ai “clienti interni”. \n  \n{/tab} \n{tab Modalità di partecipazione} \nIl programma formativo è rivolto in particolare ai People Manager\, ovvero a coloro che devono relazionarsi con le persone all’interno di organizzazioni complesse\, al di là di metodologie e prassi consolidate. \nLa partecipazione al corso prevede il pagamento di una quota di € 800\,00+IVA a persona (pagabile in 3 rate con PayPal)\nSconto del 15% per i soci ESTE PLUS. \nPer la partecipazione è necessario scaricare e compilare il modulo di adesione presente al seguente link ed inviarlo a martina.galbiati@este.it \nPartecipanti: minimo 10. \nAl termine del percorso formativo sarà rilasciato un attestato di partecipazione \nTermine adesioni:  \nLunedì 3 giugno 2024 \nPer qualsiasi informazione contattare: \nResponsabile Operativo: Martina Galbiati – Responsabile Marketing – martina.galbiati@este.it – Mobile: 339.1068668 \n{/tab} \n{/tab}
URL:https://www.este.it/incontro/corso-its-all-about-people-milano/
LOCATION:Milano
ATTACH;FMTTYPE=image/png:https://www.este.it/wp-content/uploads/2024/05/Banner_Sito-2.png
END:VEVENT
BEGIN:VEVENT
DTSTART;TZID=Europe/Rome:20240612T170000
DTEND;TZID=Europe/Rome:20240612T180000
DTSTAMP:20260423T014643
CREATED:20240528T132247Z
LAST-MODIFIED:20240529T081346Z
UID:10000345-1718211600-1718215200@www.este.it
SUMMARY:Letture Manageriali - Persone al centro. Davvero
DESCRIPTION:La passione non fa rima con rigidità organizzativa\, controllo continuo e burocrazia delle regole: fa rima con responsabilità delegata\, controllo e valutazione dei risultati\, riconoscimento chiaro del merito. \nÈ partito tutto da una visione strategica. Costruire una direzione d’impresa a tutto tondo è stato il primo passo di Augusto Mitidieri verso l’innovazione. L’azienda che vuole innovare deve cambiare di continuo ma\, soprattutto\, dipende fortemente dalle persone che la compongono. L’organizzazione deve quindi creare le condizioni affinché le persone stesse dimostrino la volontà di ‘mettersi al centro’. La sua visione strategica si realizza così con la costruzione di un nuovo modello organizzativo uomo-centrico\, basato su due pilastri fondamentali: il great place to work e la leadership diffusa. \nAttraverso il racconto di un’esperienza vissuta sul campo\, gli autori descrivono un approccio manageriale risultato vincente\, dando anche lo spunto per riflettere sul ruolo centrale delle persone per il successo dell’organizzazione. \nACQUISTA IL LIBRO\n{tab Relatore} \nIntervengono gli autori: \nAugusto Mitidieri\, Presidente e CEO – AMIS CONSULTING  \nStefano Antonelli\, Professore volontario di Lavoro e Impresa nella Società della Conoscenza  – UNIVERSITA’ CATTOLICA DI MILANO \nPaola Caravà\, HR Advisoring\, Learning&Development e Training&Coaching \nModera: \nAlessandro Gastaldi\, redattore – ESTE  \n{/tab} \n{tab Iscrizione} \n\n\n\nLa partecipazione al Webinar è GRATUITA\, previa registrazione al sito ESTE. \nL’evento si terrà online\, tramite la piattaforma CISCO WEBEX.  \nGli iscritti riceveranno nell’arco delle 24 ore successive alla propria iscrizione\, la mail con il link e le istruzioni d’accesso alla piattaforma Cisco Webex. \n\n\n\nPer qualsiasi informazione contattare: \nLaura Malnati – Account Eventi – laura.malnati@este.it – Tel. 02.91434414 \n{/tab} \n{/tab}
URL:https://www.este.it/incontro/letture-manageriali-persone-al-centro-davvero/
LOCATION:ONLINE
CATEGORIES:Webinar
ATTACH;FMTTYPE=image/png:https://www.este.it/wp-content/uploads/2024/05/1-1.png
END:VEVENT
END:VCALENDAR