BEGIN:VCALENDAR
VERSION:2.0
PRODID:-//Edizioni Este - ECPv6.15.11//NONSGML v1.0//EN
CALSCALE:GREGORIAN
METHOD:PUBLISH
X-WR-CALNAME:Edizioni Este
X-ORIGINAL-URL:https://www.este.it
X-WR-CALDESC:Eventi per Edizioni Este
REFRESH-INTERVAL;VALUE=DURATION:PT1H
X-Robots-Tag:noindex
X-PUBLISHED-TTL:PT1H
BEGIN:VTIMEZONE
TZID:Europe/Rome
BEGIN:DAYLIGHT
TZOFFSETFROM:+0100
TZOFFSETTO:+0200
TZNAME:CEST
DTSTART:20230326T010000
END:DAYLIGHT
BEGIN:STANDARD
TZOFFSETFROM:+0200
TZOFFSETTO:+0100
TZNAME:CET
DTSTART:20231029T010000
END:STANDARD
BEGIN:DAYLIGHT
TZOFFSETFROM:+0100
TZOFFSETTO:+0200
TZNAME:CEST
DTSTART:20240331T010000
END:DAYLIGHT
BEGIN:STANDARD
TZOFFSETFROM:+0200
TZOFFSETTO:+0100
TZNAME:CET
DTSTART:20241027T010000
END:STANDARD
BEGIN:DAYLIGHT
TZOFFSETFROM:+0100
TZOFFSETTO:+0200
TZNAME:CEST
DTSTART:20250330T010000
END:DAYLIGHT
BEGIN:STANDARD
TZOFFSETFROM:+0200
TZOFFSETTO:+0100
TZNAME:CET
DTSTART:20251026T010000
END:STANDARD
END:VTIMEZONE
BEGIN:VEVENT
DTSTART;TZID=Europe/Rome:20240226T120000
DTEND;TZID=Europe/Rome:20240226T130000
DTSTAMP:20260422T063816
CREATED:20240202T141311Z
LAST-MODIFIED:20240508T103601Z
UID:10000284-1708948800-1708952400@www.este.it
SUMMARY:Webinar - Se il leader sta bene\, qualsiasi gruppo sta bene e ottiene più risultati
DESCRIPTION:Fare sport\, prendersi cura dei figli\, dedicarsi ai propri interessi personali sono attività che fanno star bene le persone e in grado di generare benessere anche per l’organizzazione: un leader che sta bene può\, a sua volta\, far star bene le sue persone e quindi raggiungere i suoi obiettivi aziendali e quelli del suo gruppo.\nFino a poco tempo fa\, per prendersi cura del benessere delle persone le aziende si sono concentrate sul work-life balance; tuttavia bilanciare vita privata e lavoro equivale a tenere separati questi ambiti. Invece\, è noto che ciò che succede fuori dall’azienda influenza la vita nell’organizzazione e viceversa. Il modello che meglio si adatta a superare la dicotomia tra vita privata e lavoro è il modello one life: vivere una sana quotidianità lontano dall’azienda genera benessere che si trasforma in ingaggio e motivazione\, i cui benefici sono concreti per tutta l’impresa. Ecco perché i leader devono stare bene: è la condizione affinché il gruppo di lavoro sia in salute e possa essere produttivo. Ma come applicare il modello one life in azienda? \nNel webinar si approfondiranno questi temi\, condividendo in concreto i dati a supporto del modello one life e le reali misurazioni delle iniziative per conciliare benessere individuale\, di gruppo e profitto aziendale? In particolare\, si approfondirà un caso concreto di un’azienda che racconterà come ha superato il tradizionale modello di work-life balance e applicato il modello one life. \n{tab Relatori} \nAlberto Ferrarotto\, head of learning\, development & talent acquisition – AUTOMOBILI LAMBORGHINI \nDanilo Simoni\, founder e ceo – BLOOM \nModera:\nMartina Midolo\, redattrice – PERSONE&CONOSCENZE \n{/tab} \n{tab Format}\nIl webinar si tiene online tramite piattaforma Cisco Webex \n{/tab} \n{tab Iscrizione} \n\n\n\nIl webinar è rivolto ai PEOPLE MANAGER\, ovvero a chi all’interno di aziende si occupa della gestione delle persone in azienda. \nLa partecipazione al Webinar è GRATUITA\, previa registrazione al sito ESTE e conferma da parte della segreteria organizzativa. La segreteria organizzativa si riserva la facoltà di convalidare le iscrizioni ricevute. \nGli iscritti riceveranno nell’arco delle 24 ore successive alla propria iscrizione\, la mail con il link e le istruzioni d’accesso alla piattaforma Cisco Webex. \n\n\n\nPer qualsiasi informazione contattare: \nResponsabile del Progetto: Giulia Zicconi – Responsabile Eventi- giulia.zicconi@este.it – Tel. 02.91434415 – Mobile: 340.8236039 \n{/tab} \n{tab Area Download} \nCLICCA QUI E SCARICA IL REPORT DEL WEBINAR  \n{/tab} \n{/tab} \nOrganizzato con:
URL:https://www.este.it/incontro/webinar-se-il-leader-sta-bene-qualsiasi-gruppo-sta-bene-e-ottiene-piu-risultati/
LOCATION:ONLINE
CATEGORIES:Webinar
ATTACH;FMTTYPE=image/png:https://www.este.it/wp-content/uploads/2024/02/banner_SITO_SITO.png
END:VEVENT
END:VCALENDAR