BEGIN:VCALENDAR
VERSION:2.0
PRODID:-//Edizioni Este - ECPv6.15.11//NONSGML v1.0//EN
CALSCALE:GREGORIAN
METHOD:PUBLISH
X-ORIGINAL-URL:https://www.este.it
X-WR-CALDESC:Eventi per Edizioni Este
REFRESH-INTERVAL;VALUE=DURATION:PT1H
X-Robots-Tag:noindex
X-PUBLISHED-TTL:PT1H
BEGIN:VTIMEZONE
TZID:Europe/Rome
BEGIN:DAYLIGHT
TZOFFSETFROM:+0100
TZOFFSETTO:+0200
TZNAME:CEST
DTSTART:20220327T010000
END:DAYLIGHT
BEGIN:STANDARD
TZOFFSETFROM:+0200
TZOFFSETTO:+0100
TZNAME:CET
DTSTART:20221030T010000
END:STANDARD
BEGIN:DAYLIGHT
TZOFFSETFROM:+0100
TZOFFSETTO:+0200
TZNAME:CEST
DTSTART:20230326T010000
END:DAYLIGHT
BEGIN:STANDARD
TZOFFSETFROM:+0200
TZOFFSETTO:+0100
TZNAME:CET
DTSTART:20231029T010000
END:STANDARD
BEGIN:DAYLIGHT
TZOFFSETFROM:+0100
TZOFFSETTO:+0200
TZNAME:CEST
DTSTART:20240331T010000
END:DAYLIGHT
BEGIN:STANDARD
TZOFFSETFROM:+0200
TZOFFSETTO:+0100
TZNAME:CET
DTSTART:20241027T010000
END:STANDARD
END:VTIMEZONE
BEGIN:VEVENT
DTSTART;TZID=Europe/Rome:20230609T093000
DTEND;TZID=Europe/Rome:20230609T170000
DTSTAMP:20260421T100249
CREATED:20230426T075120Z
LAST-MODIFIED:20230427T073327Z
UID:10000208-1686303000-1686330000@www.este.it
SUMMARY:Corso: I fondamenti del design organizzativo - Terza Edizione - Milano
DESCRIPTION:I fondamenti del design organizzativo\nLa progettazione di strutture\, processi\, ruoli \nDopo il grande successo della prima e della seconda edizione (rispettivamente ad Aprile e Novembre 2022 con partecipanti di aziende diverse per settore e dimensioni)\, il Corso “I fondamenti del design organizzativo” si terrà in terza edizione tra Giugno e Luglio 2023.  \nIL TEMA: \nNelle imprese di oggi\, l’intervento sull’organizzazione sta diventando sempre più continuativo e sempre più legato all’innovazione.\nLa competizione sui mercati richiede una progettualità che investa congiuntamente prodotti\, servizi e modo di relazionarsi con clienti e mercati. L’innovazione è ancora centrata sulla tecnologia\, ma investe prodotti\, servizi\, canali di vendita\, manutenzione\, relazioni sociali\, in modo che si traduce in una riprogettazione ininterrotta del business. Se questo è vero\, serve una maggiore diffusione di competenze di organizzazione\, di intervento consapevole nell’analisi e nella progettazione di processi di funzionamento\, con una capacità di visone congiunta di tecnologie\, layout fisici\, ruoli operativi. Questo vale in aree diverse\, non solo nella produzione ma nel commerciale\, nella customer care\, nei servizi. \nI professionisti dell’area HR e di quella IT\, in particolare\, chiamati ad intervenire attivamente in funzioni progettuali che interessano l’organizzazione\, devono disporre di forte sensibilità culturale e competenze tecniche specifiche in questo campo. \nIl programma è focalizzato sull’obiettivo di sviluppare le competenze di base essenziali per una progettualità organizzativa in chiave moderna e aggiornata; riconsidera quindi le pratiche consolidate di intervento sull’organizzazione alla luce dei cambiamenti in atto di ordine strategico-competitivo\, tecnologico\, culturale e della ricerca di risposte innovative rispetto ai grandi temi del dopo-pandemia\, della crisi ambientale\, della sostenibilità. \nSCOPRI IL PROGETTO\nSCARICA IL MODULO DI ADESIONE\n{tab Programma e Date} \n9 Giugno 2023 | 9.30 – 17.00\nProgettare l’organizzazione: il quadro d’insieme e il metodo. L’organizzazione del lavoro e la visione integrata di ambiente\, tecnologia\, tempi e spazi\, sistema di ruoli. Routines organizzative\, work experience\, relazioni con la consumer experience\, e con gli obiettivi di sostenibilità.\nA cura di Gianfranco Rebora professore Emerito di Organizzazione e Gestione delle Risorse Umane – UNIVERSITÀ LIUC – CATTANEO DI CASTELLANZA e Direttore Responsabile – SVILUPPO&ORGANIZZAZIONE \n16 Giugno 2023 | 9.30 – 17.00\nLa progettazione partecipata: effetti su produttività e innovazione. Partecipazione diretta e indiretta; in ambienti union e non union; nelle attività ordinarie e nelle attività innovative. Nuove relazioni industriali e gestione innovativa delle risorse umane.\nA cura di Luigi Campagna\, professore dell’Area People & Organization della GSOM – POLITECNICO DI MILANO\, Consulente di Direzione sui temi di progettazione organizzativa e gestione del cambiamento\, già docente di Sistemi Organizzativi nel corso di Ingegneria Gestionale – POLITECNICO DI MILANO \n23 Giugno 2023 | 9.30 – 17.00\nDefinizione dei profili di ruolo e delle performance attese. Metriche\, analytics\, analisi e valutazione delle performance lavorative\, sistemi di compensation. Connessioni con la progettazione dei flussi di lavoro.\nA cura di Andrea Martone\, professore associato di Organizzazione aziendale – LIUC – UNIVERSITÁ CATTANEO DI CASTELLANZA e Direttore del Centro “Strategic Management & Family Business” – LIUC BUSINESS SCHOOL e MIB professor – UNIVERSITA’ CATTOLICA DI LILLE – Francia \n30 Giugno 2023 | 9.30 – 17.00\nL’interazione tra strategie e assetti organizzativi. Le diverse tipologie di strutture organizzative. Criteri di riferimento per il design organizzativo aziendale o riferito a unità complesse. La flessibilità organizzativa.\nA cura di Chiara Morelli\, Professore Associato di Organizzazione Aziendale – UNIVERSITA’ DEGLI STUDI DEL PIEMONTE ORIENTALE \n7 Luglio 2023 | 9.30 – 17.00\nL’organizzazione per progetti e il project management. Simulazione di un progetto di intervento sull’organizzazione.\nA cura di Massimo Ramponi\, Docente di Project Management e Organizzazione Aziendale – UNIVERSITA’ LIUC – CATTANEO DI CASTELLANZA \n14 Luglio 2023 | 9.30 – 17.00\nRipresa della visione progettuale integrata alla luce del percorso didattico compiuto.\nPresentazione e discussione dei project work di gruppo.\nA cura di Andrea Martone e Massimo Ramponi \n{/tab} \n{tab Docenti} \nIl curatore: \nGianfranco Rebora\, professore emerito di Organizzazione e Gestione delle Risorse Umane – UNIVERSITÀ LIUC – CATTANEO DI CASTELLANZA e Direttore Responsabile – SVILUPPO&ORGANIZZAZIONE \nI docenti: \nLuigi Campagna\, professore dell’Area People & Organization della GSOM – POLITECNICO DI MILANO\, Consulente di Direzione sui temi di progettazione organizzativa e gestione del cambiamento\, già docente di Sistemi Organizzativi nel corso di Ingegneria Gestionale – POLITECNICO DI MILANO \nAndrea Martone\, professore associato di Organizzazione aziendale – LIUC – UNIVERSITÁ CATTANEO DI CASTELLANZA e Direttore del Centro “Strategic Management & Family Business” – LIUC BUSINESS SCHOOL e MIB professor – UNIVERSITA’ CATTOLICA DI LILLE – Francia \nChiara Morelli\, professore associato di Organizzazione Aziendale – UNIVERSITA’ DEGLI STUDI DEL PIEMONTE ORIENTALE \nMassimo Ramponi\, Docente di Project Management e Organizzazione Aziendale – UNIVERSITA’ LIUC – CATTANEO DI CASTELLANZA \n  \n{/tab} \n{tab Format e Obiettivi} \nIl corso adotta una visione multi-disciplinare\, integrata e dinamica dell’organizzazione\, al livello delle maggiori strutture e a quello delle specifiche unità di lavoro\, con particolare attenzione per workplace strategy and design\, per la promozione di una work experience positiva\, sinergica rispetto alla customer experience. \nLa formazione sarà condotta con metodo interattivo\, nel corso di ogni giornata dalle 9.30 alle 17.00 gli argomenti saranno sviluppati ricorrendo a casi applicativi. I partecipanti svilupperanno un project work di gruppo\, in attività post aula\, che verrà presentato e discusso nella giornata conclusiva del corso. Il corso si svolge in presenza a Milano. \nIl corso è finalizzato a sviluppare le seguenti competenze nei partecipanti: \n\napplicare criteri e strumenti di progettazione dell’organizzazione al livello dell’intera azienda\, delle sue specifiche unità operative e dei ruoli o compiti professionali\nanalizzare e valutare i comportamenti lavorativi\, riferiti a specifici ruoli professionali\, nel contesto di routine e processi organizzativi\nidentificare i collegamenti tra strategie competitive aziendali\, assetti organizzativi e politiche di gestione delle risorse umane progettare nelle sue linee\n\n{/tab} \n{tab Modalità di partecipazione} \nIl programma formativo è rivolto a persone inserite in diverse funzioni aziendali che avvertono l’esigenza di integrare e sviluppare conoscenze\, metodologie e abilità operative per intervenire con maggiore efficacia in progetti di innovazione e cambiamento che impattano sull’organizzazione di uffici\, reparti\, servizi\, routine operative. \nIn particolare\, personale junior o senior delle Funzioni di Gestione del personale\, Organizzazione\, Relazioni industriali\, ICT e consulenti del lavoro. \nLa partecipazione al corso prevede il pagamento di una quota di € 3.000\,00+IVA.\nLa quota di partecipazione è personale. \nPer la partecipazione è necessario scaricare e compilare il modulo di adesione presente al seguente link ed inviarlo a raffaella.rapisardi@este.it \nPartecipanti: minimo 8\, massimo 20 \nAl termine del percorso formativo sarà rilasciato un attestato di partecipazione \nTermine adesioni: 26 Maggio 2023 \nPer qualsiasi informazione contattare: \nResponsabile del Progetto:  Raffaella Rapisardi – Event & Project Manager- raffaella.rapisardi@este.it – Mobile: 349.3633278 \n{/tab} \n{/tab}
URL:https://www.este.it/incontro/i-fondamenti-del-design-organizzativo-terza-edizione-milano/
LOCATION:Milano
ATTACH;FMTTYPE=image/jpeg:https://www.este.it/wp-content/uploads/2023/04/Banner_sito_ok.jpg
END:VEVENT
END:VCALENDAR